{"text_format":"1","workbook":"xlsx","n_sheets":5,"sheets":["Global data DD.MM.YY","SSA Data details","SMP Data details","Albedo details","Snow surface variability details"],"not_rendered":{"charts":1,"images":0,"macros":1,"external_links":0,"defined_names":35,"comments":0,"pivot_tables":0},"unopened":[],"bounds":{"document_bytes":16777216,"sheet_cells":100000,"rows_first":2000,"rows_last":500,"rows_between":2000,"halvings":0,"cell_chars":16384,"cell_head_chars":4096},"cells_cut":0,"cells_raw":0,"read":"whole","date_system":"1900"}

{"sheet":"Global data DD.MM.YY","index":0,"n_rows":35,"n_cols":21,"rows_kept":35,"cut":false,"hidden":false,"merged":[[0,1,0,5],[1,1,1,2],[2,1,2,2],[2,3,2,4],[2,7,2,9],[3,1,3,2],[3,3,3,4],[3,7,3,9],[4,1,4,2],[4,3,4,4],[4,7,4,9],[5,1,5,2],[5,3,5,4],[5,7,5,9],[6,1,6,2],[6,3,6,4],[6,7,6,9],[7,1,7,2],[7,3,7,4],[7,7,7,9],[8,1,8,2],[8,3,8,4],[9,1,9,2],[10,1,10,5],[16,1,16,6],[20,20,20,44],[21,20,21,44],[22,20,22,44],[23,20,23,44],[24,20,24,44],[25,20,25,44],[26,20,26,44],[27,20,27,44],[28,20,28,44],[29,20,29,44],[30,20,30,44],[31,20,31,44],[32,20,32,44],[33,20,33,44],[34,20,34,44],[35,17,35,42],[36,17,36,42],[37,17,37,42],[38,17,38,42],[39,17,39,42],[40,17,40,42],[41,17,41,42],[42,17,42,42],[43,17,43,42],[44,17,44,42],[45,17,45,42],[46,17,46,42],[47,17,47,42],[48,17,48,42],[49,17,49,42]]}
["Snow Pits Dome Fuji 2018/2019","Snow Stratigraphy, density and temp data"]
["Potential use of the pit\nSP: Snow Physic\nR: Radar\nST: Satellite\nMB: Mass Balance","SP"]
["Closest Point on Japanese Traverse","MD364",null,"Data recorded",null,"YES","NO","Where is it"]
["South position (decimal)",74.00731,null,"Snow Stratigraphy",null,null,"X","on this sheet"]
["East position (decimal)",42.99695,null,"Snow SSA",null,null,"X","here and sheet SSA for details"]
["Altitude (m a.s.l.)",3300,null,"Snow Albedo",null,null,"X","on albedo, just a test, useless"]
["Date (DD.MM.YY)","30.11.18",null,"SMP",null,"X",null,"on smp, test also, 5 profiles"]
["Time UTC start","17:00:00",null,"Surface snow SSA, density, temp\nVariability",null,null,"X","on snow surface variability sheet"]
["Time UTC end","18:30:00"]
["Observer(s)","JCG"]
["General comments (weather, clouds, other remarks)","Fog on the plateau, visibility of a few km, blue sky above your head, wind below 5 m.1, air temp minus 30 deg, lost of sastrugi, up to 50 cm height, very very hard snow, difficult with the SMP, even with full body weight on it!. "]
[]
["Temperatures:"]
["Air temp 1m [-°C]",30]
["Air/snow temp [-°C] (informative)"]
["Snow bottom pit temp [-°C]"]
["General comments on snow pit (surface, sastrugi, others)","very hard, lots of sastrugi, only SMP was done, see the file data, nothing else. Pictures of the field are associated with, GPS waypoints JC 1 to 4"]
[null,null,null,"Cutter 100 cc weight",141,"Cutter 36 cc weight",111]
["Total Thickness [cm]",null,null,"Cutter 250 cc weight"]
["Snow Thickness:","[All distances measured from snow/atmosphere interface, 0 is at the top]"]
["Layer, from top to bottom","Top [cm]","Bottom [cm]","Height top from surface (air snow =0)","Height bottom from surface (air snow = 0)","Depth cm of density measurement","Original weight (cutter + snow)","Density snow kg.m-3","Depth cm of temperature","Temperature  [-°C]","Snow Type 1","% observation visual","Diameter min [mm]","Diameter max [mm]","Snow Type 2","% observation visual","Diameter min [mm]","Diameter max [mm]","SSA m2 kg-1","Hardness (hand test)","Comments"]
[1]
[2]
[3]
[5]
[6]
[7]
[8]
[9]
[10]
[11]
[12]
[13]
[14]
[15]

{"sheet":"SSA Data details","index":1,"n_rows":11,"n_cols":2,"rows_kept":11,"cut":false,"hidden":false,"merged":[[0,1,0,5],[1,1,1,2],[2,1,2,2],[9,1,9,2],[10,1,10,5]]}
[{"$f":"'Global data DD.MM.YY'!A1","v":"Snow Pits Dome Fuji 2018/2019"},"SSA data, exported from the ICE Cube software"]
[{"$f":"'Global data DD.MM.YY'!A2","v":"Potential use of the pit\nSP: Snow Physic\nR: Radar\nST: Satellite\nMB: Mass Balance"},{"$f":"'Global data DD.MM.YY'!B2","v":"SP"}]
[{"$f":"'Global data DD.MM.YY'!A3","v":"Closest Point on Japanese Traverse"},{"$f":"'Global data DD.MM.YY'!B3","v":"MD364"}]
[{"$f":"'Global data DD.MM.YY'!A4","v":"South position (decimal)"},{"$f":"'Global data DD.MM.YY'!B4","v":74.00731}]
[{"$f":"'Global data DD.MM.YY'!A5","v":"East position (decimal)"},{"$f":"'Global data DD.MM.YY'!B5","v":42.99695}]
[{"$f":"'Global data DD.MM.YY'!A6","v":"Altitude (m a.s.l.)"},{"$f":"'Global data DD.MM.YY'!B6","v":3300}]
[{"$f":"'Global data DD.MM.YY'!A7","v":"Date (DD.MM.YY)"},{"$f":"'Global data DD.MM.YY'!B7","v":"30.11.18"}]
[{"$f":"'Global data DD.MM.YY'!A8","v":"Time UTC start"},{"$f":"'Global data DD.MM.YY'!B8","v":"17:00:00"}]
[{"$f":"'Global data DD.MM.YY'!A9","v":"Time UTC end"},{"$f":"'Global data DD.MM.YY'!B9","v":0.770833333333333}]
[{"$f":"'Global data DD.MM.YY'!A10","v":"Observer(s)"},{"$f":"'Global data DD.MM.YY'!B10","v":"JCG"}]
[{"$f":"'Global data DD.MM.YY'!A11","v":"General comments (weather, clouds, other remarks)"}]

{"sheet":"SMP Data details","index":2,"n_rows":341,"n_cols":57,"rows_kept":341,"cut":false,"hidden":false,"merged":[[0,1,0,5],[1,1,1,2],[2,1,2,2],[3,1,3,2],[4,1,4,2],[5,1,5,2],[6,1,6,2],[7,1,7,2],[8,1,8,2],[9,1,9,2],[10,1,10,5]]}
[{"$f":"'Global data DD.MM.YY'!A1","v":"Snow Pits Dome Fuji 2018/2019"},"SSA data, exported from the ICE Cube software"]
[{"$f":"'Global data DD.MM.YY'!A2","v":"Potential use of the pit\nSP: Snow Physic\nR: Radar\nST: Satellite\nMB: Mass Balance"},{"$f":"'Global data DD.MM.YY'!B2","v":"SP"}]
[{"$f":"'Global data DD.MM.YY'!A3","v":"Closest Point on Japanese Traverse"},{"$f":"'Global data DD.MM.YY'!B3","v":"MD364"}]
[{"$f":"'Global data DD.MM.YY'!A4","v":"South position (decimal)"},{"$f":"'Global data DD.MM.YY'!B4","v":74.00731}]
[{"$f":"'Global data DD.MM.YY'!A5","v":"East position (decimal)"},{"$f":"'Global data DD.MM.YY'!B5","v":42.99695}]
[{"$f":"'Global data DD.MM.YY'!A6","v":"Altitude (m a.s.l.)"},{"$f":"'Global data DD.MM.YY'!B6","v":3300}]
[{"$f":"'Global data DD.MM.YY'!A7","v":"Date (DD.MM.YY)"},{"$f":"'Global data DD.MM.YY'!B7","v":"30.11.18"}]
[{"$f":"'Global data DD.MM.YY'!A8","v":"Time UTC start"},{"$f":"'Global data DD.MM.YY'!B8","v":"17:00:00"}]
[{"$f":"'Global data DD.MM.YY'!A9","v":"Time UTC end"},{"$f":"'Global data DD.MM.YY'!B9","v":"18:30:00"}]
[{"$f":"'Global data DD.MM.YY'!A10","v":"Observer(s)"},{"$f":"'Global data DD.MM.YY'!B10","v":"JCG"}]
[{"$f":"'Global data DD.MM.YY'!A11","v":"General comments (weather, clouds, other remarks)"}]
["Name and info ","Long","Lat","Name and info ","Long","Lat","Name and info ","Long","Lat","Name and info ","Long","Lat","Name and info ","Long","Lat","Average density Fuji 2-4-5-6","Average SSA Fuji 2-4-5-6"]
["Fuji 10",null,null,"Fuji 11",null,null,"Fuji 12",null,null,"Fuji 13",null,null,"Fuji 16",null,null,"Fuji 17",null,null,"Fuji 22",null,null,"Fuji 25",null,null,"Fuji 26",null,null,"Fuji 27",null,null,"Fuji 28",null,null,"Fuji 29",null,null,"Fuji 30",null,null,"Fuji 31",null,null,"Fuji 33",null,null,"Fuji 34",null,null,"Fuji 35",null,null,null,"Average area"]
["distance [mm]","P2015_density [kg/m^3]","ssa m2.kg-1","distance [mm]","P2015_density [kg/m^3]","ssa m2 kg-1","distance [mm]","P2015_density [kg/m^3]","ssa m2 kg-1","distance [mm]","P2015_density [kg/m^3]","ssa m2 kg-1","distance [mm]","P2015_density [kg/m^3]","ssa m2 kg-1","distance [mm]","P2015_density [kg/m^3]","ssa m2 kg-1","distance [mm]","P2015_density [kg/m^3]","ssa m2 kg-1","distance [mm]","P2015_density [kg/m^3]","ssa m2 kg-1","distance [mm]","P2015_density [kg/m^3]","ssa m2.kg-1","distance [mm]","P2015_density [kg/m^3]","ssa m2 kg-1","distance [mm]","P2015_density [kg/m^3]","ssa m2 kg-1","distance [mm]","P2015_density [kg/m^3]","ssa m2 kg-1","distance [mm]","P2015_density [kg/m^3]","ssa m2 kg-1","distance [mm]","P2015_density [kg/m^3]","ssa m2 kg-1","distance [mm]","P2015_density [kg/m^3]","ssa m2 kg-1","distance [mm]","P2015_density [kg/m^3]","ssa m2 kg-1","distance [mm]","P2015_density [kg/m^3]","ssa m2 kg-1",null,"distance [mm]","P2015_density [kg/m^3]","ssa m2 kg-1","density std","ssa stdv"]
[0,498.6383,6.82824427480916,0,357.548,8.92388222464558,0,444.4017,8.81733914940022,0,393.5988,9.0092693565976,0,248.8602,20.9661941112323,0,413.0432,8.75321701199564,0,277.1041,7.58593238822246,0,319.5083,9.32726281352236,0,328.5822,10.345147219193,0,282.423,16.448745910578,0,454.2139,7.60370774263904,0,428.5517,12.7775354416576,0,368.9314,6.46532170119956,0,304.4961,13.9234460196292,0,428.5038,9.93784078516903,0,287.3252,8.59454743729553,0,324.6446,10.560959651036,null,{"$f":"AW15","v":0},{"$f":"AVERAGE(B15,E15,H15,K15,N15,Q15,T15,W15,Z15,AC15,AF15,AI15,AL15,AO15,AR15,AU15,AX15)","v":362.374970588235},{"$f":"AVERAGE(C15,F15,I15,L15,O15,R15,U15,X15,AA15,AD15,AG15,AJ15,AM15,AP15,AS15,AV15,AY15)","v":10.4040348964013},{"$f":"STDEV(B15,E15,H15,K15,N15,Q15,T15,W15,Z15,AC15,AF15,AI15,AL15,AO15,AR15,AU15,AX15)","v":73.3254264959192},{"$f":"STDEV(C15,F15,I15,L15,O15,R15,U15,X15,AA15,AD15,AG15,AJ15,AM15,AP15,AS15,AV15,AY15)","v":3.74381916570983}]
[1.25,402.9542,6.32104689203926,1.25,399.3713,8.29989094874591,1.25,462.1719,7.63009814612868,1.25,426.4678,7.9381679389313,1.25,247.7148,22.3895310796074,1.25,446.2067,7.65507088331516,1.25,239.0026,6.39847328244275,1.25,311.4173,7.8917121046892,1.25,318.3053,7.54394765539804,1.25,290.9673,8.96968375136314,1.25,442.2999,7.15005452562704,1.25,432.4302,12.1779716466739,1.25,304.2266,6.59138495092694,1.25,325.8138,10.3516902944384,1.25,448.4018,8.76848418756816,1.25,344.5483,8.24427480916031,1.25,361.2038,8.79716466739368,null,{"$f":"AW16","v":1.25},{"$f":"AVERAGE(B16,E16,H16,K16,N16,Q16,T16,W16,Z16,AC16,AF16,AI16,AL16,AO16,AR16,AU16,AX16)","v":364.911976470588},{"$f":"AVERAGE(C16,F16,I16,L16,O16,R16,U16,X16,AA16,AD16,AG16,AJ16,AM16,AP16,AS16,AV16,AY16)","v":9.00697928026172},{"$f":"STDEV(B16,E16,H16,K16,N16,Q16,T16,W16,Z16,AC16,AF16,AI16,AL16,AO16,AR16,AU16,AX16)","v":73.2035224380249},{"$f":"STDEV(C16,F16,I16,L16,O16,R16,U16,X16,AA16,AD16,AG16,AJ16,AM16,AP16,AS16,AV16,AY16)","v":3.73908426225499}]
[2.5,416.9996,6.20152671755725,2.5,488.6367,8.55245365321701,2.5,543.8873,6.84143947655398,2.5,477.6628,6.97415485278081,2.5,269.1747,14.4200654307525,2.5,539.2213,7.5309705561614,2.5,471.642,6.76957470010905,2.5,417.1608,7.89661941112323,2.5,468.25,7.53020719738277,2.5,366.7725,10.2610687022901,2.5,490.1371,6.45234460196292,2.5,445.5148,11.6339149400218,2.5,456.2875,8.15332606324973,2.5,387.6683,11.1627044711014,2.5,506.8026,8.74252998909487,2.5,448.8114,8.89825517993457,2.5,448.6468,9.5154852780807,null,{"$f":"AW17","v":2.5},{"$f":"AVERAGE(B17,E17,H17,K17,N17,Q17,T17,W17,Z17,AC17,AF17,AI17,AL17,AO17,AR17,AU17,AX17)","v":449.604482352941},{"$f":"AVERAGE(C17,F17,I17,L17,O17,R17,U17,X17,AA17,AD17,AG17,AJ17,AM17,AP17,AS17,AV17,AY17)","v":8.67862595419847},{"$f":"STDEV(B17,E17,H17,K17,N17,Q17,T17,W17,Z17,AC17,AF17,AI17,AL17,AO17,AR17,AU17,AX17)","v":66.3370992379287},{"$f":"STDEV(C17,F17,I17,L17,O17,R17,U17,X17,AA17,AD17,AG17,AJ17,AM17,AP17,AS17,AV17,AY17)","v":2.17488447554816}]
[3.75,465.2259,6.58582333696838,3.75,504.4388,8.38255179934569,3.75,584.8703,6.69160305343511,3.75,562.4692,6.17393675027263,3.75,296.4329,21.0364231188659,3.75,555.7933,7.07568157033806,3.75,581.504,6.10370774263904,3.75,510.0609,7.38069792802617,3.75,545.387,6.73391494002181,3.75,416.8471,11.0539803707743,3.75,586.2367,5.79160305343511,3.75,458.7531,10.8965103598691,3.75,499.5913,8.70010905125409,3.75,407.4505,11.4250817884406,3.75,529.3241,8.76324972737186,3.75,499.16,8.91352235550709,3.75,488.2519,9.84471101417666,null,{"$f":"AW18","v":3.75},{"$f":"AVERAGE(B18,E18,H18,K18,N18,Q18,T18,W18,Z18,AC18,AF18,AI18,AL18,AO18,AR18,AU18,AX18)","v":499.517470588235},{"$f":"AVERAGE(C18,F18,I18,L18,O18,R18,U18,X18,AA18,AD18,AG18,AJ18,AM18,AP18,AS18,AV18,AY18)","v":8.91488870357303},{"$f":"STDEV(B18,E18,H18,K18,N18,Q18,T18,W18,Z18,AC18,AF18,AI18,AL18,AO18,AR18,AU18,AX18)","v":75.5412117756738},{"$f":"STDEV(C18,F18,I18,L18,O18,R18,U18,X18,AA18,AD18,AG18,AJ18,AM18,AP18,AS18,AV18,AY18)","v":3.61406425217523}]
[5,534.9007,6.87982551799346,5,479.3579,8.64994547437296,5,584.9436,6.75343511450382,5,545.1702,6.17993456924755,5,291.0577,13.6764449291167,5,590.3003,6.87840785169029,5,547.9185,6.03598691384951,5,546.3278,7.48942202835333,5,590.9704,6.52181025081788,5,448.4359,11.6723009814613,5,615.1896,5.44100327153762,5,475.9794,11.5873500545256,5,485.7505,8.82813522355507,5,409.3292,12.4654307524537,5,536.8381,8.70174482006543,5,520.6634,8.93773173391494,5,491.4346,9.68058887677208,null,{"$f":"AW19","v":5},{"$f":"AVERAGE(B19,E19,H19,K19,N19,Q19,T19,W19,Z19,AC19,AF19,AI19,AL19,AO19,AR19,AU19,AX19)","v":511.445164705882},{"$f":"AVERAGE(C19,F19,I19,L19,O19,R19,U19,X19,AA19,AD19,AG19,AJ19,AM19,AP19,AS19,AV19,AY19)","v":8.61055872730772},{"$f":"STDEV(B19,E19,H19,K19,N19,Q19,T19,W19,Z19,AC19,AF19,AI19,AL19,AO19,AR19,AU19,AX19)","v":79.0523033573417},{"$f":"STDEV(C19,F19,I19,L19,O19,R19,U19,X19,AA19,AD19,AG19,AJ19,AM19,AP19,AS19,AV19,AY19)","v":2.47127183271885}]
[6.25,547.8621,7.14274809160305,6.25,485.7241,9.94252998909487,6.25,593.4702,6.83435114503817,6.25,533.3755,6.24427480916031,6.25,307.5628,9.59203925845147,6.25,596.46,6.72933478735005,6.25,529.5064,6.60338058887677,6.25,534.935,7.84067611777535,6.25,608.2503,6.05725190839695,6.25,456.6552,12.029225736096,6.25,615.2631,5.11003271537623,6.25,476.1756,11.6258451472192,6.25,472.0978,9.47208287895311,6.25,415.4765,13.9095965103599,6.25,539.6855,8.7092693565976,6.25,522.3424,9.07393675027263,6.25,500.1976,9.76684841875682,null,{"$f":"AW20","v":6.25},{"$f":"AVERAGE(B20,E20,H20,K20,N20,Q20,T20,W20,Z20,AC20,AF20,AI20,AL20,AO20,AR20,AU20,AX20)","v":513.825888235294},{"$f":"AVERAGE(C20,F20,I20,L20,O20,R20,U20,X20,AA20,AD20,AG20,AJ20,AM20,AP20,AS20,AV20,AY20)","v":8.62843671819873},{"$f":"STDEV(B20,E20,H20,K20,N20,Q20,T20,W20,Z20,AC20,AF20,AI20,AL20,AO20,AR20,AU20,AX20)","v":77.0431025817925},{"$f":"STDEV(C20,F20,I20,L20,O20,R20,U20,X20,AA20,AD20,AG20,AJ20,AM20,AP20,AS20,AV20,AY20)","v":2.39448551674831}]
[7.5,530.9254,7.77088331515812,7.5,489.7213,10.2834242093784,7.5,532.027,6.72704471101418,7.5,609.174,5.46870229007634,7.5,385.7417,10.481679389313,7.5,607.3855,6.66848418756816,7.5,554.583,7.21319520174482,7.5,548.7019,8.25866957470011,7.5,636.1387,5.7370774263904,7.5,453.6071,11.6468920392585,7.5,655.8398,4.56870229007634,7.5,479.4392,11.5636859323882,7.5,434.6694,9.81581243184296,7.5,418.8167,13.9805888767721,7.5,541.9091,8.62726281352236,7.5,523.3078,9.13827699018539,7.5,514.4009,10.0063249727372,null,{"$f":"AW21","v":7.5},{"$f":"AVERAGE(B21,E21,H21,K21,N21,Q21,T21,W21,Z21,AC21,AF21,AI21,AL21,AO21,AR21,AU21,AX21)","v":524.493441176471},{"$f":"AVERAGE(C21,F21,I21,L21,O21,R21,U21,X21,AA21,AD21,AG21,AJ21,AM21,AP21,AS21,AV21,AY21)","v":8.70333568541921},{"$f":"STDEV(B21,E21,H21,K21,N21,Q21,T21,W21,Z21,AC21,AF21,AI21,AL21,AO21,AR21,AU21,AX21)","v":76.0371552609237},{"$f":"STDEV(C21,F21,I21,L21,O21,R21,U21,X21,AA21,AD21,AG21,AJ21,AM21,AP21,AS21,AV21,AY21)","v":2.51465525370409}]
[8.75,522.3511,7.89411123227917,8.75,495.476,10.1298800436205,8.75,479.4636,7.20316248636859,8.75,654.149,4.98026172300982,8.75,430.4123,10.6345692475463,8.75,605.8987,6.59552889858233,8.75,568.6358,7.67459105779717,8.75,538.5984,8.36870229007634,8.75,644.8931,5.58015267175573,8.75,458.8486,12.0689203925845,8.75,671.1108,4.30894220283533,8.75,472.4697,11.4538713195202,8.75,422.5943,10.8883315158124,8.75,421.9494,13.3630316248637,8.75,542.3543,8.51930207197383,8.75,513.4354,8.84427480916031,8.75,512.9968,10.0645583424209,null,{"$f":"AW22","v":8.75},{"$f":"AVERAGE(B22,E22,H22,K22,N22,Q22,T22,W22,Z22,AC22,AF22,AI22,AL22,AO22,AR22,AU22,AX22)","v":526.802194117647},{"$f":"AVERAGE(C22,F22,I22,L22,O22,R22,U22,X22,AA22,AD22,AG22,AJ22,AM22,AP22,AS22,AV22,AY22)","v":8.73954070177689},{"$f":"STDEV(B22,E22,H22,K22,N22,Q22,T22,W22,Z22,AC22,AF22,AI22,AL22,AO22,AR22,AU22,AX22)","v":79.7262631201089},{"$f":"STDEV(C22,F22,I22,L22,O22,R22,U22,X22,AA22,AD22,AG22,AJ22,AM22,AP22,AS22,AV22,AY22)","v":2.55530577343981}]
[10,518.3247,7.77404580152672,10,496.4465,10.3042529989095,10,490.9428,7.62748091603053,10,674.1578,4.74133042529989,10,459.6518,10.5249727371865,10,611.4401,6.55070883315158,10,561.9226,7.73718647764449,10,531.7581,8.6567066521265,10,652.3152,5.47186477644493,10,463.1183,12.3330425299891,10,689.6052,4.12246455834242,10,471.4061,12.0178844056707,10,414.606,11.6237731733915,10,428.3705,12.9432933478735,10,529.3597,8.5793893129771,10,507.1876,8.96237731733915,10,508.139,10.1990185387132,null,{"$f":"AW23","v":10},{"$f":"AVERAGE(B23,E23,H23,K23,N23,Q23,T23,W23,Z23,AC23,AF23,AI23,AL23,AO23,AR23,AU23,AX23)","v":529.926588235294},{"$f":"AVERAGE(C23,F23,I23,L23,O23,R23,U23,X23,AA23,AD23,AG23,AJ23,AM23,AP23,AS23,AV23,AY23)","v":8.83351722368337},{"$f":"STDEV(B23,E23,H23,K23,N23,Q23,T23,W23,Z23,AC23,AF23,AI23,AL23,AO23,AR23,AU23,AX23)","v":82.5972083820171},{"$f":"STDEV(C23,F23,I23,L23,O23,R23,U23,X23,AA23,AD23,AG23,AJ23,AM23,AP23,AS23,AV23,AY23)","v":2.66099913912597}]
[11.25,525.0524,7.98320610687023,11.25,493.1653,10.4801526717557,11.25,490.9131,8.38822246455834,11.25,679.4539,4.64656488549618,11.25,479.1784,10.7267175572519,11.25,608.1924,6.41624863685932,11.25,555.6925,7.63980370774264,11.25,541.3235,8.98800436205016,11.25,655.7167,5.4236641221374,11.25,464.7255,12.2257360959651,11.25,675.5188,4.30250817884406,11.25,468.4891,12.3685932388222,11.25,395.8328,12.0190839694656,11.25,425.9136,11.3196292257361,11.25,533.8367,9.09302071973828,11.25,501.6393,9.09182115594329,11.25,503.6778,10.3476553980371,null,{"$f":"AW24","v":11.25},{"$f":"AVERAGE(B24,E24,H24,K24,N24,Q24,T24,W24,Z24,AC24,AF24,AI24,AL24,AO24,AR24,AU24,AX24)","v":529.313047058824},{"$f":"AVERAGE(C24,F24,I24,L24,O24,R24,U24,X24,AA24,AD24,AG24,AJ24,AM24,AP24,AS24,AV24,AY24)","v":8.90944897042786},{"$f":"STDEV(B24,E24,H24,K24,N24,Q24,T24,W24,Z24,AC24,AF24,AI24,AL24,AO24,AR24,AU24,AX24)","v":82.9511162945014},{"$f":"STDEV(C24,F24,I24,L24,O24,R24,U24,X24,AA24,AD24,AG24,AJ24,AM24,AP24,AS24,AV24,AY24)","v":2.58430128695899}]
[12.5,502.4017,8.37284623773173,12.5,494.9328,10.341439476554,12.5,520.8635,9.38342420937841,12.5,683.0352,4.59454743729553,12.5,492.5547,10.8921483097056,12.5,626.6491,6.26902944383861,12.5,565.8776,7.5907306434024,12.5,535.5004,9.01046892039259,12.5,658.6892,5.38647764449291,12.5,441.6596,11.0595419847328,12.5,662.5567,4.48091603053435,12.5,469.0539,12.6711014176663,12.5,395.2052,13.203707742639,12.5,449.8277,11.0552889858233,12.5,532.6458,9.24242093784079,12.5,501.4224,9.45245365321701,12.5,499.9019,10.5005452562704,null,{"$f":"AW25","v":12.5},{"$f":"AVERAGE(B25,E25,H25,K25,N25,Q25,T25,W25,Z25,AC25,AF25,AI25,AL25,AO25,AR25,AU25,AX25)","v":531.339847058823},{"$f":"AVERAGE(C25,F25,I25,L25,O25,R25,U25,X25,AA25,AD25,AG25,AJ25,AM25,AP25,AS25,AV25,AY25)","v":9.02982872538329},{"$f":"STDEV(B25,E25,H25,K25,N25,Q25,T25,W25,Z25,AC25,AF25,AI25,AL25,AO25,AR25,AU25,AX25)","v":82.727796609076},{"$f":"STDEV(C25,F25,I25,L25,O25,R25,U25,X25,AA25,AD25,AG25,AJ25,AM25,AP25,AS25,AV25,AY25)","v":2.62638189661481}]
[13.75,520.3298,9.16052344601963,13.75,471.4634,9.19062159214831,13.75,516.5286,9.53827699018539,13.75,685.582,4.5752453653217,13.75,491.4209,10.8375136314068,13.75,625.4129,6.17546346782988,13.75,566.0144,7.61145038167939,13.75,526.855,9.2103598691385,13.75,657.2805,5.34296619411123,13.75,413.8932,10.8488549618321,13.75,666.444,4.53086150490731,13.75,448.6529,11.6099236641221,13.75,375.0464,13.4906215921483,13.75,465.8329,10.4565976008724,13.75,522.3595,9.20316248636859,13.75,504.8324,9.68735005452563,13.75,492.0401,10.5552889858233,null,{"$f":"AW26","v":13.75},{"$f":"AVERAGE(B26,E26,H26,K26,N26,Q26,T26,W26,Z26,AC26,AF26,AI26,AL26,AO26,AR26,AU26,AX26)","v":526.469935294118},{"$f":"AVERAGE(C26,F26,I26,L26,O26,R26,U26,X26,AA26,AD26,AG26,AJ26,AM26,AP26,AS26,AV26,AY26)","v":8.94265186990827},{"$f":"STDEV(B26,E26,H26,K26,N26,Q26,T26,W26,Z26,AC26,AF26,AI26,AL26,AO26,AR26,AU26,AX26)","v":88.3071846501457},{"$f":"STDEV(C26,F26,I26,L26,O26,R26,U26,X26,AA26,AD26,AG26,AJ26,AM26,AP26,AS26,AV26,AY26)","v":2.52485449750158}]
[15,515.9318,9.35125408942203,15,485.2206,9.2969465648855,15,508.7432,9.18440567066521,15,683.1375,4.52715376226827,15,478.2275,10.618320610687,15,628.1358,6.02159214830971,15,570.3053,7.3576881134133,15,509.6466,9.2340239912759,15,649.8169,5.39661941112323,15,377.6226,8.973173391494,15,673.9693,4.53151581243184,15,431.1851,12.0014176663032,15,375.7854,15.4141766630316,15,488.1647,10.5972737186478,15,519.0436,9.4278080697928,15,497.6668,9.71374045801527,15,490.0113,10.6716466739368,null,{"$f":"AW27","v":15},{"$f":"AVERAGE(B27,E27,H27,K27,N27,Q27,T27,W27,Z27,AC27,AF27,AI27,AL27,AO27,AR27,AU27,AX27)","v":522.506705882353},{"$f":"AVERAGE(C27,F27,I27,L27,O27,R27,U27,X27,AA27,AD27,AG27,AJ27,AM27,AP27,AS27,AV27,AY27)","v":8.95992687151196},{"$f":"STDEV(B27,E27,H27,K27,N27,Q27,T27,W27,Z27,AC27,AF27,AI27,AL27,AO27,AR27,AU27,AX27)","v":92.1495842001503},{"$f":"STDEV(C27,F27,I27,L27,O27,R27,U27,X27,AA27,AD27,AG27,AJ27,AM27,AP27,AS27,AV27,AY27)","v":2.77946903904143}]
[16.25,506.9118,9.32519083969466,16.25,509.899,9.80479825517993,16.25,400.3546,7.14460196292257,16.25,687.8149,4.43991275899673,16.25,472.9465,10.8756815703381,16.25,629.4596,5.97840785169029,16.25,580.3005,7.26205016357688,16.25,493.7093,9.62257360959651,16.25,651.1554,5.46728462377317,16.25,401.6036,8.01014176663032,16.25,652.2904,4.72159214830971,16.25,390.0092,9.72181025081788,16.25,361.1536,15.0575790621592,16.25,487.3842,10.4870229007634,16.25,522.7359,9.69476553980371,16.25,505.8842,10.0945474372955,16.25,491.3629,10.8630316248637,null,{"$f":"AW28","v":16.25},{"$f":"AVERAGE(B28,E28,H28,K28,N28,Q28,T28,W28,Z28,AC28,AF28,AI28,AL28,AO28,AR28,AU28,AX28)","v":514.410329411765},{"$f":"AVERAGE(C28,F28,I28,L28,O28,R28,U28,X28,AA28,AD28,AG28,AJ28,AM28,AP28,AS28,AV28,AY28)","v":8.73947013920072},{"$f":"STDEV(B28,E28,H28,K28,N28,Q28,T28,W28,Z28,AC28,AF28,AI28,AL28,AO28,AR28,AU28,AX28)","v":98.0058747432696},{"$f":"STDEV(C28,F28,I28,L28,O28,R28,U28,X28,AA28,AD28,AG28,AJ28,AM28,AP28,AS28,AV28,AY28)","v":2.69531455040854}]
[17.5,491.896,9.50272628135224,17.5,508.8273,9.26172300981461,17.5,518.6398,6.51417666303162,17.5,689.4851,4.46521264994547,17.5,467.4972,10.9779716466739,17.5,630.8675,6.04874591057797,17.5,536.3644,7.29454743729553,17.5,492.0847,10.1138495092694,17.5,650.8565,5.42508178844057,17.5,492.3639,7.35365321701199,17.5,644.0377,4.80588876772083,17.5,393.5739,8.47982551799346,17.5,363.7479,17.4553980370774,17.5,438.9652,9.59094874591058,17.5,517.0588,9.52857142857143,17.5,506.9801,10.1417666303163,17.5,490.0077,11.0827699018539,null,{"$f":"AW29","v":17.5},{"$f":"AVERAGE(B29,E29,H29,K29,N29,Q29,T29,W29,Z29,AC29,AF29,AI29,AL29,AO29,AR29,AU29,AX29)","v":519.60315882353},{"$f":"AVERAGE(C29,F29,I29,L29,O29,R29,U29,X29,AA29,AD29,AG29,AJ29,AM29,AP29,AS29,AV29,AY29)","v":8.70840336134454},{"$f":"STDEV(B29,E29,H29,K29,N29,Q29,T29,W29,Z29,AC29,AF29,AI29,AL29,AO29,AR29,AU29,AX29)","v":89.1099712782614},{"$f":"STDEV(C29,F29,I29,L29,O29,R29,U29,X29,AA29,AD29,AG29,AJ29,AM29,AP29,AS29,AV29,AY29)","v":3.09744285910903}]
[18.75,493.1647,9.92606324972737,18.75,512.3766,8.88680479825518,18.75,590.1021,6.39149400218103,18.75,674.4633,4.66281352235551,18.75,475.8436,11.5922573609597,18.75,615.5257,6.20806979280262,18.75,546.263,8.03544165757906,18.75,495.2169,10.2408942202835,18.75,643.4516,5.43740458015267,18.75,566.2995,6.89923664122137,18.75,667.7818,4.69443838604144,18.75,459.1764,8.12399127589967,18.75,360.6349,17.0754634678299,18.75,425.2292,10.6323882224646,18.75,516.1292,9.46673936750273,18.75,504.3144,10.1103598691385,18.75,489.0069,11.287786259542,null,{"$f":"AW30","v":18.75},{"$f":"AVERAGE(B30,E30,H30,K30,N30,Q30,T30,W30,Z30,AC30,AF30,AI30,AL30,AO30,AR30,AU30,AX30)","v":531.4694},{"$f":"AVERAGE(C30,F30,I30,L30,O30,R30,U30,X30,AA30,AD30,AG30,AJ30,AM30,AP30,AS30,AV30,AY30)","v":8.80421451023157},{"$f":"STDEV(B30,E30,H30,K30,N30,Q30,T30,W30,Z30,AC30,AF30,AI30,AL30,AO30,AR30,AU30,AX30)","v":85.9568579768944},{"$f":"STDEV(C30,F30,I30,L30,O30,R30,U30,X30,AA30,AD30,AG30,AJ30,AM30,AP30,AS30,AV30,AY30)","v":3.10032431718681}]
[20,496.4067,10.1093784078517,20,525.2954,8.65267175572519,20,569.334,6.61635768811341,20,677.5733,4.7164667393675,20,468.803,11.3525627044711,20,612.8665,6.45616139585605,20,554.0585,8.34427480916031,20,481.2204,9.01025081788441,20,621.6497,5.7360959651036,20,592.7313,6.6845147219193,20,667.0825,4.72737186477645,20,522.0893,7.9071973827699,20,353.2211,17.0556161395856,20,395.9085,11.3526717557252,20,513.8977,9.63107960741549,20,503.1655,10.2688113413304,20,489.977,11.398800436205,null,{"$f":"AW31","v":20},{"$f":"AVERAGE(B31,E31,H31,K31,N31,Q31,T31,W31,Z31,AC31,AF31,AI31,AL31,AO31,AR31,AU31,AX31)","v":532.075317647059},{"$f":"AVERAGE(C31,F31,I31,L31,O31,R31,U31,X31,AA31,AD31,AG31,AJ31,AM31,AP31,AS31,AV31,AY31)","v":8.82472256078004},{"$f":"STDEV(B31,E31,H31,K31,N31,Q31,T31,W31,Z31,AC31,AF31,AI31,AL31,AO31,AR31,AU31,AX31)","v":86.9533845015552},{"$f":"STDEV(C31,F31,I31,L31,O31,R31,U31,X31,AA31,AD31,AG31,AJ31,AM31,AP31,AS31,AV31,AY31)","v":3.07154021063669}]
[21.25,496.8895,10.0931297709924,21.25,540.0477,8.48102508178844,21.25,587.1038,7.04787350054526,21.25,677.0191,4.71886586695747,21.25,457.7681,11.4117775354417,21.25,612.7353,6.60479825517994,21.25,554.6033,8.31297709923664,21.25,516.9753,8.48473282442748,21.25,618.9941,6.04689203925845,21.25,612.7216,6.48593238822246,21.25,665.8722,4.79661941112323,21.25,540.0249,7.45659760087241,21.25,349.6375,17.8045801526718,21.25,412.398,13.9557251908397,21.25,514.8003,9.93969465648855,21.25,492.6013,10.0642311886587,21.25,487.9687,11.2980370774264,null,{"$f":"AW32","v":21.25},{"$f":"AVERAGE(B32,E32,H32,K32,N32,Q32,T32,W32,Z32,AC32,AF32,AI32,AL32,AO32,AR32,AU32,AX32)","v":537.538864705882},{"$f":"AVERAGE(C32,F32,I32,L32,O32,R32,U32,X32,AA32,AD32,AG32,AJ32,AM32,AP32,AS32,AV32,AY32)","v":9.00020527294888},{"$f":"STDEV(B32,E32,H32,K32,N32,Q32,T32,W32,Z32,AC32,AF32,AI32,AL32,AO32,AR32,AU32,AX32)","v":86.97191694647},{"$f":"STDEV(C32,F32,I32,L32,O32,R32,U32,X32,AA32,AD32,AG32,AJ32,AM32,AP32,AS32,AV32,AY32)","v":3.35747907220149}]
[22.5,496.1105,9.87066521264994,22.5,540.9725,8.07873500545256,22.5,575.132,7.28004362050164,22.5,673.8328,4.76957470010905,22.5,462.5348,11.9062159214831,22.5,604.5961,6.71635768811341,22.5,553.6525,8.02737186477645,22.5,539.3233,8.20316248636859,22.5,620.859,6.18167938931298,22.5,601.5714,6.29803707742639,22.5,672.5181,4.79149400218102,22.5,567.2022,6.98593238822247,22.5,344.7065,17.5382769901854,22.5,406.6459,14.6078516902944,22.5,515.4478,9.96205016357688,22.5,483.703,10.3247546346783,22.5,487.8756,11.2482006543075,null,{"$f":"AW33","v":22.5},{"$f":"AVERAGE(B33,E33,H33,K33,N33,Q33,T33,W33,Z33,AC33,AF33,AI33,AL33,AO33,AR33,AU33,AX33)","v":538.040235294118},{"$f":"AVERAGE(C33,F33,I33,L33,O33,R33,U33,X33,AA33,AD33,AG33,AJ33,AM33,AP33,AS33,AV33,AY33)","v":8.98767079350824},{"$f":"STDEV(B33,E33,H33,K33,N33,Q33,T33,W33,Z33,AC33,AF33,AI33,AL33,AO33,AR33,AU33,AX33)","v":87.4678458350763},{"$f":"STDEV(C33,F33,I33,L33,O33,R33,U33,X33,AA33,AD33,AG33,AJ33,AM33,AP33,AS33,AV33,AY33)","v":3.41684834381194}]
[23.75,497.36,9.8948745910578,23.75,556.0555,8.02595419847328,23.75,575.8161,7.61363140676118,23.75,672.4465,4.80381679389313,23.75,456.1118,11.908505997819,23.75,604.6016,6.72388222464558,23.75,558.7218,7.83980370774264,23.75,552.7163,8.1113413304253,23.75,600.775,6.39825517993457,23.75,618.7779,5.88844056706652,23.75,670.6926,4.78189749182116,23.75,595.4163,6.80087241003271,23.75,343.3281,18.3503816793893,23.75,402.4084,14.8547437295529,23.75,506.1401,9.78625954198473,23.75,491.5577,10.9693565976009,23.75,487.2624,11.2370774263904,null,{"$f":"AW34","v":23.75},{"$f":"AVERAGE(B34,E34,H34,K34,N34,Q34,T34,W34,Z34,AC34,AF34,AI34,AL34,AO34,AR34,AU34,AX34)","v":540.5993},{"$f":"AVERAGE(C34,F34,I34,L34,O34,R34,U34,X34,AA34,AD34,AG34,AJ34,AM34,AP34,AS34,AV34,AY34)","v":9.05818205144654},{"$f":"STDEV(B34,E34,H34,K34,N34,Q34,T34,W34,Z34,AC34,AF34,AI34,AL34,AO34,AR34,AU34,AX34)","v":88.936173300435},{"$f":"STDEV(C34,F34,I34,L34,O34,R34,U34,X34,AA34,AD34,AG34,AJ34,AM34,AP34,AS34,AV34,AY34)","v":3.59935805226494}]
[25,485.9602,9.95747001090512,25,557.1144,7.89007633587786,25,573.2154,7.63784078516903,25,670.5692,4.79770992366412,25,433.5837,11.6355507088332,25,595.3015,6.69040348964013,25,554.0368,7.53620501635769,25,558.6219,7.85485278080698,25,606.9332,6.58484187568157,25,641.9777,5.58680479825518,25,658.2705,4.8288985823337,25,597.323,6.61363140676118,25,344.8807,18.2981461286805,25,399.4595,14.9473282442748,25,502.7586,10.0468920392585,25,489.1794,11.0607415485278,25,478.5807,11.1015267175573,null,{"$f":"AW35","v":25},{"$f":"AVERAGE(B35,E35,H35,K35,N35,Q35,T35,W35,Z35,AC35,AF35,AI35,AL35,AO35,AR35,AU35,AX35)","v":538.103905882353},{"$f":"AVERAGE(C35,F35,I35,L35,O35,R35,U35,X35,AA35,AD35,AG35,AJ35,AM35,AP35,AS35,AV35,AY35)","v":9.00405414074027},{"$f":"STDEV(B35,E35,H35,K35,N35,Q35,T35,W35,Z35,AC35,AF35,AI35,AL35,AO35,AR35,AU35,AX35)","v":91.4974918856965},{"$f":"STDEV(C35,F35,I35,L35,O35,R35,U35,X35,AA35,AD35,AG35,AJ35,AM35,AP35,AS35,AV35,AY35)","v":3.61903441274518}]
[26.25,471.6303,10.2818974918212,26.25,554.708,7.53751363140676,26.25,550.4352,7.11504907306434,26.25,674.6826,4.76663031624864,26.25,435.2495,12.8986913849509,26.25,586.1241,6.88473282442748,26.25,567.6656,7.20665212649945,26.25,574.8691,7.82802617230098,26.25,608.8207,6.59029443838604,26.25,652.5033,5.50632497273719,26.25,652.6744,4.80872410032715,26.25,608.1814,6.42224645583424,26.25,343.69,18.5169029443839,26.25,400.4825,14.7689203925845,26.25,503.5913,10.2139585605234,26.25,487.6283,10.9027262813522,26.25,471.8766,11.0984732824428,null,{"$f":"AW36","v":26.25},{"$f":"AVERAGE(B36,E36,H36,K36,N36,Q36,T36,W36,Z36,AC36,AF36,AI36,AL36,AO36,AR36,AU36,AX36)","v":537.930170588235},{"$f":"AVERAGE(C36,F36,I36,L36,O36,R36,U36,X36,AA36,AD36,AG36,AJ36,AM36,AP36,AS36,AV36,AY36)","v":9.02045673231125},{"$f":"STDEV(B36,E36,H36,K36,N36,Q36,T36,W36,Z36,AC36,AF36,AI36,AL36,AO36,AR36,AU36,AX36)","v":93.4066998767069},{"$f":"STDEV(C36,F36,I36,L36,O36,R36,U36,X36,AA36,AD36,AG36,AJ36,AM36,AP36,AS36,AV36,AY36)","v":3.75072352472652}]
[27.5,458.3198,10.736641221374,27.5,569.7709,7.20359869138495,27.5,581.3588,6.46226826608506,27.5,665.5354,4.9020719738277,27.5,436.5984,13.1871319520174,27.5,571.1726,7.10916030534351,27.5,541.8646,7.18909487459106,27.5,550.3044,7.59945474372955,27.5,608.0938,6.48015267175573,27.5,652.9785,5.50490730643402,27.5,665.2097,4.70806979280262,27.5,611.9726,6.31330425299891,27.5,338.7527,18.6143947655398,27.5,396.8173,12.8490730643402,27.5,501.6346,10.3930207197383,27.5,492.0707,10.9456924754635,27.5,471.378,11.340239912759,null,{"$f":"AW37","v":27.5},{"$f":"AVERAGE(B37,E37,H37,K37,N37,Q37,T37,W37,Z37,AC37,AF37,AI37,AL37,AO37,AR37,AU37,AX37)","v":536.107811764706},{"$f":"AVERAGE(C37,F37,I37,L37,O37,R37,U37,X37,AA37,AD37,AG37,AJ37,AM37,AP37,AS37,AV37,AY37)","v":8.91401629354031},{"$f":"STDEV(B37,E37,H37,K37,N37,Q37,T37,W37,Z37,AC37,AF37,AI37,AL37,AO37,AR37,AU37,AX37)","v":94.9610728600335},{"$f":"STDEV(C37,F37,I37,L37,O37,R37,U37,X37,AA37,AD37,AG37,AJ37,AM37,AP37,AS37,AV37,AY37)","v":3.69423407991835}]
[28.75,451.7893,11.3754634678299,28.75,566.5604,6.83053435114504,28.75,597.3997,6.19138495092694,28.75,665.1011,5.02628135223555,28.75,368.5965,8.96205016357688,28.75,539.0083,7.5051254089422,28.75,552.4226,7.78615049073064,28.75,528.8985,7.6257360959651,28.75,605.3704,6.51112322791712,28.75,631.7901,5.6226826608506,28.75,666.6614,4.66161395856052,28.75,606.6591,6.40752453653217,28.75,335.5595,18.4770992366412,28.75,419.2842,12.021919302072,28.75,503.1409,10.6076335877863,28.75,490.7448,10.8428571428571,28.75,478.9275,11.7714285714286,null,{"$f":"AW38","v":28.75},{"$f":"AVERAGE(B38,E38,H38,K38,N38,Q38,T38,W38,Z38,AC38,AF38,AI38,AL38,AO38,AR38,AU38,AX38)","v":529.877311764706},{"$f":"AVERAGE(C38,F38,I38,L38,O38,R38,U38,X38,AA38,AD38,AG38,AJ38,AM38,AP38,AS38,AV38,AY38)","v":8.71921226505869},{"$f":"STDEV(B38,E38,H38,K38,N38,Q38,T38,W38,Z38,AC38,AF38,AI38,AL38,AO38,AR38,AU38,AX38)","v":97.601014681642},{"$f":"STDEV(C38,F38,I38,L38,O38,R38,U38,X38,AA38,AD38,AG38,AJ38,AM38,AP38,AS38,AV38,AY38)","v":3.4824390863054}]
[30,449.405,11.643947655398,30,584.5217,6.2154852780807,30,570.6855,6.5309705561614,30,666.7417,5.05081788440567,30,335.386,7.28996728462377,30,533.4483,8.0979280261723,30,539.0522,7.79520174482007,30,522.1766,7.18778625954198,30,603.9307,6.63086150490731,30,570.6583,6.14187568157034,30,683.1668,4.42998909487459,30,613.2144,6.53424209378408,30,337.1549,18.1154852780807,30,427.3086,11.8619411123228,30,489.8035,10.2567066521265,30,486.382,10.7666303162486,30,480.115,11.4407851690294,null,{"$f":"AW39","v":30},{"$f":"AVERAGE(B39,E39,H39,K39,N39,Q39,T39,W39,Z39,AC39,AF39,AI39,AL39,AO39,AR39,AU39,AX39)","v":523.126541176471},{"$f":"AVERAGE(C39,F39,I39,L39,O39,R39,U39,X39,AA39,AD39,AG39,AJ39,AM39,AP39,AS39,AV39,AY39)","v":8.58768362306755},{"$f":"STDEV(B39,E39,H39,K39,N39,Q39,T39,W39,Z39,AC39,AF39,AI39,AL39,AO39,AR39,AU39,AX39)","v":99.465249343408},{"$f":"STDEV(C39,F39,I39,L39,O39,R39,U39,X39,AA39,AD39,AG39,AJ39,AM39,AP39,AS39,AV39,AY39)","v":3.39767206869729}]
[31.25,436.5756,11.2875681570338,31.25,626.0473,5.82998909487459,31.25,567.501,7.10021810250818,31.25,664.1509,5.01384950926936,31.25,484.8858,7.15790621592148,31.25,544.1541,8.78004362050164,31.25,534.1584,7.85725190839695,31.25,398.092,6.3742639040349,31.25,594.2055,6.66870229007634,31.25,533.225,6.83642311886587,31.25,674.2131,4.51155943293348,31.25,607.8971,6.39367502726281,31.25,341.2506,17.9201744820065,31.25,409.8836,11.5825517993457,31.25,483.0769,10.4934569247546,31.25,486.3488,10.9281352235551,31.25,478.2537,11.1949836423119,null,{"$f":"AW40","v":31.25},{"$f":"AVERAGE(B40,E40,H40,K40,N40,Q40,T40,W40,Z40,AC40,AF40,AI40,AL40,AO40,AR40,AU40,AX40)","v":521.407023529412},{"$f":"AVERAGE(C40,F40,I40,L40,O40,R40,U40,X40,AA40,AD40,AG40,AJ40,AM40,AP40,AS40,AV40,AY40)","v":8.58416190903843},{"$f":"STDEV(B40,E40,H40,K40,N40,Q40,T40,W40,Z40,AC40,AF40,AI40,AL40,AO40,AR40,AU40,AX40)","v":94.7333954620118},{"$f":"STDEV(C40,F40,I40,L40,O40,R40,U40,X40,AA40,AD40,AG40,AJ40,AM40,AP40,AS40,AV40,AY40)","v":3.33113247154457}]
[32.5,424.8666,11.7937840785169,32.5,624.6923,5.86772082878953,32.5,557.3174,7.5896401308615,32.5,659.7973,5.01930207197383,32.5,517.8468,6.75376226826609,32.5,539.1237,8.63380588876772,32.5,551.3739,7.89825517993457,32.5,331.127,6.62660850599782,32.5,586.8937,6.89411123227917,32.5,530.7434,7.56553980370774,32.5,652.2412,4.84983642311887,32.5,621.0918,6.1164667393675,32.5,341.4963,18.5497273718648,32.5,380.7897,12.1775354416576,32.5,483.6567,10.6765539803708,32.5,476.3988,10.8248636859324,32.5,481.9588,11.2501635768811,null,{"$f":"AW41","v":32.5},{"$f":"AVERAGE(B41,E41,H41,K41,N41,Q41,T41,W41,Z41,AC41,AF41,AI41,AL41,AO41,AR41,AU41,AX41)","v":515.377376470588},{"$f":"AVERAGE(C41,F41,I41,L41,O41,R41,U41,X41,AA41,AD41,AG41,AJ41,AM41,AP41,AS41,AV41,AY41)","v":8.76986336519341},{"$f":"STDEV(B41,E41,H41,K41,N41,Q41,T41,W41,Z41,AC41,AF41,AI41,AL41,AO41,AR41,AU41,AX41)","v":101.802725303498},{"$f":"STDEV(C41,F41,I41,L41,O41,R41,U41,X41,AA41,AD41,AG41,AJ41,AM41,AP41,AS41,AV41,AY41)","v":3.45603549862936}]
[33.75,426.5565,12.2928026172301,33.75,622.8512,6.02235550708833,33.75,542.1337,8.05136314067612,33.75,660.1737,5.02878953107961,33.75,532.6204,6.96434023991276,33.75,504.2339,7.54252998909487,33.75,563.4865,7.63925845147219,33.75,509.1844,8.41941112322792,33.75,593.1893,7.02977099236641,33.75,534.1069,8.16684841875682,33.75,620.2911,5.2360959651036,33.75,631.3375,6.02453653217012,33.75,340.5834,18.3860414394766,33.75,386.6643,15.1513631406761,33.75,484.4853,10.5549618320611,33.75,480.9429,11.2972737186478,33.75,488.6646,11.476881134133,null,{"$f":"AW42","v":33.75},{"$f":"AVERAGE(B42,E42,H42,K42,N42,Q42,T42,W42,Z42,AC42,AF42,AI42,AL42,AO42,AR42,AU42,AX42)","v":524.794447058824},{"$f":"AVERAGE(C42,F42,I42,L42,O42,R42,U42,X42,AA42,AD42,AG42,AJ42,AM42,AP42,AS42,AV42,AY42)","v":9.13438963371608},{"$f":"STDEV(B42,E42,H42,K42,N42,Q42,T42,W42,Z42,AC42,AF42,AI42,AL42,AO42,AR42,AU42,AX42)","v":87.7571764569437},{"$f":"STDEV(C42,F42,I42,L42,O42,R42,U42,X42,AA42,AD42,AG42,AJ42,AM42,AP42,AS42,AV42,AY42)","v":3.63913448450569}]
[35,420.0985,12.1750272628135,35,629.15,6.04700109051254,35,525.6833,8.49989094874591,35,654.4255,5.05147219193021,35,511.7075,7.68811341330425,35,449.9016,6.74307524536532,35,531.0766,7.4257360959651,35,488.5873,8.99836423118866,35,576.6622,6.90436205016358,35,534.01,8.76128680479826,35,602.2218,5.49465648854962,35,604.5046,6.1680479825518,35,341.1116,17.396401308615,35,375.7071,15.5723009814613,35,493.0639,10.5918211559433,35,482.1893,11.2972737186478,35,480.6266,11.1118865866957,null,{"$f":"AW43","v":35},{"$f":"AVERAGE(B43,E43,H43,K43,N43,Q43,T43,W43,Z43,AC43,AF43,AI43,AL43,AO43,AR43,AU43,AX43)","v":511.807494117647},{"$f":"AVERAGE(C43,F43,I43,L43,O43,R43,U43,X43,AA43,AD43,AG43,AJ43,AM43,AP43,AS43,AV43,AY43)","v":9.17215985630894},{"$f":"STDEV(B43,E43,H43,K43,N43,Q43,T43,W43,Z43,AC43,AF43,AI43,AL43,AO43,AR43,AU43,AX43)","v":86.1622235233376},{"$f":"STDEV(C43,F43,I43,L43,O43,R43,U43,X43,AA43,AD43,AG43,AJ43,AM43,AP43,AS43,AV43,AY43)","v":3.48347323604479}]
[36.25,420.0631,12.3552889858233,36.25,623.3755,6.12246455834242,36.25,521.8441,9.05801526717557,36.25,652.55,5.12922573609596,36.25,491.3119,8.55016357688113,36.25,368.5771,7.08996728462377,36.25,525.1052,7.93925845147219,36.25,494.45,9.66259541984733,36.25,562.8582,7.05288985823337,36.25,514.3346,8.92671755725191,36.25,611.7798,5.446346782988,36.25,603.2034,6.44198473282443,36.25,343.5148,17.7124318429662,36.25,371.9346,16.3820065430752,36.25,496.8103,10.604907306434,36.25,475.1863,11.0642311886587,36.25,476.7502,11.0166848418757,null,{"$f":"AW44","v":36.25},{"$f":"AVERAGE(B44,E44,H44,K44,N44,Q44,T44,W44,Z44,AC44,AF44,AI44,AL44,AO44,AR44,AU44,AX44)","v":503.155829411765},{"$f":"AVERAGE(C44,F44,I44,L44,O44,R44,U44,X44,AA44,AD44,AG44,AJ44,AM44,AP44,AS44,AV44,AY44)","v":9.44442234909231},{"$f":"STDEV(B44,E44,H44,K44,N44,Q44,T44,W44,Z44,AC44,AF44,AI44,AL44,AO44,AR44,AU44,AX44)","v":91.0207490720026},{"$f":"STDEV(C44,F44,I44,L44,O44,R44,U44,X44,AA44,AD44,AG44,AJ44,AM44,AP44,AS44,AV44,AY44)","v":3.54307698378696}]
[37.5,421.0204,11.2864776444929,37.5,622.1301,6.21766630316249,37.5,519.1033,9.42944383860414,37.5,663.1333,5.08953107960742,37.5,480.7617,9.35430752453653,37.5,506.4627,9.11864776444929,37.5,530.2897,8.35866957470011,37.5,493.0989,10.1805888767721,37.5,569.5851,7.4576881134133,37.5,498.4095,9.35757906215921,37.5,607.2055,5.4917121046892,37.5,616.4832,6.5495092693566,37.5,344.2872,18.0386041439477,37.5,362.2002,16.2964013086151,37.5,497.8315,10.4215921483097,37.5,470.7,11.1254089422028,37.5,479.6998,11.2513631406761,null,{"$f":"AW45","v":37.5},{"$f":"AVERAGE(B45,E45,H45,K45,N45,Q45,T45,W45,Z45,AC45,AF45,AI45,AL45,AO45,AR45,AU45,AX45)","v":510.729535294118},{"$f":"AVERAGE(C45,F45,I45,L45,O45,R45,U45,X45,AA45,AD45,AG45,AJ45,AM45,AP45,AS45,AV45,AY45)","v":9.70736416704087},{"$f":"STDEV(B45,E45,H45,K45,N45,Q45,T45,W45,Z45,AC45,AF45,AI45,AL45,AO45,AR45,AU45,AX45)","v":87.3095608376736},{"$f":"STDEV(C45,F45,I45,L45,O45,R45,U45,X45,AA45,AD45,AG45,AJ45,AM45,AP45,AS45,AV45,AY45)","v":3.4391532812827}]
[38.75,413.3126,9.66346782988004,38.75,612.9079,6.37480916030534,38.75,516.3731,9.64296619411123,38.75,664.5766,5.02649945474373,38.75,495.6649,10.425627044711,38.75,528.3177,8.84296619411123,38.75,498.2631,8.29574700109051,38.75,495.4192,10.0525627044711,38.75,577.3141,7.63064340239913,38.75,474.0763,9.88615049073064,38.75,613.0453,5.48309705561614,38.75,616.386,6.52290076335878,38.75,347.0021,17.8135223555071,38.75,357.6269,17.536641221374,38.75,504.7825,10.5004362050164,38.75,475.9743,11.7629225736096,38.75,476.9186,11.224427480916,null,{"$f":"AW46","v":38.75},{"$f":"AVERAGE(B46,E46,H46,K46,N46,Q46,T46,W46,Z46,AC46,AF46,AI46,AL46,AO46,AR46,AU46,AX46)","v":509.880070588235},{"$f":"AVERAGE(C46,F46,I46,L46,O46,R46,U46,X46,AA46,AD46,AG46,AJ46,AM46,AP46,AS46,AV46,AY46)","v":9.80502277246777},{"$f":"STDEV(B46,E46,H46,K46,N46,Q46,T46,W46,Z46,AC46,AF46,AI46,AL46,AO46,AR46,AU46,AX46)","v":88.2423565617425},{"$f":"STDEV(C46,F46,I46,L46,O46,R46,U46,X46,AA46,AD46,AG46,AJ46,AM46,AP46,AS46,AV46,AY46)","v":3.55956798029366}]
[40,424.8882,8.14220283533261,40,610.0718,6.54242093784078,40,519.6475,9.75637949836423,40,668.1119,4.94449291166848,40,490.3187,10.7213740458015,40,506.5995,8.46019629225736,40,498.8522,8.97230098146129,40,496.3132,9.32377317339149,40,574.1525,7.55485278080698,40,473.7849,10.6806979280262,40,621.7151,5.32399127589967,40,603.8025,6.53020719738277,40,348.8655,17.5077426390403,40,354.7055,18.5700109051254,40,496.4386,10.506106870229,40,473.553,11.7477644492912,40,474.2247,11.5461286804798,null,{"$f":"AW47","v":40},{"$f":"AVERAGE(B47,E47,H47,K47,N47,Q47,T47,W47,Z47,AC47,AF47,AI47,AL47,AO47,AR47,AU47,AX47)","v":508.002664705882},{"$f":"AVERAGE(C47,F47,I47,L47,O47,R47,U47,X47,AA47,AD47,AG47,AJ47,AM47,AP47,AS47,AV47,AY47)","v":9.81356725896465},{"$f":"STDEV(B47,E47,H47,K47,N47,Q47,T47,W47,Z47,AC47,AF47,AI47,AL47,AO47,AR47,AU47,AX47)","v":87.5259448709063},{"$f":"STDEV(C47,F47,I47,L47,O47,R47,U47,X47,AA47,AD47,AG47,AJ47,AM47,AP47,AS47,AV47,AY47)","v":3.71396820821416}]
[41.25,493.0299,7.44514721919302,41.25,613.8248,6.65986913849509,41.25,518.7512,9.47295528898582,41.25,667.5187,4.95801526717557,41.25,490.6983,11.0564885496183,41.25,467.9393,9.0845147219193,41.25,513.7289,9.47208287895311,41.25,513.9462,8.88091603053435,41.25,574.7328,7.37699018538713,41.25,455.1164,11.0101417666303,41.25,625.4016,5.18713195201745,41.25,594.9523,6.66728462377317,41.25,348.6088,17.036641221374,41.25,355.0126,17.8704471101418,41.25,497.1331,10.8307524536532,41.25,464.7674,11.3316248636859,41.25,469.8029,11.4235550708833,null,{"$f":"AW48","v":41.25},{"$f":"AVERAGE(B48,E48,H48,K48,N48,Q48,T48,W48,Z48,AC48,AF48,AI48,AL48,AO48,AR48,AU48,AX48)","v":509.703835294118},{"$f":"AVERAGE(C48,F48,I48,L48,O48,R48,U48,X48,AA48,AD48,AG48,AJ48,AM48,AP48,AS48,AV48,AY48)","v":9.75085637308358},{"$f":"STDEV(B48,E48,H48,K48,N48,Q48,T48,W48,Z48,AC48,AF48,AI48,AL48,AO48,AR48,AU48,AX48)","v":86.5153436798853},{"$f":"STDEV(C48,F48,I48,L48,O48,R48,U48,X48,AA48,AD48,AG48,AJ48,AM48,AP48,AS48,AV48,AY48)","v":3.57012451550321}]
[42.5,543.7582,6.76226826608506,42.5,608.5139,6.68178844056707,42.5,519.0428,8.99607415485278,42.5,667.8355,4.98222464558342,42.5,486.7371,10.7006543075245,42.5,463.8765,10.1116684841876,42.5,498.8755,9.50065430752454,42.5,526.3344,9.02977099236641,42.5,581.9326,7.03794983642312,42.5,446.8328,11.9372955288986,42.5,621.756,5.08985823336968,42.5,601.5344,6.6886586695747,42.5,351.0659,17.3635768811341,42.5,360.7317,16.6708833151581,42.5,495.6344,10.5042529989095,42.5,464.0311,11.5777535441658,42.5,467.9866,11.4965103598691,null,{"$f":"AW49","v":42.5},{"$f":"AVERAGE(B49,E49,H49,K49,N49,Q49,T49,W49,Z49,AC49,AF49,AI49,AL49,AO49,AR49,AU49,AX49)","v":512.145847058824},{"$f":"AVERAGE(C49,F49,I49,L49,O49,R49,U49,X49,AA49,AD49,AG49,AJ49,AM49,AP49,AS49,AV49,AY49)","v":9.71363782154083},{"$f":"STDEV(B49,E49,H49,K49,N49,Q49,T49,W49,Z49,AC49,AF49,AI49,AL49,AO49,AR49,AU49,AX49)","v":86.7746013702319},{"$f":"STDEV(C49,F49,I49,L49,O49,R49,U49,X49,AA49,AD49,AG49,AJ49,AM49,AP49,AS49,AV49,AY49)","v":3.52922433084953}]
[43.75,586.6426,6.34711014176663,43.75,610.4604,6.60403489640131,43.75,531.9961,8.51014176663032,43.75,659.4894,5.03718647764449,43.75,494.8665,10.5202835332606,43.75,475.5601,10.9348964013086,43.75,486.4877,9.85332606324973,43.75,525.1221,9.00534351145038,43.75,588.5052,7.01188658669575,43.75,441.1155,12.6892039258451,43.75,603.5416,5.17230098146129,43.75,596.6354,6.57491821155943,43.75,350.839,17.1026172300981,43.75,370.4636,15.5178844056707,43.75,497.2966,10.4622682660851,43.75,466.7971,11.9958560523446,43.75,475.248,11.9161395856052,null,{"$f":"AW50","v":43.75},{"$f":"AVERAGE(B50,E50,H50,K50,N50,Q50,T50,W50,Z50,AC50,AF50,AI50,AL50,AO50,AR50,AU50,AX50)","v":515.356876470588},{"$f":"AVERAGE(C50,F50,I50,L50,O50,R50,U50,X50,AA50,AD50,AG50,AJ50,AM50,AP50,AS50,AV50,AY50)","v":9.7209057668869},{"$f":"STDEV(B50,E50,H50,K50,N50,Q50,T50,W50,Z50,AC50,AF50,AI50,AL50,AO50,AR50,AU50,AX50)","v":85.0397533184961},{"$f":"STDEV(C50,F50,I50,L50,O50,R50,U50,X50,AA50,AD50,AG50,AJ50,AM50,AP50,AS50,AV50,AY50)","v":3.46877333820624}]
[45,612.9818,6.20643402399128,45,606.5859,6.57033805888768,45,487.022,7.54002181025082,45,659.9049,5.06074154852781,45,493.2862,9.99531079607415,45,479.7834,11.0676117775354,45,497.0664,10.4210468920393,45,530.4261,9.07121046892039,45,589.2222,7.14002181025082,45,431.0695,13.0730643402399,45,606.9116,5.17077426390403,45,600.64,6.49116684841876,45,353.5404,16.2340239912759,45,374.4927,12.7711014176663,45,496.2654,10.614612868048,45,466.7786,11.9945474372955,45,466.5805,11.4907306434024,null,{"$f":"AW51","v":45},{"$f":"AVERAGE(B51,E51,H51,K51,N51,Q51,T51,W51,Z51,AC51,AF51,AI51,AL51,AO51,AR51,AU51,AX51)","v":514.856329411765},{"$f":"AVERAGE(C51,F51,I51,L51,O51,R51,U51,X51,AA51,AD51,AG51,AJ51,AM51,AP51,AS51,AV51,AY51)","v":9.46545641157226},{"$f":"STDEV(B51,E51,H51,K51,N51,Q51,T51,W51,Z51,AC51,AF51,AI51,AL51,AO51,AR51,AU51,AX51)","v":87.0369858421031},{"$f":"STDEV(C51,F51,I51,L51,O51,R51,U51,X51,AA51,AD51,AG51,AJ51,AM51,AP51,AS51,AV51,AY51)","v":3.16524630784186}]
[46.25,587.9712,6.15572519083969,46.25,586.4531,6.63140676117775,46.25,428.8962,7.73238822246456,46.25,669.0241,4.98527808069793,46.25,485.7187,9.78985823336968,46.25,479.9808,11.1763358778626,46.25,476.5252,9.3701199563795,46.25,532.2587,8.87448200654308,46.25,592.0201,6.96095965103599,46.25,419.8738,13.5600872410033,46.25,619.1056,5.07142857142857,46.25,604.2607,6.62300981461287,46.25,357.4025,16.9708833151581,46.25,402.848,11.8044711014177,46.25,491.5031,10.6079607415485,46.25,469.4636,11.9616139585605,46.25,461.8532,12.018320610687,null,{"$f":"AW52","v":46.25},{"$f":"AVERAGE(B52,E52,H52,K52,N52,Q52,T52,W52,Z52,AC52,AF52,AI52,AL52,AO52,AR52,AU52,AX52)","v":509.715211764706},{"$f":"AVERAGE(C52,F52,I52,L52,O52,R52,U52,X52,AA52,AD52,AG52,AJ52,AM52,AP52,AS52,AV52,AY52)","v":9.42907819616396},{"$f":"STDEV(B52,E52,H52,K52,N52,Q52,T52,W52,Z52,AC52,AF52,AI52,AL52,AO52,AR52,AU52,AX52)","v":87.1803375591931},{"$f":"STDEV(C52,F52,I52,L52,O52,R52,U52,X52,AA52,AD52,AG52,AJ52,AM52,AP52,AS52,AV52,AY52)","v":3.27596374049884}]
[47.5,595.7471,5.73173391494002,47.5,545.5119,7.01417666303163,47.5,508.0639,9.62377317339149,47.5,671.5192,4.90850599781898,47.5,492.4297,10.5388222464558,47.5,481.3637,11.356052344602,47.5,498.5446,8.77862595419847,47.5,532.6788,8.24460196292257,47.5,600.0547,6.73762268266085,47.5,416.6032,14.3044711014177,47.5,619.8339,5.09422028353326,47.5,595.2388,6.83664122137405,47.5,355.5653,17.3423118865867,47.5,430.4461,10.8259541984733,47.5,490.2752,10.6050163576881,47.5,467.6491,11.5025081788441,47.5,466.0333,12.4125408942203,null,{"$f":"AW53","v":47.5},{"$f":"AVERAGE(B53,E53,H53,K53,N53,Q53,T53,W53,Z53,AC53,AF53,AI53,AL53,AO53,AR53,AU53,AX53)","v":515.738735294118},{"$f":"AVERAGE(C53,F53,I53,L53,O53,R53,U53,X53,AA53,AD53,AG53,AJ53,AM53,AP53,AS53,AV53,AY53)","v":9.52103406247996},{"$f":"STDEV(B53,E53,H53,K53,N53,Q53,T53,W53,Z53,AC53,AF53,AI53,AL53,AO53,AR53,AU53,AX53)","v":81.5386764532938},{"$f":"STDEV(C53,F53,I53,L53,O53,R53,U53,X53,AA53,AD53,AG53,AJ53,AM53,AP53,AS53,AV53,AY53)","v":3.37528980305459}]
[48.75,632.115,5.39018538713195,48.75,555.3508,7.71613958560523,48.75,491.5934,9.85288985823337,48.75,673.7181,4.82071973827699,48.75,465.6597,9.87535441657579,48.75,475.7206,11.1145038167939,48.75,509.4742,8.36837513631407,48.75,549.2959,7.77186477644493,48.75,600.0648,6.42333696837514,48.75,414.4178,14.0137404580153,48.75,626.1609,5.16172300981461,48.75,586.9127,7.01166848418757,48.75,357.6227,17.5352235550709,48.75,445.3666,11.1041439476554,48.75,492.1927,10.3994547437296,48.75,473.5165,11.4777535441658,48.75,463.8316,12.2805888767721,null,{"$f":"AW54","v":48.75},{"$f":"AVERAGE(B54,E54,H54,K54,N54,Q54,T54,W54,Z54,AC54,AF54,AI54,AL54,AO54,AR54,AU54,AX54)","v":518.412588235294},{"$f":"AVERAGE(C54,F54,I54,L54,O54,R54,U54,X54,AA54,AD54,AG54,AJ54,AM54,AP54,AS54,AV54,AY54)","v":9.43045095900956},{"$f":"STDEV(B54,E54,H54,K54,N54,Q54,T54,W54,Z54,AC54,AF54,AI54,AL54,AO54,AR54,AU54,AX54)","v":84.9360720464065},{"$f":"STDEV(C54,F54,I54,L54,O54,R54,U54,X54,AA54,AD54,AG54,AJ54,AM54,AP54,AS54,AV54,AY54)","v":3.38625609803111}]
[50,640.587,5.24492911668484,50,554.8458,8.02769901853871,50,479.5901,10.4025081788441,50,678.5667,4.71603053435115,50,408.0764,7.65070883315158,50,465.6918,11.0267175572519,50,488.6139,8.46935659760087,50,564.6454,7.75986913849509,50,613.2386,5.97470010905125,50,417.5407,13.8213740458015,50,621.179,5.28713195201745,50,576.5678,7.23206106870229,50,359.3713,17.13413304253,50,413.0847,10.815812431843,50,498.7059,10.3423118865867,50,468.6597,11.0279171210469,50,463.8891,12.4286804798255,null,{"$f":"AW55","v":50},{"$f":"AVERAGE(B55,E55,H55,K55,N55,Q55,T55,W55,Z55,AC55,AF55,AI55,AL55,AO55,AR55,AU55,AX55)","v":512.520817647059},{"$f":"AVERAGE(C55,F55,I55,L55,O55,R55,U55,X55,AA55,AD55,AG55,AJ55,AM55,AP55,AS55,AV55,AY55)","v":9.2565847713131},{"$f":"STDEV(B55,E55,H55,K55,N55,Q55,T55,W55,Z55,AC55,AF55,AI55,AL55,AO55,AR55,AU55,AX55)","v":92.2408685333285},{"$f":"STDEV(C55,F55,I55,L55,O55,R55,U55,X55,AA55,AD55,AG55,AJ55,AM55,AP55,AS55,AV55,AY55)","v":3.33948254303422}]
[51.25,638.3058,5.01984732824428,51.25,555.6679,7.98298800436205,51.25,483.2614,10.8943293347874,51.25,676.1198,4.72508178844057,51.25,496.4913,7.60545256270447,51.25,470.9078,11.8630316248637,51.25,488.0943,9.3474372955289,51.25,560.426,7.87470010905125,51.25,636.5733,5.62878953107961,51.25,423.3499,13.4532170119956,51.25,611.2249,5.40163576881134,51.25,580.3001,7.48124318429662,51.25,358.9058,16.6913849509269,51.25,434.3738,12.8668484187568,51.25,500.9796,10.5465648854962,51.25,468.989,11.0563794983642,51.25,462.4836,12.4297709923664,null,{"$f":"AW56","v":51.25},{"$f":"AVERAGE(B56,E56,H56,K56,N56,Q56,T56,W56,Z56,AC56,AF56,AI56,AL56,AO56,AR56,AU56,AX56)","v":520.379664705882},{"$f":"AVERAGE(C56,F56,I56,L56,O56,R56,U56,X56,AA56,AD56,AG56,AJ56,AM56,AP56,AS56,AV56,AY56)","v":9.46286484059273},{"$f":"STDEV(B56,E56,H56,K56,N56,Q56,T56,W56,Z56,AC56,AF56,AI56,AL56,AO56,AR56,AU56,AX56)","v":86.9798639809377},{"$f":"STDEV(C56,F56,I56,L56,O56,R56,U56,X56,AA56,AD56,AG56,AJ56,AM56,AP56,AS56,AV56,AY56)","v":3.40560910991076}]
[52.5,666.4277,4.60676117775354,52.5,542.5667,7.44220283533261,52.5,485.7668,10.9489640130862,52.5,674.9612,4.71995637949836,52.5,539.5879,7.9969465648855,52.5,464.0001,11.8666303162486,52.5,486.5197,10.0659760087241,52.5,552.9748,8.09149400218102,52.5,649.1323,5.45092693565976,52.5,432.4542,13.1563794983642,52.5,607.6373,5.42758996728462,52.5,576.3598,7.56750272628135,52.5,359.4522,17.0063249727372,52.5,437.6632,12.7776444929117,52.5,493.1279,10.4623773173391,52.5,464.4371,11.4539803707743,52.5,452.5598,12.2918211559433,null,{"$f":"AW57","v":52.5},{"$f":"AVERAGE(B57,E57,H57,K57,N57,Q57,T57,W57,Z57,AC57,AF57,AI57,AL57,AO57,AR57,AU57,AX57)","v":522.684041176471},{"$f":"AVERAGE(C57,F57,I57,L57,O57,R57,U57,X57,AA57,AD57,AG57,AJ57,AM57,AP57,AS57,AV57,AY57)","v":9.49020463147091},{"$f":"STDEV(B57,E57,H57,K57,N57,Q57,T57,W57,Z57,AC57,AF57,AI57,AL57,AO57,AR57,AU57,AX57)","v":89.7389611324079},{"$f":"STDEV(C57,F57,I57,L57,O57,R57,U57,X57,AA57,AD57,AG57,AJ57,AM57,AP57,AS57,AV57,AY57)","v":3.47310056254306}]
[53.75,678.599,4.50916030534351,53.75,568.428,7.35169029443839,53.75,484.6904,10.9857142857143,53.75,681.6687,4.62366412213741,53.75,530.3784,7.72955288985823,53.75,458.6778,11.4944383860414,53.75,494.2603,10.7238822246456,53.75,512.49,7.88920392584515,53.75,653.9584,5.32082878953108,53.75,438.269,12.5766630316249,53.75,609.3667,5.42715376226827,53.75,573.2959,7.66619411123228,53.75,355.4717,17.1420937840785,53.75,434.8579,12.9124318429662,53.75,488.2172,10.5147219193021,53.75,346.9243,7.78298800436205,53.75,436.5541,12.1425299890949,null,{"$f":"AW58","v":53.75},{"$f":"AVERAGE(B58,E58,H58,K58,N58,Q58,T58,W58,Z58,AC58,AF58,AI58,AL58,AO58,AR58,AU58,AX58)","v":514.476929411765},{"$f":"AVERAGE(C58,F58,I58,L58,O58,R58,U58,X58,AA58,AD58,AG58,AJ58,AM58,AP58,AS58,AV58,AY58)","v":9.2231124510873},{"$f":"STDEV(B58,E58,H58,K58,N58,Q58,T58,W58,Z58,AC58,AF58,AI58,AL58,AO58,AR58,AU58,AX58)","v":102.056939789682},{"$f":"STDEV(C58,F58,I58,L58,O58,R58,U58,X58,AA58,AD58,AG58,AJ58,AM58,AP58,AS58,AV58,AY58)","v":3.47581367179357}]
[55,672.9916,4.62813522355507,55,571.0339,7.40054525627045,55,476.83,10.0912758996728,55,684.4177,4.56608505997819,55,557.1336,7.20981461286805,55,472.4598,11.0300981461287,55,488.5658,10.2007633587786,55,474.8852,8.34427480916031,55,662.7885,5.17949836423119,55,445.5287,11.7137404580153,55,600.9668,5.5309705561614,55,576.4938,7.75834242093784,55,350.4544,17.7140676117775,55,427.0373,13.2020719738277,55,491.264,10.7653217011996,55,359.1202,6.85376226826609,55,374.4066,9.06826608505998,null,{"$f":"AW59","v":55},{"$f":"AVERAGE(B59,E59,H59,K59,N59,Q59,T59,W59,Z59,AC59,AF59,AI59,AL59,AO59,AR59,AU59,AX59)","v":510.963405882353},{"$f":"AVERAGE(C59,F59,I59,L59,O59,R59,U59,X59,AA59,AD59,AG59,AJ59,AM59,AP59,AS59,AV59,AY59)","v":8.89747257681698},{"$f":"STDEV(B59,E59,H59,K59,N59,Q59,T59,W59,Z59,AC59,AF59,AI59,AL59,AO59,AR59,AU59,AX59)","v":106.406328622999},{"$f":"STDEV(C59,F59,I59,L59,O59,R59,U59,X59,AA59,AD59,AG59,AJ59,AM59,AP59,AS59,AV59,AY59)","v":3.43144785274703}]
[56.25,673.8205,4.6680479825518,56.25,559.7541,7.51374045801527,56.25,498.7177,9.44002181025082,56.25,687.0089,4.50905125408942,56.25,587.8845,6.63675027262813,56.25,472.6031,9.99683751363141,56.25,500.127,10.0504907306434,56.25,470.07,9.4546346782988,56.25,662.9564,5.13740458015267,56.25,448.9824,11.8700109051254,56.25,605.953,5.49738276990185,56.25,575.0107,7.66750272628135,56.25,349.0671,17.7880043620502,56.25,424.9661,13.2833151581243,56.25,490.9334,10.7407851690294,56.25,523.5319,6.32726281352236,56.25,347.184,7.39411123227917,null,{"$f":"AW60","v":56.25},{"$f":"AVERAGE(B60,E60,H60,K60,N60,Q60,T60,W60,Z60,AC60,AF60,AI60,AL60,AO60,AR60,AU60,AX60)","v":522.268870588235},{"$f":"AVERAGE(C60,F60,I60,L60,O60,R60,U60,X60,AA60,AD60,AG60,AJ60,AM60,AP60,AS60,AV60,AY60)","v":8.70443261273975},{"$f":"STDEV(B60,E60,H60,K60,N60,Q60,T60,W60,Z60,AC60,AF60,AI60,AL60,AO60,AR60,AU60,AX60)","v":102.502311254349},{"$f":"STDEV(C60,F60,I60,L60,O60,R60,U60,X60,AA60,AD60,AG60,AJ60,AM60,AP60,AS60,AV60,AY60)","v":3.47553754454903}]
[57.5,669.829,4.7340239912759,57.5,572.9595,7.70763358778626,57.5,512.8401,8.79596510359869,57.5,690.3024,4.44318429661941,57.5,596.7276,6.19640130861505,57.5,490.9615,9.33467829880044,57.5,485.6049,9.19945474372955,57.5,465.283,9.27371864776445,57.5,662.1226,5.12606324972737,57.5,448.1503,12.3288985823337,57.5,615.6062,5.41657579062159,57.5,575.7055,7.37415485278081,57.5,350.5252,17.9462377317339,57.5,423.9636,12.1441657579062,57.5,486.6958,10.6717557251908,57.5,593.4584,5.79760087241003,57.5,481.1128,7.14263904034896,null,{"$f":"AW61","v":57.5},{"$f":"AVERAGE(B61,E61,H61,K61,N61,Q61,T61,W61,Z61,AC61,AF61,AI61,AL61,AO61,AR61,AU61,AX61)","v":536.579317647059},{"$f":"AVERAGE(C61,F61,I61,L61,O61,R61,U61,X61,AA61,AD61,AG61,AJ61,AM61,AP61,AS61,AV61,AY61)","v":8.44900891654372},{"$f":"STDEV(B61,E61,H61,K61,N61,Q61,T61,W61,Z61,AC61,AF61,AI61,AL61,AO61,AR61,AU61,AX61)","v":94.9042830308862},{"$f":"STDEV(C61,F61,I61,L61,O61,R61,U61,X61,AA61,AD61,AG61,AJ61,AM61,AP61,AS61,AV61,AY61)","v":3.46044532326747}]
[58.75,660.76,4.87513631406761,58.75,576.9639,7.7856052344602,58.75,525.6689,8.12017448200654,58.75,691.7482,4.38124318429662,58.75,624.6338,5.67611777535442,58.75,488.4592,8.4051254089422,58.75,494.4957,8.6082878953108,58.75,362.767,6.87175572519084,58.75,664.491,5.07699018538713,58.75,406.2677,10.6442748091603,58.75,602.7109,5.48702290076336,58.75,584.7707,7.09705561613959,58.75,348.2813,18.1176663031625,58.75,438.6785,12.2703380588877,58.75,478.5846,10.7553980370774,58.75,581.5468,5.64940021810251,58.75,546.5242,6.34601962922574,null,{"$f":"AW62","v":58.75},{"$f":"AVERAGE(B62,E62,H62,K62,N62,Q62,T62,W62,Z62,AC62,AF62,AI62,AL62,AO62,AR62,AU62,AX62)","v":533.961905882353},{"$f":"AVERAGE(C62,F62,I62,L62,O62,R62,U62,X62,AA62,AD62,AG62,AJ62,AM62,AP62,AS62,AV62,AY62)","v":8.00985951632561},{"$f":"STDEV(B62,E62,H62,K62,N62,Q62,T62,W62,Z62,AC62,AF62,AI62,AL62,AO62,AR62,AU62,AX62)","v":104.207122226917},{"$f":"STDEV(C62,F62,I62,L62,O62,R62,U62,X62,AA62,AD62,AG62,AJ62,AM62,AP62,AS62,AV62,AY62)","v":3.43919611158968}]
[60,654.3369,5.05387131952018,60,569.6112,7.70174482006543,60,547.61,7.52519083969466,60,691.3307,4.33456924754635,60,645.1243,5.37949836423119,60,480.4806,7.33053435114504,60,511.1073,7.89007633587786,60,509.3765,5.70152671755725,60,662.1643,5.11308615049073,60,417.7932,13.1660850599782,60,587.9339,5.59465648854962,60,584.503,6.74569247546347,60,344.3448,18.5604143947655,60,446.9377,11.876772082879,60,482.0027,11.3923664122137,60,600.4467,5.56401308615049,60,607.2872,6.22399127589967,null,{"$f":"AW63","v":60},{"$f":"AVERAGE(B63,E63,H63,K63,N63,Q63,T63,W63,Z63,AC63,AF63,AI63,AL63,AO63,AR63,AU63,AX63)","v":549.552411764706},{"$f":"AVERAGE(C63,F63,I63,L63,O63,R63,U63,X63,AA63,AD63,AG63,AJ63,AM63,AP63,AS63,AV63,AY63)","v":7.95024055423696},{"$f":"STDEV(B63,E63,H63,K63,N63,Q63,T63,W63,Z63,AC63,AF63,AI63,AL63,AO63,AR63,AU63,AX63)","v":94.9825911227742},{"$f":"STDEV(C63,F63,I63,L63,O63,R63,U63,X63,AA63,AD63,AG63,AJ63,AM63,AP63,AS63,AV63,AY63)","v":3.74605971861793}]
[61.25,660.3462,5.10185387131952,61.25,569.1029,7.64460196292257,61.25,571.0452,7.49029443838604,61.25,690.4749,4.3557251908397,61.25,643.0473,5.21875681570338,61.25,551.5945,7.513413304253,61.25,537.6501,7.74896401308615,61.25,569.7867,5.02540894220283,61.25,666.1062,5.12878953107961,61.25,424.9671,14.4644492911668,61.25,588.5841,5.65376226826608,61.25,599.4938,6.29127589967285,61.25,343.6232,18.4859323882225,61.25,454.4685,12.1453653217012,61.25,481.9921,11.5896401308615,61.25,321.7622,5.99258451472192,61.25,536.8877,6.42737186477645,null,{"$f":"AW64","v":61.25},{"$f":"AVERAGE(B64,E64,H64,K64,N64,Q64,T64,W64,Z64,AC64,AF64,AI64,AL64,AO64,AR64,AU64,AX64)","v":541.819570588235},{"$f":"AVERAGE(C64,F64,I64,L64,O64,R64,U64,X64,AA64,AD64,AG64,AJ64,AM64,AP64,AS64,AV64,AY64)","v":8.01636410289306},{"$f":"STDEV(B64,E64,H64,K64,N64,Q64,T64,W64,Z64,AC64,AF64,AI64,AL64,AO64,AR64,AU64,AX64)","v":106.783497216428},{"$f":"STDEV(C64,F64,I64,L64,O64,R64,U64,X64,AA64,AD64,AG64,AJ64,AM64,AP64,AS64,AV64,AY64)","v":3.90456130897591}]
[62.5,654.8619,5.15986913849509,62.5,575.1598,7.48800436205016,62.5,563.7206,7.45408942202835,62.5,687.9293,4.38593238822246,62.5,620.6515,5.34285714285714,62.5,545.4766,7.75932388222465,62.5,546.8597,7.24460196292257,62.5,537.2284,5.02562704471101,62.5,665.8785,5.10774263904035,62.5,425.873,14.1802617230098,62.5,590.4578,5.69607415485278,62.5,626.4316,6.0236641221374,62.5,344.0967,18.1959651035987,62.5,444.675,11.2885496183206,62.5,479.8947,11.6041439476554,62.5,222.3437,6.22388222464558,62.5,493.5484,7.12878953107961,null,{"$f":"AW65","v":62.5},{"$f":"AVERAGE(B65,E65,H65,K65,N65,Q65,T65,W65,Z65,AC65,AF65,AI65,AL65,AO65,AR65,AU65,AX65)","v":530.887482352941},{"$f":"AVERAGE(C65,F65,I65,L65,O65,R65,U65,X65,AA65,AD65,AG65,AJ65,AM65,AP65,AS65,AV65,AY65)","v":7.95937520046186},{"$f":"STDEV(B65,E65,H65,K65,N65,Q65,T65,W65,Z65,AC65,AF65,AI65,AL65,AO65,AR65,AU65,AX65)","v":121.212783768897},{"$f":"STDEV(C65,F65,I65,L65,O65,R65,U65,X65,AA65,AD65,AG65,AJ65,AM65,AP65,AS65,AV65,AY65)","v":3.75538169992095}]
[63.75,649.3432,5.24416575790622,63.75,586.8868,7.34885496183206,63.75,526.3404,7.27404580152672,63.75,692.4006,4.27121046892039,63.75,625.6392,5.55321701199564,63.75,535.9538,8.2649945474373,63.75,562.2489,6.79454743729553,63.75,567.3123,4.99912758996728,63.75,660.8592,5.15986913849509,63.75,349.1715,8.51352235550709,63.75,597.2256,5.80534351145038,63.75,635.7073,5.9185387131952,63.75,346.2466,18.1745910577972,63.75,312.933,7.14711014176663,63.75,465.4708,11.2117775354417,63.75,540.925,7.96892039258452,63.75,520.8953,8.16248636859324,null,{"$f":"AW66","v":63.75},{"$f":"AVERAGE(B66,E66,H66,K66,N66,Q66,T66,W66,Z66,AC66,AF66,AI66,AL66,AO66,AR66,AU66,AX66)","v":539.738794117647},{"$f":"AVERAGE(C66,F66,I66,L66,O66,R66,U66,X66,AA66,AD66,AG66,AJ66,AM66,AP66,AS66,AV66,AY66)","v":7.51837192892424},{"$f":"STDEV(B66,E66,H66,K66,N66,Q66,T66,W66,Z66,AC66,AF66,AI66,AL66,AO66,AR66,AU66,AX66)","v":113.091352235618},{"$f":"STDEV(C66,F66,I66,L66,O66,R66,U66,X66,AA66,AD66,AG66,AJ66,AM66,AP66,AS66,AV66,AY66)","v":3.23161194135826}]
[65,638.2886,5.39956379498364,65,586.7423,7.22235550708833,65,367.4147,6.83664122137405,65,696.0545,4.22671755725191,65,646.907,5.45070883315158,65,537.3996,8.73620501635769,65,595.8965,6.5886586695747,65,666.2677,4.39716466739367,65,659.8319,5.23118865866957,65,442.5446,8.51046892039259,65,598.4791,5.84482006543075,65,631.8512,5.92028353326063,65,348.5032,18.6846237731734,65,280.0654,6.13173391494002,65,455.0912,11.6243184296619,65,539.9254,8.24503816793893,65,537.9713,8.8907306434024,null,{"$f":"AW67","v":65},{"$f":"AVERAGE(B67,E67,H67,K67,N67,Q67,T67,W67,Z67,AC67,AF67,AI67,AL67,AO67,AR67,AU67,AX67)","v":542.896129411765},{"$f":"AVERAGE(C67,F67,I67,L67,O67,R67,U67,X67,AA67,AD67,AG67,AJ67,AM67,AP67,AS67,AV67,AY67)","v":7.52595419847328},{"$f":"STDEV(B67,E67,H67,K67,N67,Q67,T67,W67,Z67,AC67,AF67,AI67,AL67,AO67,AR67,AU67,AX67)","v":123.366767368261},{"$f":"STDEV(C67,F67,I67,L67,O67,R67,U67,X67,AA67,AD67,AG67,AJ67,AM67,AP67,AS67,AV67,AY67)","v":3.44318776210516}]
[66.25,633.512,5.57742639040349,66.25,588.914,7.20338058887677,66.25,432.6163,8.80054525627045,66.25,697.3266,4.24351145038168,66.25,652.7713,5.28091603053435,66.25,540.0579,8.94056706652126,66.25,608.0288,6.36564885496183,66.25,675.2148,4.22584514721919,66.25,650.8837,5.37241003271538,66.25,494.9497,7.81101417666303,66.25,591.6311,5.80348964013086,66.25,615.0082,6.01832061068702,66.25,347.6194,17.4330425299891,66.25,565.7672,5.46434023991276,66.25,447.9388,12.1063249727372,66.25,519.9697,8.05354416575791,66.25,539.2933,9.12017448200654,null,{"$f":"AW68","v":66.25},{"$f":"AVERAGE(B68,E68,H68,K68,N68,Q68,T68,W68,Z68,AC68,AF68,AI68,AL68,AO68,AR68,AU68,AX68)","v":564.794282352941},{"$f":"AVERAGE(C68,F68,I68,L68,O68,R68,U68,X68,AA68,AD68,AG68,AJ68,AM68,AP68,AS68,AV68,AY68)","v":7.51885303739816},{"$f":"STDEV(B68,E68,H68,K68,N68,Q68,T68,W68,Z68,AC68,AF68,AI68,AL68,AO68,AR68,AU68,AX68)","v":94.1293681499445},{"$f":"STDEV(C68,F68,I68,L68,O68,R68,U68,X68,AA68,AD68,AG68,AJ68,AM68,AP68,AS68,AV68,AY68)","v":3.27620699262757}]
[67.5,632.486,5.67862595419847,67.5,585.8412,7.19476553980371,67.5,463.4006,11.0175572519084,67.5,696.862,4.19770992366412,67.5,656.6313,5.08778625954198,67.5,543.2657,8.74165757906216,67.5,620.8111,6.17044711014177,67.5,683.7616,4.18942202835333,67.5,645.9035,5.50588876772083,67.5,546.5767,6.96663031624864,67.5,598.8076,5.70458015267176,67.5,582.815,6.41603053435115,67.5,351.2755,16.4278080697928,67.5,565.1087,5.01864776444929,67.5,383.3137,9.31788440567066,67.5,480.2141,7.98047982551799,67.5,524.5976,9.15779716466739,null,{"$f":"AW69","v":67.5},{"$f":"AVERAGE(B69,E69,H69,K69,N69,Q69,T69,W69,Z69,AC69,AF69,AI69,AL69,AO69,AR69,AU69,AX69)","v":562.451288235294},{"$f":"AVERAGE(C69,F69,I69,L69,O69,R69,U69,X69,AA69,AD69,AG69,AJ69,AM69,AP69,AS69,AV69,AY69)","v":7.33963050869203},{"$f":"STDEV(B69,E69,H69,K69,N69,Q69,T69,W69,Z69,AC69,AF69,AI69,AL69,AO69,AR69,AU69,AX69)","v":98.2758846244965},{"$f":"STDEV(C69,F69,I69,L69,O69,R69,U69,X69,AA69,AD69,AG69,AJ69,AM69,AP69,AS69,AV69,AY69)","v":3.03259398959038}]
[68.75,631.7836,5.70098146128681,68.75,588.7134,7.04078516902944,68.75,451.1299,11.4601962922574,68.75,705.4144,4.03685932388223,68.75,626.4764,5.19203925845147,68.75,542.9193,8.5206106870229,68.75,625.9293,5.96826608505998,68.75,677.577,4.19040348964013,68.75,641.3113,5.57546346782988,68.75,585.9205,6.28833151581243,68.75,597.0666,5.58364231188659,68.75,601.4454,6.7196292257361,68.75,354.7076,16.2956379498364,68.75,531.8613,5.19727371864776,68.75,359.5707,7.70556161395856,68.75,411.6525,8.09607415485278,68.75,528.0527,9.47001090512541,null,{"$f":"AW70","v":68.75},{"$f":"AVERAGE(B70,E70,H70,K70,N70,Q70,T70,W70,Z70,AC70,AF70,AI70,AL70,AO70,AR70,AU70,AX70)","v":556.5607},{"$f":"AVERAGE(C70,F70,I70,L70,O70,R70,U70,X70,AA70,AD70,AG70,AJ70,AM70,AP70,AS70,AV70,AY70)","v":7.2377509782539},{"$f":"STDEV(B70,E70,H70,K70,N70,Q70,T70,W70,Z70,AC70,AF70,AI70,AL70,AO70,AR70,AU70,AX70)","v":105.524734080049},{"$f":"STDEV(C70,F70,I70,L70,O70,R70,U70,X70,AA70,AD70,AG70,AJ70,AM70,AP70,AS70,AV70,AY70)","v":3.0209717845873}]
[70,633.0106,5.58636859323882,70,598.7445,6.90152671755725,70,454.7392,12.3862595419847,70,708.8119,3.95343511450382,70,611.1705,5.48233369683751,70,544.9893,8.16477644492912,70,513.9971,6.1,70,686.6212,4.08909487459106,70,640.2866,5.62911668484188,70,625.4525,5.93107960741548,70,608.6825,5.35212649945474,70,597.7689,6.80970556161396,70,359.2357,16.5090512540894,70,528.3354,5.71243184296619,70,419.7922,7.23653217011996,70,418.643,10.1631406761178,70,522.6936,9.05430752453653,null,{"$f":"AW71","v":70},{"$f":"AVERAGE(B71,E71,H71,K71,N71,Q71,T71,W71,Z71,AC71,AF71,AI71,AL71,AO71,AR71,AU71,AX71)","v":557.233805882353},{"$f":"AVERAGE(C71,F71,I71,L71,O71,R71,U71,X71,AA71,AD71,AG71,AJ71,AM71,AP71,AS71,AV71,AY71)","v":7.35654628263519},{"$f":"STDEV(B71,E71,H71,K71,N71,Q71,T71,W71,Z71,AC71,AF71,AI71,AL71,AO71,AR71,AU71,AX71)","v":99.305887109265},{"$f":"STDEV(C71,F71,I71,L71,O71,R71,U71,X71,AA71,AD71,AG71,AJ71,AM71,AP71,AS71,AV71,AY71)","v":3.19392723559333}]
[71.25,639.4878,5.39127589967285,71.25,596.9347,6.79738276990185,71.25,444.0692,12.1460196292257,71.25,710.9629,3.87982551799346,71.25,611.6605,5.80981461286805,71.25,545.0329,7.64689203925845,71.25,496.6036,6.91559432933479,71.25,674.0658,4.246346782988,71.25,642.904,5.6814612868048,71.25,626.5241,5.90348964013086,71.25,608.0016,5.23631406761178,71.25,572.4255,6.85223555070883,71.25,362.256,16.5699018538713,71.25,626.7624,5.56652126499455,71.25,534.1783,6.57153762268266,71.25,413.5944,11.9497273718648,71.25,528.9137,8.46684841875682,null,{"$f":"AW72","v":71.25},{"$f":"AVERAGE(B72,E72,H72,K72,N72,Q72,T72,W72,Z72,AC72,AF72,AI72,AL72,AO72,AR72,AU72,AX72)","v":566.728082352941},{"$f":"AVERAGE(C72,F72,I72,L72,O72,R72,U72,X72,AA72,AD72,AG72,AJ72,AM72,AP72,AS72,AV72,AY72)","v":7.39006992109821},{"$f":"STDEV(B72,E72,H72,K72,N72,Q72,T72,W72,Z72,AC72,AF72,AI72,AL72,AO72,AR72,AU72,AX72)","v":94.6870906941796},{"$f":"STDEV(C72,F72,I72,L72,O72,R72,U72,X72,AA72,AD72,AG72,AJ72,AM72,AP72,AS72,AV72,AY72)","v":3.28091429058141}]
[72.5,652.2881,5.23151581243184,72.5,596.7985,6.57906215921483,72.5,420.8234,12.0394765539804,72.5,715.9162,3.79727371864776,72.5,604.162,6.06673936750273,72.5,547.7099,7.0041439476554,72.5,545.7141,7.54983642311887,72.5,666.5144,4.32628135223555,72.5,642.0731,5.63380588876772,72.5,601.8893,6.17993456924755,72.5,605.8604,5.23217011995638,72.5,546.0691,7.27371864776445,72.5,365.15,16.0031624863686,72.5,643.0136,5.37600872410033,72.5,582.3848,6.47884405670665,72.5,408.4749,12.7761177753544,72.5,545.0871,8.06248636859324,null,{"$f":"AW73","v":72.5},{"$f":"AVERAGE(B73,E73,H73,K73,N73,Q73,T73,W73,Z73,AC73,AF73,AI73,AL73,AO73,AR73,AU73,AX73)","v":569.995817647059},{"$f":"AVERAGE(C73,F73,I73,L73,O73,R73,U73,X73,AA73,AD73,AG73,AJ73,AM73,AP73,AS73,AV73,AY73)","v":7.38885752774393},{"$f":"STDEV(B73,E73,H73,K73,N73,Q73,T73,W73,Z73,AC73,AF73,AI73,AL73,AO73,AR73,AU73,AX73)","v":95.1421399795343},{"$f":"STDEV(C73,F73,I73,L73,O73,R73,U73,X73,AA73,AD73,AG73,AJ73,AM73,AP73,AS73,AV73,AY73)","v":3.24911000747417}]
[73.75,643.5618,5.15452562704471,73.75,613.9065,6.32791712104689,73.75,407.4446,12.6440567066521,73.75,716.8721,3.80076335877863,73.75,586.6475,6.37153762268266,73.75,579.1975,6.35616139585605,73.75,550.9404,8.20185387131952,73.75,680.7932,4.29858233369684,73.75,642.9498,5.57513631406761,73.75,614.3998,6.22835332606325,73.75,617.6745,5.25496183206107,73.75,568.0068,7.80021810250818,73.75,371.436,15.7381679389313,73.75,635.7968,5.27393675027263,73.75,493.5266,6.64940021810251,73.75,386.2454,13.6314067611778,73.75,552.3095,7.79465648854962,null,{"$f":"AW74","v":73.75},{"$f":"AVERAGE(B74,E74,H74,K74,N74,Q74,T74,W74,Z74,AC74,AF74,AI74,AL74,AO74,AR74,AU74,AX74)","v":568.335811764706},{"$f":"AVERAGE(C74,F74,I74,L74,O74,R74,U74,X74,AA74,AD74,AG74,AJ74,AM74,AP74,AS74,AV74,AY74)","v":7.47656680993008},{"$f":"STDEV(B74,E74,H74,K74,N74,Q74,T74,W74,Z74,AC74,AF74,AI74,AL74,AO74,AR74,AU74,AX74)","v":100.480551274095},{"$f":"STDEV(C74,F74,I74,L74,O74,R74,U74,X74,AA74,AD74,AG74,AJ74,AM74,AP74,AS74,AV74,AY74)","v":3.37281971389592}]
[75,645.5774,4.98309705561614,75,620.0144,6.14143947655398,75,393.9252,13.5298800436205,75,717.1614,3.79258451472192,75,586.0348,6.64591057797165,75,619.1108,6.03369683751363,75,557.831,8.44689203925845,75,694.9393,4.21515812431843,75,632.6812,5.66935659760087,75,620.5114,6.09236641221374,75,615.871,5.30970556161396,75,554.0117,8.02769901853871,75,370.7438,15.3050163576881,75,623.0088,5.27579062159215,75,349.3816,6.96346782988004,75,373.9207,14.5100327153762,75,553.1251,7.91799345692475,null,{"$f":"AW75","v":75},{"$f":"AVERAGE(B75,E75,H75,K75,N75,Q75,T75,W75,Z75,AC75,AF75,AI75,AL75,AO75,AR75,AU75,AX75)","v":560.461741176471},{"$f":"AVERAGE(C75,F75,I75,L75,O75,R75,U75,X75,AA75,AD75,AG75,AJ75,AM75,AP75,AS75,AV75,AY75)","v":7.58000513182372},{"$f":"STDEV(B75,E75,H75,K75,N75,Q75,T75,W75,Z75,AC75,AF75,AI75,AL75,AO75,AR75,AU75,AX75)","v":116.326552780035},{"$f":"STDEV(C75,F75,I75,L75,O75,R75,U75,X75,AA75,AD75,AG75,AJ75,AM75,AP75,AS75,AV75,AY75)","v":3.52331019528199}]
[76.25,647.2385,4.87077426390403,76.25,634.277,5.93042529989095,76.25,386.5074,14.5319520174482,76.25,707.4754,3.8608505997819,76.25,566.5876,7.06510359869138,76.25,629.8611,5.90687022900763,76.25,555.8245,8.38724100327154,76.25,666.6638,4.50196292257361,76.25,627.1199,5.77459105779716,76.25,614.4012,5.89989094874591,76.25,614.5622,5.30981461286805,76.25,554.6343,8.34558342420938,76.25,370.1423,15.4466739367503,76.25,633.8152,5.16150490730643,76.25,499.7313,9.46423118865867,76.25,362.7528,15.6288985823337,76.25,537.8603,7.98724100327154,null,{"$f":"AW76","v":76.25},{"$f":"AVERAGE(B76,E76,H76,K76,N76,Q76,T76,W76,Z76,AC76,AF76,AI76,AL76,AO76,AR76,AU76,AX76)","v":565.262047058824},{"$f":"AVERAGE(C76,F76,I76,L76,O76,R76,U76,X76,AA76,AD76,AG76,AJ76,AM76,AP76,AS76,AV76,AY76)","v":7.88668291744179},{"$f":"STDEV(B76,E76,H76,K76,N76,Q76,T76,W76,Z76,AC76,AF76,AI76,AL76,AO76,AR76,AU76,AX76)","v":104.826680247779},{"$f":"STDEV(C76,F76,I76,L76,O76,R76,U76,X76,AA76,AD76,AG76,AJ76,AM76,AP76,AS76,AV76,AY76)","v":3.80682743891921}]
[77.5,630.0848,4.96150490730643,77.5,638.931,5.8298800436205,77.5,379.8635,15.2622682660851,77.5,695.7005,4.03805888767721,77.5,555.0888,7.53456924754635,77.5,631.5211,5.85147219193021,77.5,545.5232,8.10327153762268,77.5,650.035,4.77241003271538,77.5,627.466,5.90185387131952,77.5,605.7213,5.86837513631407,77.5,617.9281,5.22464558342421,77.5,553.1762,8.4009814612868,77.5,374.3711,16.6733914940022,77.5,651.0234,4.99978189749182,77.5,463.2064,9.82857142857143,77.5,355.8161,16.4817884405671,77.5,528.1567,8.34231188658669,null,{"$f":"AW77","v":77.5},{"$f":"AVERAGE(B77,E77,H77,K77,N77,Q77,T77,W77,Z77,AC77,AF77,AI77,AL77,AO77,AR77,AU77,AX77)","v":559.036070588235},{"$f":"AVERAGE(C77,F77,I77,L77,O77,R77,U77,X77,AA77,AD77,AG77,AJ77,AM77,AP77,AS77,AV77,AY77)","v":8.12206684200398},{"$f":"STDEV(B77,E77,H77,K77,N77,Q77,T77,W77,Z77,AC77,AF77,AI77,AL77,AO77,AR77,AU77,AX77)","v":106.156421803957},{"$f":"STDEV(C77,F77,I77,L77,O77,R77,U77,X77,AA77,AD77,AG77,AJ77,AM77,AP77,AS77,AV77,AY77)","v":4.13692911260005}]
[78.75,601.7993,5.21243184296619,78.75,635.2345,5.78789531079607,78.75,383.5402,16.5114503816794,78.75,702.749,4.05616139585605,78.75,542.966,7.90599781897492,78.75,631.3203,5.87121046892039,78.75,547.0629,7.64667393675027,78.75,665.323,4.67415485278081,78.75,632.7387,5.93631406761178,78.75,601.4773,6.19901853871319,78.75,620.813,5.15856052344602,78.75,552.3145,8.31057797164667,78.75,374.6696,16.9923664122137,78.75,643.2507,4.99956379498364,78.75,442.8293,10.4198473282443,78.75,347.6749,17.8690294438386,78.75,519.5748,8.62159214830971,null,{"$f":"AW78","v":78.75},{"$f":"AVERAGE(B78,E78,H78,K78,N78,Q78,T78,W78,Z78,AC78,AF78,AI78,AL78,AO78,AR78,AU78,AX78)","v":555.608117647059},{"$f":"AVERAGE(C78,F78,I78,L78,O78,R78,U78,X78,AA78,AD78,AG78,AJ78,AM78,AP78,AS78,AV78,AY78)","v":8.36310860221951},{"$f":"STDEV(B78,E78,H78,K78,N78,Q78,T78,W78,Z78,AC78,AF78,AI78,AL78,AO78,AR78,AU78,AX78)","v":108.317708273932},{"$f":"STDEV(C78,F78,I78,L78,O78,R78,U78,X78,AA78,AD78,AG78,AJ78,AM78,AP78,AS78,AV78,AY78)","v":4.49531331550687}]
[80,599.157,5.38549618320611,80,636.6124,5.73849509269357,80,383.9724,16.5155943293348,80,704.7308,4.03620501635769,80,546.2219,8.32126499454744,80,634.6452,5.93206106870229,80,554.2433,7.19258451472192,80,669.7862,4.6525627044711,80,630.603,5.94721919302072,80,621.8205,6.18440567066521,80,618.0238,5.13227917121047,80,554.8883,8.19651035986914,80,376.1037,16.4490730643402,80,658.4107,4.87862595419847,80,417.5679,11.5239912758997,80,351.1033,17.9663031624864,80,532.3509,9.04569247546347,null,{"$f":"AW79","v":80},{"$f":"AVERAGE(B79,E79,H79,K79,N79,Q79,T79,W79,Z79,AC79,AF79,AI79,AL79,AO79,AR79,AU79,AX79)","v":558.249488235294},{"$f":"AVERAGE(C79,F79,I79,L79,O79,R79,U79,X79,AA79,AD79,AG79,AJ79,AM79,AP79,AS79,AV79,AY79)","v":8.41755083712875},{"$f":"STDEV(B79,E79,H79,K79,N79,Q79,T79,W79,Z79,AC79,AF79,AI79,AL79,AO79,AR79,AU79,AX79)","v":111.108736155049},{"$f":"STDEV(C79,F79,I79,L79,O79,R79,U79,X79,AA79,AD79,AG79,AJ79,AM79,AP79,AS79,AV79,AY79)","v":4.49438324099553}]
[81.25,604.2495,5.46913849509269,81.25,643.1489,5.68266085059978,81.25,377.9073,16.06586695747,81.25,703.9668,4.03271537622683,81.25,549.697,8.62529989094875,81.25,633.3465,5.93118865866957,81.25,531.8434,6.79618320610687,81.25,661.658,4.79454743729553,81.25,631.0249,5.92737186477644,81.25,619.0983,6.19661941112323,81.25,614.9166,5.0793893129771,81.25,559.4731,8.05888767720829,81.25,378.4533,16.5015267175573,81.25,650.4356,5.00730643402399,81.25,428.5022,13.7405670665213,81.25,359.0818,18.0576881134133,81.25,495.3397,8.33598691384951,null,{"$f":"AW80","v":81.25},{"$f":"AVERAGE(B80,E80,H80,K80,N80,Q80,T80,W80,Z80,AC80,AF80,AI80,AL80,AO80,AR80,AU80,AX80)","v":555.420170588235},{"$f":"AVERAGE(C80,F80,I80,L80,O80,R80,U80,X80,AA80,AD80,AG80,AJ80,AM80,AP80,AS80,AV80,AY80)","v":8.48840849316826},{"$f":"STDEV(B80,E80,H80,K80,N80,Q80,T80,W80,Z80,AC80,AF80,AI80,AL80,AO80,AR80,AU80,AX80)","v":109.984143010991},{"$f":"STDEV(C80,F80,I80,L80,O80,R80,U80,X80,AA80,AD80,AG80,AJ80,AM80,AP80,AS80,AV80,AY80)","v":4.58564603509947}]
[82.5,615.9738,5.45616139585605,82.5,643.5394,5.58527808069793,82.5,375.1758,16.4323882224646,82.5,649.5031,4.61395856052345,82.5,541.7409,8.59291166848419,82.5,406.3313,6.0773173391494,82.5,488.1945,7.2,82.5,658.539,4.85561613958561,82.5,637.7701,5.84133042529989,82.5,609.9485,6.3711014176663,82.5,619.7493,5.06434023991276,82.5,550.6757,7.60665212649945,82.5,377.7733,15.7540894220284,82.5,658.1227,5.02322791712105,82.5,423.3905,13.9438386041439,82.5,363.478,16.6537622682661,82.5,396.4691,8.01145038167939,null,{"$f":"AW81","v":82.5},{"$f":"AVERAGE(B81,E81,H81,K81,N81,Q81,T81,W81,Z81,AC81,AF81,AI81,AL81,AO81,AR81,AU81,AX81)","v":530.375},{"$f":"AVERAGE(C81,F81,I81,L81,O81,R81,U81,X81,AA81,AD81,AG81,AJ81,AM81,AP81,AS81,AV81,AY81)","v":8.41667201231638},{"$f":"STDEV(B81,E81,H81,K81,N81,Q81,T81,W81,Z81,AC81,AF81,AI81,AL81,AO81,AR81,AU81,AX81)","v":115.983896909571},{"$f":"STDEV(C81,F81,I81,L81,O81,R81,U81,X81,AA81,AD81,AG81,AJ81,AM81,AP81,AS81,AV81,AY81)","v":4.3430000648815}]
[83.75,625.1834,5.39367502726281,83.75,649.1692,5.45027262813522,83.75,377.5179,16.9284623773173,83.75,643.8769,5.00447110141767,83.75,536.8343,8.64034896401309,83.75,336.1508,6.5370774263904,83.75,535.545,8.25856052344602,83.75,663.187,4.80087241003272,83.75,641.4562,5.80010905125409,83.75,607.7269,6.33435114503817,83.75,625.8603,5.01613958560523,83.75,574.4478,7.29956379498364,83.75,379.183,15.7043620501636,83.75,638.65,5.19880043620502,83.75,419.3085,13.3299890948746,83.75,372.7869,14.9678298800436,83.75,477.0435,10.3608505997819,null,{"$f":"AW82","v":83.75},{"$f":"AVERAGE(B82,E82,H82,K82,N82,Q82,T82,W82,Z82,AC82,AF82,AI82,AL82,AO82,AR82,AU82,AX82)","v":535.525152941177},{"$f":"AVERAGE(C82,F82,I82,L82,O82,R82,U82,X82,AA82,AD82,AG82,AJ82,AM82,AP82,AS82,AV82,AY82)","v":8.53092565270383},{"$f":"STDEV(B82,E82,H82,K82,N82,Q82,T82,W82,Z82,AC82,AF82,AI82,AL82,AO82,AR82,AU82,AX82)","v":116.80833769525},{"$f":"STDEV(C82,F82,I82,L82,O82,R82,U82,X82,AA82,AD82,AG82,AJ82,AM82,AP82,AS82,AV82,AY82)","v":4.15924455977923}]
[85,615.613,5.41264994547437,85,648.1886,5.33217011995638,85,377.7074,16.6374045801527,85,652.3779,5.17175572519084,85,541.0764,8.55899672846238,85,547.3088,8.19683751363141,85,506.0516,8.7649945474373,85,651.1867,4.94907306434024,85,640.8908,5.7618320610687,85,618.2418,6.24056706652126,85,633.3042,4.94296619411123,85,562.1664,6.89443838604144,85,382.52,15.8125408942203,85,639.1991,5.22497273718648,85,425.3212,12.484187568157,85,390.1411,15.0974918211559,85,487.8328,9.97818974918212,null,{"$f":"AW83","v":85},{"$f":"AVERAGE(B83,E83,H83,K83,N83,Q83,T83,W83,Z83,AC83,AF83,AI83,AL83,AO83,AR83,AU83,AX83)","v":548.183988235294},{"$f":"AVERAGE(C83,F83,I83,L83,O83,R83,U83,X83,AA83,AD83,AG83,AJ83,AM83,AP83,AS83,AV83,AY83)","v":8.55653345307589},{"$f":"STDEV(B83,E83,H83,K83,N83,Q83,T83,W83,Z83,AC83,AF83,AI83,AL83,AO83,AR83,AU83,AX83)","v":102.252510327179},{"$f":"STDEV(C83,F83,I83,L83,O83,R83,U83,X83,AA83,AD83,AG83,AJ83,AM83,AP83,AS83,AV83,AY83)","v":4.05585587244905}]
[86.25,610.7364,5.48429661941112,86.25,659.331,5.19814612868048,86.25,379.7234,16.1007633587786,86.25,657.6285,5.18287895310796,86.25,548.5452,8.48026172300981,86.25,537.0928,8.62322791712105,86.25,508.7745,9.68386041439477,86.25,648.7523,5.13282442748092,86.25,643.2985,5.70436205016358,86.25,622.9724,6.21832061068702,86.25,620.797,5.06270447110142,86.25,565.6579,6.82562704471101,86.25,383.9914,15.6997818974918,86.25,500.5258,5.71395856052345,86.25,440.2559,11.988985823337,86.25,397.6786,14.9471101417666,86.25,497.5185,10.2075245365322,null,{"$f":"AW84","v":86.25},{"$f":"AVERAGE(B84,E84,H84,K84,N84,Q84,T84,W84,Z84,AC84,AF84,AI84,AL84,AO84,AR84,AU84,AX84)","v":542.545888235294},{"$f":"AVERAGE(C84,F84,I84,L84,O84,R84,U84,X84,AA84,AD84,AG84,AJ84,AM84,AP84,AS84,AV84,AY84)","v":8.60321380460581},{"$f":"STDEV(B84,E84,H84,K84,N84,Q84,T84,W84,Z84,AC84,AF84,AI84,AL84,AO84,AR84,AU84,AX84)","v":98.1673574816298},{"$f":"STDEV(C84,F84,I84,L84,O84,R84,U84,X84,AA84,AD84,AG84,AJ84,AM84,AP84,AS84,AV84,AY84)","v":3.91502255628274}]
[87.5,616.1961,5.57579062159215,87.5,660.016,5.12922573609596,87.5,381.4832,15.5095965103599,87.5,655.5283,5.16684841875682,87.5,549.2371,8.5309705561614,87.5,518.5702,8.840239912759,87.5,513.4474,9.94209378407852,87.5,637.143,5.34416575790622,87.5,644.8521,5.64503816793893,87.5,623.2224,6.09094874591058,87.5,606.8649,5.17284623773173,87.5,576.8948,7.14034896401309,87.5,316.5987,8.68124318429662,87.5,387.9467,6.51799345692475,87.5,443.133,11.0413304252999,87.5,402.9047,14.3515812431843,87.5,494.7743,10.4043620501636,null,{"$f":"AW85","v":87.5},{"$f":"AVERAGE(B85,E85,H85,K85,N85,Q85,T85,W85,Z85,AC85,AF85,AI85,AL85,AO85,AR85,AU85,AX85)","v":531.10664117647},{"$f":"AVERAGE(C85,F85,I85,L85,O85,R85,U85,X85,AA85,AD85,AG85,AJ85,AM85,AP85,AS85,AV85,AY85)","v":8.1814484572455},{"$f":"STDEV(B85,E85,H85,K85,N85,Q85,T85,W85,Z85,AC85,AF85,AI85,AL85,AO85,AR85,AU85,AX85)","v":110.405494591002},{"$f":"STDEV(C85,F85,I85,L85,O85,R85,U85,X85,AA85,AD85,AG85,AJ85,AM85,AP85,AS85,AV85,AY85)","v":3.21858012002016}]
[88.75,615.9956,5.65648854961832,88.75,664.6881,4.98102508178844,88.75,387.2116,15.4017448200654,88.75,654.8198,5.20218102508179,88.75,551.9458,8.56859323882225,88.75,508.1018,9.46444929116685,88.75,502.7769,9.11155943293348,88.75,640.3244,5.42671755725191,88.75,647.9147,5.55703380588877,88.75,629.5408,5.96575790621592,88.75,617.0451,5.13544165757906,88.75,558.7389,7.5092693565976,88.75,361.702,8.64874591057797,88.75,541.8195,7.72628135223555,88.75,452.2139,9.63904034896401,88.75,410.504,13.5642311886587,88.75,490.8797,10.7474372955289,null,{"$f":"AW86","v":88.75},{"$f":"AVERAGE(B86,E86,H86,K86,N86,Q86,T86,W86,Z86,AC86,AF86,AI86,AL86,AO86,AR86,AU86,AX86)","v":543.307211764706},{"$f":"AVERAGE(C86,F86,I86,L86,O86,R86,U86,X86,AA86,AD86,AG86,AJ86,AM86,AP86,AS86,AV86,AY86)","v":8.13564693052793},{"$f":"STDEV(B86,E86,H86,K86,N86,Q86,T86,W86,Z86,AC86,AF86,AI86,AL86,AO86,AR86,AU86,AX86)","v":98.3956530374811},{"$f":"STDEV(C86,F86,I86,L86,O86,R86,U86,X86,AA86,AD86,AG86,AJ86,AM86,AP86,AS86,AV86,AY86)","v":3.03599644746669}]
[90,610.8798,5.73173391494002,90,671.5981,4.8442748091603,90,387.6902,15.4199563794984,90,654.9205,5.15627044711014,90,550.1957,8.53642311886587,90,507.958,9.84045801526717,90,506.568,8.18407851690295,90,619.495,5.51788440567066,90,638.1579,5.56608505997819,90,627.1868,5.9917121046892,90,627.4373,5.12290076335878,90,566.0067,7.90785169029444,90,426.3089,8.31570338058888,90,458.7413,7.58375136314068,90,484.1106,8.87448200654308,90,421.5014,12.9551799345692,90,470.7696,10.4628135223555,null,{"$f":"AW87","v":90},{"$f":"AVERAGE(B87,E87,H87,K87,N87,Q87,T87,W87,Z87,AC87,AF87,AI87,AL87,AO87,AR87,AU87,AX87)","v":542.913282352941},{"$f":"AVERAGE(C87,F87,I87,L87,O87,R87,U87,X87,AA87,AD87,AG87,AJ87,AM87,AP87,AS87,AV87,AY87)","v":8.00067996664315},{"$f":"STDEV(B87,E87,H87,K87,N87,Q87,T87,W87,Z87,AC87,AF87,AI87,AL87,AO87,AR87,AU87,AX87)","v":91.5886493057699},{"$f":"STDEV(C87,F87,I87,L87,O87,R87,U87,X87,AA87,AD87,AG87,AJ87,AM87,AP87,AS87,AV87,AY87)","v":2.93700799906083}]
[91.25,604.5365,5.80076335877863,91.25,678.6506,4.69203925845147,91.25,387.0109,15.5922573609597,91.25,663.2577,4.99989094874591,91.25,547.871,8.37808069792803,91.25,507.0107,9.97306434023991,91.25,535.2211,7.73511450381679,91.25,611.7317,5.61155943293348,91.25,623.7924,5.74198473282443,91.25,607.4377,6.20599781897492,91.25,616.5977,5.19945474372955,91.25,566.7177,8,91.25,480.5334,8.06543075245365,91.25,415.9158,8.74623773173392,91.25,511.3992,8.58484187568157,91.25,425.6277,11.5787350054526,91.25,451.8302,10.7715376226827,null,{"$f":"AW88","v":91.25},{"$f":"AVERAGE(B88,E88,H88,K88,N88,Q88,T88,W88,Z88,AC88,AF88,AI88,AL88,AO88,AR88,AU88,AX88)","v":543.243647058824},{"$f":"AVERAGE(C88,F88,I88,L88,O88,R88,U88,X88,AA88,AD88,AG88,AJ88,AM88,AP88,AS88,AV88,AY88)","v":7.98099942266983},{"$f":"STDEV(B88,E88,H88,K88,N88,Q88,T88,W88,Z88,AC88,AF88,AI88,AL88,AO88,AR88,AU88,AX88)","v":89.0515631891793},{"$f":"STDEV(C88,F88,I88,L88,O88,R88,U88,X88,AA88,AD88,AG88,AJ88,AM88,AP88,AS88,AV88,AY88)","v":2.84801425250676}]
[92.5,601.2602,5.77262813522356,92.5,686.0542,4.54056706652127,92.5,384.7242,15.4467829880044,92.5,641.0131,5.19890948745911,92.5,544.8496,8.03424209378408,92.5,510.8662,9.89029443838604,92.5,543.3783,7.62486368593239,92.5,621.8232,5.66052344601963,92.5,619.5472,6.00872410032715,92.5,609.5227,6.4608505997819,92.5,613.0273,5.2350054525627,92.5,567.1672,7.96150490730643,92.5,519.2479,8.06161395856052,92.5,424.8381,10.3910577971647,92.5,527.6988,8.0474372955289,92.5,437.251,10.624427480916,92.5,419.426,10.7754634678299,null,{"$f":"AW89","v":92.5},{"$f":"AVERAGE(B89,E89,H89,K89,N89,Q89,T89,W89,Z89,AC89,AF89,AI89,AL89,AO89,AR89,AU89,AX89)","v":545.393835294118},{"$f":"AVERAGE(C89,F89,I89,L89,O89,R89,U89,X89,AA89,AD89,AG89,AJ89,AM89,AP89,AS89,AV89,AY89)","v":7.98440567066522},{"$f":"STDEV(B89,E89,H89,K89,N89,Q89,T89,W89,Z89,AC89,AF89,AI89,AL89,AO89,AR89,AU89,AX89)","v":87.5553053694202},{"$f":"STDEV(C89,F89,I89,L89,O89,R89,U89,X89,AA89,AD89,AG89,AJ89,AM89,AP89,AS89,AV89,AY89)","v":2.7806084561463}]
[93.75,608.3611,5.74612868047983,93.75,685.1866,4.54372955288986,93.75,382.8311,15.5415485278081,93.75,642.4548,5.42529989094875,93.75,557.5805,7.62540894220284,93.75,509.4526,9.71079607415485,93.75,508.8311,7.80370774263904,93.75,622.5978,5.69018538713195,93.75,626.3106,6.17273718647764,93.75,610.2507,6.56303162486369,93.75,619.1681,5.26488549618321,93.75,558.5562,7.59149400218103,93.75,532.2036,8.30163576881134,93.75,425.2028,11.4986913849509,93.75,532.2534,7.96139585605234,93.75,447.4706,11.3611777535442,93.75,426.9721,13.0242093784079,null,{"$f":"AW90","v":93.75},{"$f":"AVERAGE(B90,E90,H90,K90,N90,Q90,T90,W90,Z90,AC90,AF90,AI90,AL90,AO90,AR90,AU90,AX90)","v":546.804923529412},{"$f":"AVERAGE(C90,F90,I90,L90,O90,R90,U90,X90,AA90,AD90,AG90,AJ90,AM90,AP90,AS90,AV90,AY90)","v":8.22506254410161},{"$f":"STDEV(B90,E90,H90,K90,N90,Q90,T90,W90,Z90,AC90,AF90,AI90,AL90,AO90,AR90,AU90,AX90)","v":87.6188912792251},{"$f":"STDEV(C90,F90,I90,L90,O90,R90,U90,X90,AA90,AD90,AG90,AJ90,AM90,AP90,AS90,AV90,AY90)","v":3.06221525314678}]
[95,615.495,5.78909487459106,95,665.5227,4.79509269356598,95,384.1137,15.4813522355507,95,645.3806,5.45234460196292,95,568.5396,7.34514721919302,95,506.4826,9.28593238822247,95,502.2514,8.35932388222465,95,624.4306,5.65714285714286,95,622.8061,6.24111232279171,95,604.0084,6.66641221374046,95,616.5957,5.22846237731734,95,544.8738,7.30436205016358,95,531.4151,8.67262813522355,95,420.3493,11.3882224645583,95,249.5951,6.39334787350055,95,450.5694,12.3262813522356,95,420.5326,13.7428571428571,null,{"$f":"AW91","v":95},{"$f":"AVERAGE(B91,E91,H91,K91,N91,Q91,T91,W91,Z91,AC91,AF91,AI91,AL91,AO91,AR91,AU91,AX91)","v":527.821276470588},{"$f":"AVERAGE(C91,F91,I91,L91,O91,R91,U91,X91,AA91,AD91,AG91,AJ91,AM91,AP91,AS91,AV91,AY91)","v":8.2428892167554},{"$f":"STDEV(B91,E91,H91,K91,N91,Q91,T91,W91,Z91,AC91,AF91,AI91,AL91,AO91,AR91,AU91,AX91)","v":112.547453128728},{"$f":"STDEV(C91,F91,I91,L91,O91,R91,U91,X91,AA91,AD91,AG91,AJ91,AM91,AP91,AS91,AV91,AY91)","v":3.19733039078413}]
[96.25,609.9979,5.7370774263904,96.25,649.8425,5.10468920392585,96.25,386.3102,15.6887677208288,96.25,643.836,5.47895310796074,96.25,576.3519,6.94449291166848,96.25,517.9694,8.92966194111232,96.25,457.9047,8.80021810250818,96.25,624.7838,5.64296619411123,96.25,618.545,6.33751363140676,96.25,601.357,6.73620501635769,96.25,624.0315,5.16346782988004,96.25,535.7578,7.64242093784079,96.25,531.4119,8.87404580152672,96.25,410.6052,11.9695747001091,96.25,382.2375,9.19051254089422,96.25,441.4274,12.229225736096,96.25,423.7131,14.7709923664122,null,{"$f":"AW92","v":96.25},{"$f":"AVERAGE(B92,E92,H92,K92,N92,Q92,T92,W92,Z92,AC92,AF92,AI92,AL92,AO92,AR92,AU92,AX92)","v":531.534282352941},{"$f":"AVERAGE(C92,F92,I92,L92,O92,R92,U92,X92,AA92,AD92,AG92,AJ92,AM92,AP92,AS92,AV92,AY92)","v":8.5435755981782},{"$f":"STDEV(B92,E92,H92,K92,N92,Q92,T92,W92,Z92,AC92,AF92,AI92,AL92,AO92,AR92,AU92,AX92)","v":96.1256311389569},{"$f":"STDEV(C92,F92,I92,L92,O92,R92,U92,X92,AA92,AD92,AG92,AJ92,AM92,AP92,AS92,AV92,AY92)","v":3.31977062378623}]
[97.5,604.7578,5.68680479825518,97.5,655.406,5.16782988004362,97.5,384.7225,15.6866957470011,97.5,617.7764,5.58527808069793,97.5,590.8733,6.82628135223555,97.5,515.7773,8.0608505997819,97.5,483.1385,10.3888767720829,97.5,626.3243,5.66466739367503,97.5,613.6222,6.46772082878953,97.5,604.4664,6.76564885496183,97.5,611.0559,5.2113413304253,97.5,548.8665,8.17818974918212,97.5,531.0855,8.93260632497274,97.5,395.6432,12.2971646673937,97.5,410.8712,12.2237731733915,97.5,432.8581,12.5151581243184,97.5,422.1178,14.6324972737186,null,{"$f":"AW93","v":97.5},{"$f":"AVERAGE(B93,E93,H93,K93,N93,Q93,T93,W93,Z93,AC93,AF93,AI93,AL93,AO93,AR93,AU93,AX93)","v":532.315464705882},{"$f":"AVERAGE(C93,F93,I93,L93,O93,R93,U93,X93,AA93,AD93,AG93,AJ93,AM93,AP93,AS93,AV93,AY93)","v":8.8406697029957},{"$f":"STDEV(B93,E93,H93,K93,N93,Q93,T93,W93,Z93,AC93,AF93,AI93,AL93,AO93,AR93,AU93,AX93)","v":92.9382694731222},{"$f":"STDEV(C93,F93,I93,L93,O93,R93,U93,X93,AA93,AD93,AG93,AJ93,AM93,AP93,AS93,AV93,AY93)","v":3.46453379002731}]
[98.75,600.1641,5.7515812431843,98.75,607.5309,5.58331515812432,98.75,383.4714,14.5182115594329,98.75,586.1263,5.90774263904035,98.75,537.2067,6.6856052344602,98.75,487.8309,7.56194111232279,98.75,468.907,10.7678298800436,98.75,622.9123,5.65376226826608,98.75,612.6103,6.57044711014177,98.75,590.7072,6.7835332606325,98.75,621.1252,5.00588876772083,98.75,542.146,8.40905125408942,98.75,524.9827,8.77600872410033,98.75,390.6709,13.4526717557252,98.75,421.9394,14.2652126499455,98.75,427.7981,13.0509269356598,98.75,422.6584,14.4884405670665,null,{"$f":"AW94","v":98.75},{"$f":"AVERAGE(B94,E94,H94,K94,N94,Q94,T94,W94,Z94,AC94,AF94,AI94,AL94,AO94,AR94,AU94,AX94)","v":520.516929411765},{"$f":"AVERAGE(C94,F94,I94,L94,O94,R94,U94,X94,AA94,AD94,AG94,AJ94,AM94,AP94,AS94,AV94,AY94)","v":9.01365706587978},{"$f":"STDEV(B94,E94,H94,K94,N94,Q94,T94,W94,Z94,AC94,AF94,AI94,AL94,AO94,AR94,AU94,AX94)","v":86.6980146336175},{"$f":"STDEV(C94,F94,I94,L94,O94,R94,U94,X94,AA94,AD94,AG94,AJ94,AM94,AP94,AS94,AV94,AY94)","v":3.58147994299149}]
[100,600.3932,5.70239912758997,100,638.3788,5.72050163576881,100,391.9211,14.2517993456925,100,604.4947,6.07480916030534,100,500.1448,7.18157033805889,100,435.4027,8.11537622682661,100,435.5377,10.3374045801527,100,627.8452,5.62628135223555,100,603.0728,6.66935659760087,100,584.9391,6.9051254089422,100,617.0018,5.0236641221374,100,549.0688,8.45474372955289,100,527.98,8.63129770992367,100,389.74,13.9793893129771,100,415.3378,14.2617230098146,100,424.0048,13.4612868047983,100,421.9587,13.9535441657579,null,{"$f":"AW95","v":100},{"$f":"AVERAGE(B95,E95,H95,K95,N95,Q95,T95,W95,Z95,AC95,AF95,AI95,AL95,AO95,AR95,AU95,AX95)","v":515.718941176471},{"$f":"AVERAGE(C95,F95,I95,L95,O95,R95,U95,X95,AA95,AD95,AG95,AJ95,AM95,AP95,AS95,AV95,AY95)","v":9.07942780165501},{"$f":"STDEV(B95,E95,H95,K95,N95,Q95,T95,W95,Z95,AC95,AF95,AI95,AL95,AO95,AR95,AU95,AX95)","v":92.9412511184758},{"$f":"STDEV(C95,F95,I95,L95,O95,R95,U95,X95,AA95,AD95,AG95,AJ95,AM95,AP95,AS95,AV95,AY95)","v":3.51697367755816}]
[101.25,564.8727,5.83064340239913,101.25,640.1054,5.71592148309706,101.25,398.1336,14.2991275899673,101.25,600.8943,6.34721919302072,101.25,487.9105,7.69738276990185,101.25,491.0109,10.1648854961832,101.25,443.2701,12.5432933478735,101.25,632.9139,5.60970556161396,101.25,601.2747,6.73162486368593,101.25,595.8979,6.79967284623773,101.25,623.9189,5.12170119956379,101.25,556.1138,8.4370774263904,101.25,531.9684,8.67699018538713,101.25,388.6586,13.6331515812432,101.25,406.5151,14.1568157033806,101.25,413.523,13.5941112322792,101.25,425.3345,13.2920392584515,null,{"$f":"AW96","v":101.25},{"$f":"AVERAGE(B96,E96,H96,K96,N96,Q96,T96,W96,Z96,AC96,AF96,AI96,AL96,AO96,AR96,AU96,AX96)","v":517.783311764706},{"$f":"AVERAGE(C96,F96,I96,L96,O96,R96,U96,X96,AA96,AD96,AG96,AJ96,AM96,AP96,AS96,AV96,AY96)","v":9.33243312592212},{"$f":"STDEV(B96,E96,H96,K96,N96,Q96,T96,W96,Z96,AC96,AF96,AI96,AL96,AO96,AR96,AU96,AX96)","v":91.2752431281539},{"$f":"STDEV(C96,F96,I96,L96,O96,R96,U96,X96,AA96,AD96,AG96,AJ96,AM96,AP96,AS96,AV96,AY96)","v":3.48396120394731}]
[102.5,554.1501,6.22377317339149,102.5,633.2062,5.74034896401309,102.5,397.7689,14.3473282442748,102.5,609.3948,6.48484187568157,102.5,322.0658,7.18942202835333,102.5,477.315,10.3559432933479,102.5,443.1214,12.8689203925845,102.5,626.9934,5.63784078516903,102.5,605.6731,6.67928026172301,102.5,608.8833,6.68735005452563,102.5,609.6151,5.28505997818975,102.5,555.296,8.32410032715376,102.5,526.9642,8.58069792802617,102.5,391.4084,13.2139585605234,102.5,390.5831,13.709814612868,102.5,413.7243,14.5304252998909,102.5,433.1602,13.0091603053435,null,{"$f":"AW97","v":102.5},{"$f":"AVERAGE(B97,E97,H97,K97,N97,Q97,T97,W97,Z97,AC97,AF97,AI97,AL97,AO97,AR97,AU97,AX97)","v":505.842547058823},{"$f":"AVERAGE(C97,F97,I97,L97,O97,R97,U97,X97,AA97,AD97,AG97,AJ97,AM97,AP97,AS97,AV97,AY97)","v":9.34519212265059},{"$f":"STDEV(B97,E97,H97,K97,N97,Q97,T97,W97,Z97,AC97,AF97,AI97,AL97,AO97,AR97,AU97,AX97)","v":102.637025301369},{"$f":"STDEV(C97,F97,I97,L97,O97,R97,U97,X97,AA97,AD97,AG97,AJ97,AM97,AP97,AS97,AV97,AY97)","v":3.48553035603511}]
[103.75,455.9617,6.2082878953108,103.75,633.9362,5.77099236641221,103.75,397.7983,14.3516902944384,103.75,604.7225,6.43893129770992,103.75,419.5153,10.3043620501636,103.75,469.9059,10.9515812431843,103.75,440.6909,13.1907306434024,103.75,625.2887,5.58833151581243,103.75,609.3614,6.6298800436205,103.75,612.4035,6.65932388222465,103.75,609.4194,5.33904034896401,103.75,554.2581,7.85125408942203,103.75,526.8146,8.60905125408942,103.75,395.668,13.2592148309706,103.75,381.5133,14.4393675027263,103.75,414.3579,14.6225736095965,103.75,438.8186,12.2815703380589,null,{"$f":"AW98","v":103.75},{"$f":"AVERAGE(B98,E98,H98,K98,N98,Q98,T98,W98,Z98,AC98,AF98,AI98,AL98,AO98,AR98,AU98,AX98)","v":505.319664705882},{"$f":"AVERAGE(C98,F98,I98,L98,O98,R98,U98,X98,AA98,AD98,AG98,AJ98,AM98,AP98,AS98,AV98,AY98)","v":9.55859901212394},{"$f":"STDEV(B98,E98,H98,K98,N98,Q98,T98,W98,Z98,AC98,AF98,AI98,AL98,AO98,AR98,AU98,AX98)","v":94.74950051272},{"$f":"STDEV(C98,F98,I98,L98,O98,R98,U98,X98,AA98,AD98,AG98,AJ98,AM98,AP98,AS98,AV98,AY98)","v":3.52586841816574}]
[105,278.6839,6.0443838604144,105,618.966,5.81657579062159,105,400.6515,14.4197382769902,105,603.243,6.1474372955289,105,453.1981,9.79193020719738,105,472.582,11.3237731733915,105,442.9984,13.537840785169,105,634.1449,5.4752453653217,105,611.6953,6.55245365321701,105,612.5174,6.56434023991276,105,621.2935,5.19291166848419,105,561.8225,7.40959651035987,105,524.9929,8.42126499454744,105,398.6562,13.160959651036,105,362.4519,13.4859323882225,105,416.9887,14.3139585605234,105,430.9015,10.9526717557252,null,{"$f":"AW99","v":105},{"$f":"AVERAGE(B99,E99,H99,K99,N99,Q99,T99,W99,Z99,AC99,AF99,AI99,AL99,AO99,AR99,AU99,AX99)","v":496.811041176471},{"$f":"AVERAGE(C99,F99,I99,L99,O99,R99,U99,X99,AA99,AD99,AG99,AJ99,AM99,AP99,AS99,AV99,AY99)","v":9.33005965745077},{"$f":"STDEV(B99,E99,H99,K99,N99,Q99,T99,W99,Z99,AC99,AF99,AI99,AL99,AO99,AR99,AU99,AX99)","v":109.780063204789},{"$f":"STDEV(C99,F99,I99,L99,O99,R99,U99,X99,AA99,AD99,AG99,AJ99,AM99,AP99,AS99,AV99,AY99)","v":3.46717600553535}]
[106.25,127.3395,5.91995637949836,106.25,609.3464,5.94612868047983,106.25,401.0009,14.2706652126499,106.25,605.6272,5.74580152671756,106.25,367.9187,7.27371864776445,106.25,472.1356,11.0130861504907,106.25,442.8865,13.1441657579062,106.25,635.9095,5.47415485278081,106.25,616.0412,6.48505997818975,106.25,613.7479,6.38735005452563,106.25,631.4559,5.07142857142857,106.25,580.7041,7.31363140676118,106.25,515.9561,8.1164667393675,106.25,402.4285,12.6729552889858,106.25,356.148,14.8109051254089,106.25,415.0098,12.791494002181,106.25,419.5761,11.132933478735,null,{"$f":"AW100","v":106.25},{"$f":"AVERAGE(B100,E100,H100,K100,N100,Q100,T100,W100,Z100,AC100,AF100,AI100,AL100,AO100,AR100,AU100,AX100)","v":483.131288235294},{"$f":"AVERAGE(C100,F100,I100,L100,O100,R100,U100,X100,AA100,AD100,AG100,AJ100,AM100,AP100,AS100,AV100,AY100)","v":9.03352363846301},{"$f":"STDEV(B100,E100,H100,K100,N100,Q100,T100,W100,Z100,AC100,AF100,AI100,AL100,AO100,AR100,AU100,AX100)","v":137.219195442315},{"$f":"STDEV(C100,F100,I100,L100,O100,R100,U100,X100,AA100,AD100,AG100,AJ100,AM100,AP100,AS100,AV100,AY100)","v":3.46583979299597}]
[107.5,452.205,9.24427480916031,107.5,611.6699,6.13380588876772,107.5,326.7662,8.45539803707743,107.5,635.0626,5.15387131952017,107.5,477.7397,6.6659760087241,107.5,481.4854,10.9360959651036,107.5,442.8539,12.2434023991276,107.5,635.3851,5.44667393675027,107.5,617.2598,6.41352235550709,107.5,623.7774,6.23227917121047,107.5,609.6012,5.26957470010905,107.5,568.1142,7.45757906215921,107.5,486.3511,8.2340239912759,107.5,405.4509,12.6789531079607,107.5,366.3242,14.6532170119956,107.5,429.051,12.073173391494,107.5,427.1278,12.8237731733915,null,{"$f":"AW101","v":107.5},{"$f":"AVERAGE(B101,E101,H101,K101,N101,Q101,T101,W101,Z101,AC101,AF101,AI101,AL101,AO101,AR101,AU101,AX101)","v":505.660317647059},{"$f":"AVERAGE(C101,F101,I101,L101,O101,R101,U101,X101,AA101,AD101,AG101,AJ101,AM101,AP101,AS101,AV101,AY101)","v":8.83032907819616},{"$f":"STDEV(B101,E101,H101,K101,N101,Q101,T101,W101,Z101,AC101,AF101,AI101,AL101,AO101,AR101,AU101,AX101)","v":102.456291354638},{"$f":"STDEV(C101,F101,I101,L101,O101,R101,U101,X101,AA101,AD101,AG101,AJ101,AM101,AP101,AS101,AV101,AY101)","v":3.12257657301989}]
[108.75,457.061,9.82704471101418,108.75,621.0931,6.17502726281352,108.75,333.2809,7.3330425299891,108.75,657.8387,4.89160305343511,108.75,558.3685,6.37982551799346,108.75,482.7289,10.2929116684842,108.75,443.2677,10.79760087241,108.75,618.2574,5.26237731733915,108.75,616.4252,6.34383860414395,108.75,623.8808,6.2412213740458,108.75,611.3959,5.41592148309706,108.75,567.5331,7.72279171210469,108.75,476.9817,9.0412213740458,108.75,410.1683,12.4640130861505,108.75,381.0378,14.749945474373,108.75,442.4586,11.4957470010905,108.75,421.167,13.5721919302072,null,{"$f":"AW102","v":108.75},{"$f":"AVERAGE(B102,E102,H102,K102,N102,Q102,T102,W102,Z102,AC102,AF102,AI102,AL102,AO102,AR102,AU102,AX102)","v":513.114388235294},{"$f":"AVERAGE(C102,F102,I102,L102,O102,R102,U102,X102,AA102,AD102,AG102,AJ102,AM102,AP102,AS102,AV102,AY102)","v":8.70625441016101},{"$f":"STDEV(B102,E102,H102,K102,N102,Q102,T102,W102,Z102,AC102,AF102,AI102,AL102,AO102,AR102,AU102,AX102)","v":101.657712848355},{"$f":"STDEV(C102,F102,I102,L102,O102,R102,U102,X102,AA102,AD102,AG102,AJ102,AM102,AP102,AS102,AV102,AY102)","v":3.10174333388593}]
[110,469.2734,9.52453653217012,110,628.446,5.9711014176663,110,454.408,7.23784078516903,110,649.4264,5.05954198473282,110,514.4263,6.39934569247546,110,492.3907,9.70545256270447,110,463.7925,10.0111232279171,110,658.1534,4.90490730643402,110,620.6397,6.3,110,621.4185,6.17971646673937,110,600.8987,5.49051254089422,110,565.7387,7.81177753544166,110,474.0895,9.49411123227917,110,423.1915,12.6101417666303,110,383.3828,15.4135223555071,110,459.4704,12.1480916030534,110,416.4844,14.3316248636859,null,{"$f":"AW103","v":110},{"$f":"AVERAGE(B103,E103,H103,K103,N103,Q103,T103,W103,Z103,AC103,AF103,AI103,AL103,AO103,AR103,AU103,AX103)","v":523.272405882353},{"$f":"AVERAGE(C103,F103,I103,L103,O103,R103,U103,X103,AA103,AD103,AG103,AJ103,AM103,AP103,AS103,AV103,AY103)","v":8.74078516902944},{"$f":"STDEV(B103,E103,H103,K103,N103,Q103,T103,W103,Z103,AC103,AF103,AI103,AL103,AO103,AR103,AU103,AX103)","v":90.7669008579427},{"$f":"STDEV(C103,F103,I103,L103,O103,R103,U103,X103,AA103,AD103,AG103,AJ103,AM103,AP103,AS103,AV103,AY103)","v":3.29499950257226}]
[111.25,475.4304,8.63435114503817,111.25,633.6689,5.79389312977099,111.25,501.4584,6.70992366412214,111.25,662.0987,5.04427480916031,111.25,497.8352,6.86466739367503,111.25,497.3389,8.89509269356598,111.25,486.7145,9.51777535441658,111.25,664.2106,4.76019629225736,111.25,621.9336,6.28331515812432,111.25,621.032,5.97971646673937,111.25,596.5815,5.3763358778626,111.25,565.8294,7.93129770992366,111.25,489.8016,9.75038167938931,111.25,422.9814,12.3050163576881,111.25,385.9769,15.8672846237732,111.25,463.0551,12.1712104689204,111.25,417.5317,14.9020719738277,null,{"$f":"AW104","v":111.25},{"$f":"AVERAGE(B104,E104,H104,K104,N104,Q104,T104,W104,Z104,AC104,AF104,AI104,AL104,AO104,AR104,AU104,AX104)","v":529.6164},{"$f":"AVERAGE(C104,F104,I104,L104,O104,R104,U104,X104,AA104,AD104,AG104,AJ104,AM104,AP104,AS104,AV104,AY104)","v":8.63451792930913},{"$f":"STDEV(B104,E104,H104,K104,N104,Q104,T104,W104,Z104,AC104,AF104,AI104,AL104,AO104,AR104,AU104,AX104)","v":89.2231923845897},{"$f":"STDEV(C104,F104,I104,L104,O104,R104,U104,X104,AA104,AD104,AG104,AJ104,AM104,AP104,AS104,AV104,AY104)","v":3.4110233683645}]
[112.5,476.3406,8.44242093784079,112.5,634.6576,5.57589967284624,112.5,557.3148,6.42224645583424,112.5,668.9573,4.96673936750273,112.5,542.5263,6.81668484187568,112.5,512.299,7.98266085059978,112.5,489.1234,8.81352235550709,112.5,676.5735,4.62562704471101,112.5,620.2611,6.32377317339149,112.5,631.6129,5.65997818974918,112.5,613.6554,5.17971646673937,112.5,567.8961,7.93598691384951,112.5,495.3678,9.29323882224646,112.5,425.5867,12.4136314067612,112.5,390.3274,14.8680479825518,112.5,447.2289,10.7339149400218,112.5,415.7373,13.8260632497274,null,{"$f":"AW105","v":112.5},{"$f":"AVERAGE(B105,E105,H105,K105,N105,Q105,T105,W105,Z105,AC105,AF105,AI105,AL105,AO105,AR105,AU105,AX105)","v":539.145064705882},{"$f":"AVERAGE(C105,F105,I105,L105,O105,R105,U105,X105,AA105,AD105,AG105,AJ105,AM105,AP105,AS105,AV105,AY105)","v":8.22824427480916},{"$f":"STDEV(B105,E105,H105,K105,N105,Q105,T105,W105,Z105,AC105,AF105,AI105,AL105,AO105,AR105,AU105,AX105)","v":91.6905517903354},{"$f":"STDEV(C105,F105,I105,L105,O105,R105,U105,X105,AA105,AD105,AG105,AJ105,AM105,AP105,AS105,AV105,AY105)","v":3.12558624890976}]
[113.75,466.1414,9.27786259541985,113.75,650.7681,5.26761177753544,113.75,601.1978,6.1226826608506,113.75,666.3014,4.92562704471101,113.75,583.7035,6.48255179934569,113.75,518.4869,7.26259541984733,113.75,488.8571,7.91570338058888,113.75,658.5841,4.8453653217012,113.75,615.7962,6.30501635768811,113.75,644.8644,5.4381679389313,113.75,621.7636,5.01406761177754,113.75,568.1078,7.71570338058888,113.75,501.8509,8.92115594329335,113.75,432.6242,12.5405670665213,113.75,390.058,13.129225736096,113.75,465.4833,10.159760087241,113.75,417.6921,12.7202835332606,null,{"$f":"AW106","v":113.75},{"$f":"AVERAGE(B106,E106,H106,K106,N106,Q106,T106,W106,Z106,AC106,AF106,AI106,AL106,AO106,AR106,AU106,AX106)","v":546.604752941177},{"$f":"AVERAGE(C106,F106,I106,L106,O106,R106,U106,X106,AA106,AD106,AG106,AJ106,AM106,AP106,AS106,AV106,AY106)","v":7.88493809737635},{"$f":"STDEV(B106,E106,H106,K106,N106,Q106,T106,W106,Z106,AC106,AF106,AI106,AL106,AO106,AR106,AU106,AX106)","v":92.1708021151365},{"$f":"STDEV(C106,F106,I106,L106,O106,R106,U106,X106,AA106,AD106,AG106,AJ106,AM106,AP106,AS106,AV106,AY106)","v":2.82630042332881}]
[115,457.4466,10.0514721919302,115,665.2899,5.07230098146129,115,608.6598,5.83980370774264,115,670.3253,4.78102508178844,115,579.7042,6.21941112322792,115,565.1634,6.56215921483097,115,530.2454,7.41570338058888,115,662.2307,4.913413304253,115,625.8776,6.10534351145038,115,647.3146,5.26510359869139,115,626.721,4.95169029443839,115,577.0914,7.52093784078517,115,481.4961,7.87437295528899,115,431.2141,12.0230098146129,115,403.9851,11.7,115,487.894,10.8576881134133,115,427.1446,12.3872410032715,null,{"$f":"AW107","v":115},{"$f":"AVERAGE(B107,E107,H107,K107,N107,Q107,T107,W107,Z107,AC107,AF107,AI107,AL107,AO107,AR107,AU107,AX107)","v":555.753164705882},{"$f":"AVERAGE(C107,F107,I107,L107,O107,R107,U107,X107,AA107,AD107,AG107,AJ107,AM107,AP107,AS107,AV107,AY107)","v":7.62003977163384},{"$f":"STDEV(B107,E107,H107,K107,N107,Q107,T107,W107,Z107,AC107,AF107,AI107,AL107,AO107,AR107,AU107,AX107)","v":91.5949067877681},{"$f":"STDEV(C107,F107,I107,L107,O107,R107,U107,X107,AA107,AD107,AG107,AJ107,AM107,AP107,AS107,AV107,AY107)","v":2.71978805645611}]
[116.25,440.4242,10.4954198473282,116.25,665.6201,4.99225736095965,116.25,621.7979,5.49563794983642,116.25,676.5032,4.60774263904035,116.25,596.5419,5.8639040348964,116.25,608.8034,6.33020719738277,116.25,568.2803,7.61286804798255,116.25,655.7344,4.94460196292257,116.25,634.244,6.01417666303162,116.25,654.7379,5.02355507088332,116.25,626.4927,4.96859323882225,116.25,573.6657,7.2576881134133,116.25,513.3193,6.86205016357688,116.25,431.753,11.5937840785169,116.25,430.2128,12.0046892039258,116.25,479.6513,10.7968375136314,116.25,438.1382,12.0151581243184,null,{"$f":"AW108","v":116.25},{"$f":"AVERAGE(B108,E108,H108,K108,N108,Q108,T108,W108,Z108,AC108,AF108,AI108,AL108,AO108,AR108,AU108,AX108)","v":565.642370588235},{"$f":"AVERAGE(C108,F108,I108,L108,O108,R108,U108,X108,AA108,AD108,AG108,AJ108,AM108,AP108,AS108,AV108,AY108)","v":7.46348065943935},{"$f":"STDEV(B108,E108,H108,K108,N108,Q108,T108,W108,Z108,AC108,AF108,AI108,AL108,AO108,AR108,AU108,AX108)","v":90.5290831521269},{"$f":"STDEV(C108,F108,I108,L108,O108,R108,U108,X108,AA108,AD108,AG108,AJ108,AM108,AP108,AS108,AV108,AY108)","v":2.75828902406616}]
[117.5,439.4621,11.0631406761178,117.5,659.5519,4.94667393675027,117.5,625.859,5.22802617230098,117.5,662.4329,4.76630316248637,117.5,622.985,5.65321701199564,117.5,624.6506,6.20370774263904,117.5,558.8159,7.43031624863686,117.5,650.6246,5.0196292257361,117.5,629.7013,6.05605234460196,117.5,613.88,5.09400218102508,117.5,632.5091,4.98058887677208,117.5,576.9051,6.87699018538713,117.5,553.6993,6.18386041439477,117.5,437.2101,11.6027262813522,117.5,447.8219,12.2456924754635,117.5,477.8048,11.1818974918212,117.5,423.6622,10.9908396946565,null,{"$f":"AW109","v":117.5},{"$f":"AVERAGE(B109,E109,H109,K109,N109,Q109,T109,W109,Z109,AC109,AF109,AI109,AL109,AO109,AR109,AU109,AX109)","v":566.916223529412},{"$f":"AVERAGE(C109,F109,I109,L109,O109,R109,U109,X109,AA109,AD109,AG109,AJ109,AM109,AP109,AS109,AV109,AY109)","v":7.38374494836102},{"$f":"STDEV(B109,E109,H109,K109,N109,Q109,T109,W109,Z109,AC109,AF109,AI109,AL109,AO109,AR109,AU109,AX109)","v":87.022781401916},{"$f":"STDEV(C109,F109,I109,L109,O109,R109,U109,X109,AA109,AD109,AG109,AJ109,AM109,AP109,AS109,AV109,AY109)","v":2.78732201493036}]
[118.75,436.7751,11.2998909487459,118.75,647.2155,5.10021810250818,118.75,647.9727,4.78724100327154,118.75,584.7497,5.34863685932388,118.75,609.9805,5.50534351145038,118.75,630.5983,6.06019629225736,118.75,566.9893,7.19923664122137,118.75,646.1319,5.10883315158124,118.75,624.9046,6.15921483097056,118.75,589.3923,5.35190839694657,118.75,625.3906,5.0309705561614,118.75,594.7709,6.72300981461287,118.75,593.6227,5.51199563794984,118.75,440.1374,11.4672846237732,118.75,454.6347,12.6981461286805,118.75,483.3095,11.4923664122137,118.75,398.4234,11.459760087241,null,{"$f":"AW110","v":118.75},{"$f":"AVERAGE(B110,E110,H110,K110,N110,Q110,T110,W110,Z110,AC110,AF110,AI110,AL110,AO110,AR110,AU110,AX110)","v":563.235241176471},{"$f":"AVERAGE(C110,F110,I110,L110,O110,R110,U110,X110,AA110,AD110,AG110,AJ110,AM110,AP110,AS110,AV110,AY110)","v":7.42966194111232},{"$f":"STDEV(B110,E110,H110,K110,N110,Q110,T110,W110,Z110,AC110,AF110,AI110,AL110,AO110,AR110,AU110,AX110)","v":84.8026085644853},{"$f":"STDEV(C110,F110,I110,L110,O110,R110,U110,X110,AA110,AD110,AG110,AJ110,AM110,AP110,AS110,AV110,AY110)","v":2.90908075237359}]
[120,422.389,11.4419847328244,120,643.0103,5.30174482006543,120,671.7778,4.54242093784079,120,548.7265,6.06270447110142,120,613.8586,5.40523446019629,120,635.4977,5.96695747001091,120,587.858,7.11504907306434,120,649.9013,5.10370774263904,120,622.8563,6.21352235550709,120,594.2896,5.44285714285714,120,624.1713,4.95550708833152,120,600.4723,6.67993456924755,120,637.3729,5.02191930207197,120,448.2172,11.7521264994547,120,452.9039,12.4730643402399,120,478.2685,11.1845147219193,120,406.7465,14.1436205016358,null,{"$f":"AW111","v":120},{"$f":"AVERAGE(B111,E111,H111,K111,N111,Q111,T111,W111,Z111,AC111,AF111,AI111,AL111,AO111,AR111,AU111,AX111)","v":566.959864705882},{"$f":"AVERAGE(C111,F111,I111,L111,O111,R111,U111,X111,AA111,AD111,AG111,AJ111,AM111,AP111,AS111,AV111,AY111)","v":7.57687471935339},{"$f":"STDEV(B111,E111,H111,K111,N111,Q111,T111,W111,Z111,AC111,AF111,AI111,AL111,AO111,AR111,AU111,AX111)","v":88.7712002043733},{"$f":"STDEV(C111,F111,I111,L111,O111,R111,U111,X111,AA111,AD111,AG111,AJ111,AM111,AP111,AS111,AV111,AY111)","v":3.19582589190561}]
[121.25,404.168,11.5299890948746,121.25,642.1035,5.5062159214831,121.25,667.7144,4.62311886586696,121.25,592.6817,6.38407851690295,121.25,599.4503,5.56324972737186,121.25,632.8073,5.98778625954199,121.25,596.512,7.09836423118866,121.25,665.3947,4.96019629225736,121.25,616.7921,6.32431842966194,121.25,554.3916,5.7659760087241,121.25,632.3378,4.87579062159215,121.25,601.4664,6.60479825517994,121.25,659.9504,4.75103598691385,121.25,436.6311,11.5007633587786,121.25,451.607,12.0057797164667,121.25,475.8669,11.2241003271538,121.25,403.2901,15.2372955288986,null,{"$f":"AW112","v":121.25},{"$f":"AVERAGE(B112,E112,H112,K112,N112,Q112,T112,W112,Z112,AC112,AF112,AI112,AL112,AO112,AR112,AU112,AX112)","v":566.656782352941},{"$f":"AVERAGE(C112,F112,I112,L112,O112,R112,U112,X112,AA112,AD112,AG112,AJ112,AM112,AP112,AS112,AV112,AY112)","v":7.6436974789916},{"$f":"STDEV(B112,E112,H112,K112,N112,Q112,T112,W112,Z112,AC112,AF112,AI112,AL112,AO112,AR112,AU112,AX112)","v":93.8897497609313},{"$f":"STDEV(C112,F112,I112,L112,O112,R112,U112,X112,AA112,AD112,AG112,AJ112,AM112,AP112,AS112,AV112,AY112)","v":3.27598211249794}]
[122.5,400.2711,12.0081788440567,122.5,646.8065,5.4958560523446,122.5,667.5552,4.66444929116685,122.5,596.1017,6.76368593238822,122.5,624.6881,5.52649945474373,122.5,633.0881,6.00697928026172,122.5,581.4637,6.85986913849509,122.5,666.9349,4.91079607415485,122.5,617.8657,6.38549618320611,122.5,624.1334,5.61821155943293,122.5,632.7313,4.84034896401309,122.5,603.5089,6.54983642311887,122.5,673.1002,4.59160305343511,122.5,426.8583,11.7913849509269,122.5,455.1059,12.2652126499455,122.5,479.2402,11.0821155943293,122.5,403.0897,16.2275899672846,null,{"$f":"AW113","v":122.5},{"$f":"AVERAGE(B113,E113,H113,K113,N113,Q113,T113,W113,Z113,AC113,AF113,AI113,AL113,AO113,AR113,AU113,AX113)","v":572.502523529412},{"$f":"AVERAGE(C113,F113,I113,L113,O113,R113,U113,X113,AA113,AD113,AG113,AJ113,AM113,AP113,AS113,AV113,AY113)","v":7.74047725960613},{"$f":"STDEV(B113,E113,H113,K113,N113,Q113,T113,W113,Z113,AC113,AF113,AI113,AL113,AO113,AR113,AU113,AX113)","v":97.4658693161581},{"$f":"STDEV(C113,F113,I113,L113,O113,R113,U113,X113,AA113,AD113,AG113,AJ113,AM113,AP113,AS113,AV113,AY113)","v":3.50465249743102}]
[123.75,405.6137,11.4808069792803,123.75,648.5298,5.39574700109051,123.75,665.1947,4.65637949836423,123.75,587.868,6.95245365321701,123.75,633.4031,5.51832061068702,123.75,634.9044,5.94645583424209,123.75,594.2775,6.58407851690294,123.75,661.1422,4.95517993456925,123.75,620.3311,6.30872410032715,123.75,634.0801,5.28167938931298,123.75,644.4077,4.68047982551799,123.75,614.967,6.36106870229008,123.75,675.6071,4.49869138495093,123.75,428.8738,12.1613958560523,123.75,455.1687,12.2884405670665,123.75,479.9733,11.0454743729553,123.75,394.5745,15.3640130861505,null,{"$f":"AW114","v":123.75},{"$f":"AVERAGE(B114,E114,H114,K114,N114,Q114,T114,W114,Z114,AC114,AF114,AI114,AL114,AO114,AR114,AU114,AX114)","v":575.230394117647},{"$f":"AVERAGE(C114,F114,I114,L114,O114,R114,U114,X114,AA114,AD114,AG114,AJ114,AM114,AP114,AS114,AV114,AY114)","v":7.61643466546924},{"$f":"STDEV(B114,E114,H114,K114,N114,Q114,T114,W114,Z114,AC114,AF114,AI114,AL114,AO114,AR114,AU114,AX114)","v":98.9215168044943},{"$f":"STDEV(C114,F114,I114,L114,O114,R114,U114,X114,AA114,AD114,AG114,AJ114,AM114,AP114,AS114,AV114,AY114)","v":3.40726663893254}]
[125,413.7139,11.3623773173392,125,643.4113,5.44514721919302,125,674.0776,4.52333696837514,125,577.832,7.16924754634678,125,596.2594,5.83653217011996,125,633.7043,5.8298800436205,125,603.4812,6.35965103598691,125,648.2429,5.01025081788441,125,618.4496,6.31723009814613,125,644.6783,4.82966194111232,125,644.1889,4.68844056706652,125,611.8547,6.27688113413304,125,671.1189,4.53489640130861,125,430.3052,11.8969465648855,125,455.9636,11.9306434023991,125,471.6894,10.9579062159215,125,395.5073,15.7574700109051,null,{"$f":"AW115","v":125},{"$f":"AVERAGE(B115,E115,H115,K115,N115,Q115,T115,W115,Z115,AC115,AF115,AI115,AL115,AO115,AR115,AU115,AX115)","v":572.616382352941},{"$f":"AVERAGE(C115,F115,I115,L115,O115,R115,U115,X115,AA115,AD115,AG115,AJ115,AM115,AP115,AS115,AV115,AY115)","v":7.57214702674964},{"$f":"STDEV(B115,E115,H115,K115,N115,Q115,T115,W115,Z115,AC115,AF115,AI115,AL115,AO115,AR115,AU115,AX115)","v":97.0241855950376},{"$f":"STDEV(C115,F115,I115,L115,O115,R115,U115,X115,AA115,AD115,AG115,AJ115,AM115,AP115,AS115,AV115,AY115)","v":3.41784402813256}]
[126.25,411.2541,11.5873500545256,126.25,646.6891,5.46106870229008,126.25,682.0697,4.42649945474373,126.25,575.6841,7.19127589967285,126.25,614.6462,5.97862595419847,126.25,641.6598,5.61690294438386,126.25,613.6371,6.14263904034896,126.25,653.7293,4.95986913849509,126.25,610.3138,6.43238822246456,126.25,687.5808,4.35179934569248,126.25,643.3994,4.7649945474373,126.25,585.1473,6.56270447110142,126.25,661.0995,4.65398037077426,126.25,429.0266,12.051254089422,126.25,461.0893,11.917011995638,126.25,470.1103,10.3912758996728,126.25,395.1962,15.2745910577972,null,{"$f":"AW116","v":126.25},{"$f":"AVERAGE(B116,E116,H116,K116,N116,Q116,T116,W116,Z116,AC116,AF116,AI116,AL116,AO116,AR116,AU116,AX116)","v":575.431329411765},{"$f":"AVERAGE(C116,F116,I116,L116,O116,R116,U116,X116,AA116,AD116,AG116,AJ116,AM116,AP116,AS116,AV116,AY116)","v":7.51554301109757},{"$f":"STDEV(B116,E116,H116,K116,N116,Q116,T116,W116,Z116,AC116,AF116,AI116,AL116,AO116,AR116,AU116,AX116)","v":100.265571812878},{"$f":"STDEV(C116,F116,I116,L116,O116,R116,U116,X116,AA116,AD116,AG116,AJ116,AM116,AP116,AS116,AV116,AY116)","v":3.3642776577631}]
[127.5,408.2437,11.6769901853871,127.5,630.6244,5.58069792802617,127.5,678.9736,4.4701199563795,127.5,583.2465,6.95921483097056,127.5,601.014,6.1474372955289,127.5,651.3899,5.45114503816794,127.5,629.1243,6.00348964013086,127.5,668.4765,4.85267175572519,127.5,613.8911,6.47840785169029,127.5,702.2521,4.15310796074155,127.5,642.7277,4.76074154852781,127.5,593.1345,6.85637949836423,127.5,651.7495,4.67818974918212,127.5,425.4128,12.3756815703381,127.5,456.2383,11.1680479825518,127.5,484.3208,9.93217011995638,127.5,398.5773,15.0389312977099,null,{"$f":"AW117","v":127.5},{"$f":"AVERAGE(B117,E117,H117,K117,N117,Q117,T117,W117,Z117,AC117,AF117,AI117,AL117,AO117,AR117,AU117,AX117)","v":577.611588235294},{"$f":"AVERAGE(C117,F117,I117,L117,O117,R117,U117,X117,AA117,AD117,AG117,AJ117,AM117,AP117,AS117,AV117,AY117)","v":7.44608377702226},{"$f":"STDEV(B117,E117,H117,K117,N117,Q117,T117,W117,Z117,AC117,AF117,AI117,AL117,AO117,AR117,AU117,AX117)","v":101.299094869537},{"$f":"STDEV(C117,F117,I117,L117,O117,R117,U117,X117,AA117,AD117,AG117,AJ117,AM117,AP117,AS117,AV117,AY117)","v":3.29708972966062}]
[128.75,402.9164,11.2883315158124,128.75,620.6606,5.80817884405671,128.75,673.6437,4.50817884405671,128.75,582.286,6.51875681570338,128.75,587.9745,6.46226826608506,128.75,654.1039,5.28015267175573,128.75,633.0229,5.98636859323882,128.75,671.9524,4.78593238822247,128.75,612.93,6.40839694656489,128.75,658.6365,4.45245365321701,128.75,638.7326,4.69018538713195,128.75,598.0238,6.91821155943293,128.75,648.8555,4.76924754634678,128.75,421.8675,12.0598691384951,128.75,464.9607,10.8276990185387,128.75,502.1769,9.75572519083969,128.75,395.3846,13.4642311886587,null,{"$f":"AW118","v":128.75},{"$f":"AVERAGE(B118,E118,H118,K118,N118,Q118,T118,W118,Z118,AC118,AF118,AI118,AL118,AO118,AR118,AU118,AX118)","v":574.595794117647},{"$f":"AVERAGE(C118,F118,I118,L118,O118,R118,U118,X118,AA118,AD118,AG118,AJ118,AM118,AP118,AS118,AV118,AY118)","v":7.29318750400924},{"$f":"STDEV(B118,E118,H118,K118,N118,Q118,T118,W118,Z118,AC118,AF118,AI118,AL118,AO118,AR118,AU118,AX118)","v":97.5558053613192},{"$f":"STDEV(C118,F118,I118,L118,O118,R118,U118,X118,AA118,AD118,AG118,AJ118,AM118,AP118,AS118,AV118,AY118)","v":2.96604010970358}]
[130,401.1154,10.9008724100327,130,585.9111,6.23947655398037,130,679.2055,4.41254089422028,130,607.5857,5.946346782988,130,592.8944,6.62017448200654,130,660.2277,5.11930207197383,130,631.339,6.0071973827699,130,677.1252,4.71319520174482,130,611.2068,6.20098146128681,130,635.8386,4.73882224645583,130,665.7674,4.43467829880044,130,594.2721,6.91145038167939,130,642.7272,4.93969465648855,130,421.7231,11.2376226826609,130,468.1975,10.0248636859324,130,499.6455,9.4515812431843,130,411.3927,13.4511450381679,null,{"$f":"AW119","v":130},{"$f":"AVERAGE(B119,E119,H119,K119,N119,Q119,T119,W119,Z119,AC119,AF119,AI119,AL119,AO119,AR119,AU119,AX119)","v":575.657347058824},{"$f":"AVERAGE(C119,F119,I119,L119,O119,R119,U119,X119,AA119,AD119,AG119,AJ119,AM119,AP119,AS119,AV119,AY119)","v":7.13823208672782},{"$f":"STDEV(B119,E119,H119,K119,N119,Q119,T119,W119,Z119,AC119,AF119,AI119,AL119,AO119,AR119,AU119,AX119)","v":96.5049842115559},{"$f":"STDEV(C119,F119,I119,L119,O119,R119,U119,X119,AA119,AD119,AG119,AJ119,AM119,AP119,AS119,AV119,AY119)","v":2.78939529647617}]
[131.25,408.9414,10.3890948745911,131.25,576.9464,6.8196292257361,131.25,671.3266,4.48386041439477,131.25,640.2943,5.60174482006543,131.25,576.3041,6.76215921483097,131.25,655.07,5.03565976008724,131.25,632.9071,5.98909487459106,131.25,669.0643,4.79760087241003,131.25,610.5442,6.09258451472192,131.25,675.3699,4.59323882224646,131.25,664.4673,4.41428571428571,131.25,597.4362,6.82617230098146,131.25,641.9828,5.03053435114504,131.25,424.7471,10.3143947655398,131.25,488.3166,9.9690294438386,131.25,477.6962,9.30294438386041,131.25,412.6479,12.4322791712105,null,{"$f":"AW120","v":131.25},{"$f":"AVERAGE(B120,E120,H120,K120,N120,Q120,T120,W120,Z120,AC120,AF120,AI120,AL120,AO120,AR120,AU120,AX120)","v":577.886023529412},{"$f":"AVERAGE(C120,F120,I120,L120,O120,R120,U120,X120,AA120,AD120,AG120,AJ120,AM120,AP120,AS120,AV120,AY120)","v":6.9914298543845},{"$f":"STDEV(B120,E120,H120,K120,N120,Q120,T120,W120,Z120,AC120,AF120,AI120,AL120,AO120,AR120,AU120,AX120)","v":96.7736420293223},{"$f":"STDEV(C120,F120,I120,L120,O120,R120,U120,X120,AA120,AD120,AG120,AJ120,AM120,AP120,AS120,AV120,AY120)","v":2.51763041973817}]
[132.5,416.757,10.4521264994547,132.5,592.8839,7.08516902944384,132.5,653.4938,4.69847328244275,132.5,632.9464,5.47808069792803,132.5,578.4666,6.95997818974918,132.5,669.9393,4.91537622682661,132.5,636.08,5.94013086150491,132.5,652.7773,4.98167938931298,132.5,603.7859,6.33620501635769,132.5,646.2215,4.87709923664122,132.5,667.6974,4.34067611777535,132.5,592.8804,6.73249727371865,132.5,649.1729,4.95452562704471,132.5,433.8547,10.3381679389313,132.5,494.4107,10.1880043620502,132.5,451.23,9.92595419847328,132.5,424.0292,11.8453653217012,null,{"$f":"AW121","v":132.5},{"$f":"AVERAGE(B121,E121,H121,K121,N121,Q121,T121,W121,Z121,AC121,AF121,AI121,AL121,AO121,AR121,AU121,AX121)","v":576.272176470588},{"$f":"AVERAGE(C121,F121,I121,L121,O121,R121,U121,X121,AA121,AD121,AG121,AJ121,AM121,AP121,AS121,AV121,AY121)","v":7.06173583937392},{"$f":"STDEV(B121,E121,H121,K121,N121,Q121,T121,W121,Z121,AC121,AF121,AI121,AL121,AO121,AR121,AU121,AX121)","v":93.039267408992},{"$f":"STDEV(C121,F121,I121,L121,O121,R121,U121,X121,AA121,AD121,AG121,AJ121,AM121,AP121,AS121,AV121,AY121)","v":2.48290995133763}]
[133.75,424.8732,10.8466739367503,133.75,575.7541,7.27600872410033,133.75,656.627,4.73784078516903,133.75,645.4257,5.13326063249727,133.75,575.3268,7.02115594329335,133.75,519.9676,5.52355507088332,133.75,630.4627,5.94798255179935,133.75,620.0266,5.34678298800436,133.75,618.3464,6.38625954198473,133.75,608.2435,5.43544165757906,133.75,664.7606,4.36608505997819,133.75,593.8792,6.79770992366412,133.75,658.3141,4.80785169029444,133.75,431.0628,9.88571428571429,133.75,471.0079,9.61973827699019,133.75,462.8655,11.532933478735,133.75,437.1615,12.8284623773173,null,{"$f":"AW122","v":133.75},{"$f":"AVERAGE(B122,E122,H122,K122,N122,Q122,T122,W122,Z122,AC122,AF122,AI122,AL122,AO122,AR122,AU122,AX122)","v":564.359129411765},{"$f":"AVERAGE(C122,F122,I122,L122,O122,R122,U122,X122,AA122,AD122,AG122,AJ122,AM122,AP122,AS122,AV122,AY122)","v":7.2643209955738},{"$f":"STDEV(B122,E122,H122,K122,N122,Q122,T122,W122,Z122,AC122,AF122,AI122,AL122,AO122,AR122,AU122,AX122)","v":87.2543740351577},{"$f":"STDEV(C122,F122,I122,L122,O122,R122,U122,X122,AA122,AD122,AG122,AJ122,AM122,AP122,AS122,AV122,AY122)","v":2.65312256484542}]
[135,429.6332,11.2368593238822,135,579.7787,7.50676117775354,135,670.2746,4.67840785169029,135,665.6583,4.8876772082879,135,574.2041,6.93140676117775,135,427.7221,6.0835332606325,135,621.7539,5.97480916030534,135,629.8127,5.49007633587786,135,620.9613,6.34165757906216,135,633.134,5.6,135,652.9368,4.42290076335878,135,585.6489,6.89498364231189,135,670.6416,4.66543075245365,135,439.118,9.40916030534351,135,455.0588,9.98211559432933,135,463.375,12.3167938931298,135,440.1182,12.8575790621592,null,{"$f":"AW123","v":135},{"$f":"AVERAGE(B123,E123,H123,K123,N123,Q123,T123,W123,Z123,AC123,AF123,AI123,AL123,AO123,AR123,AU123,AX123)","v":562.342952941177},{"$f":"AVERAGE(C123,F123,I123,L123,O123,R123,U123,X123,AA123,AD123,AG123,AJ123,AM123,AP123,AS123,AV123,AY123)","v":7.36942074539739},{"$f":"STDEV(B123,E123,H123,K123,N123,Q123,T123,W123,Z123,AC123,AF123,AI123,AL123,AO123,AR123,AU123,AX123)","v":95.8314894994211},{"$f":"STDEV(C123,F123,I123,L123,O123,R123,U123,X123,AA123,AD123,AG123,AJ123,AM123,AP123,AS123,AV123,AY123)","v":2.75780323194354}]
[136.25,421.6022,11.1538713195202,136.25,580.9764,7.34612868047983,136.25,667.1973,4.73947655398037,136.25,649.2092,4.99781897491821,136.25,583.5593,6.67655398037077,136.25,625.6429,6.08233369683751,136.25,604.1739,5.94961832061069,136.25,639.8326,5.31657579062159,136.25,615.8586,6.44318429661941,136.25,611.042,5.96892039258451,136.25,654.7409,4.40861504907306,136.25,574.7788,7.15038167938931,136.25,672.9297,4.58538713195202,136.25,470.8437,9.57360959651036,136.25,436.8625,10.4482006543075,136.25,462.6419,12.5174482006543,136.25,446.8774,12.8346782988004,null,{"$f":"AW124","v":136.25},{"$f":"AVERAGE(B124,E124,H124,K124,N124,Q124,T124,W124,Z124,AC124,AF124,AI124,AL124,AO124,AR124,AU124,AX124)","v":571.692311764706},{"$f":"AVERAGE(C124,F124,I124,L124,O124,R124,U124,X124,AA124,AD124,AG124,AJ124,AM124,AP124,AS124,AV124,AY124)","v":7.42310603630765},{"$f":"STDEV(B124,E124,H124,K124,N124,Q124,T124,W124,Z124,AC124,AF124,AI124,AL124,AO124,AR124,AU124,AX124)","v":87.6669435400103},{"$f":"STDEV(C124,F124,I124,L124,O124,R124,U124,X124,AA124,AD124,AG124,AJ124,AM124,AP124,AS124,AV124,AY124)","v":2.79815174291955}]
[137.5,415.5417,10.9034896401309,137.5,585.0016,7.11821155943293,137.5,650.7389,4.9196292257361,137.5,643.9139,5.2123227917121,137.5,587.226,6.38909487459106,137.5,537.2007,5.96979280261723,137.5,583.1111,6.20948745910578,137.5,656.4356,5.05539803707743,137.5,615.8574,6.53227917121047,137.5,616.9702,6.2504907306434,137.5,668.5893,4.31875681570338,137.5,580.0226,7.42300981461287,137.5,677.4776,4.50338058887677,137.5,438.3401,8.03358778625954,137.5,442.8396,12.0532170119956,137.5,460.915,12.0501635768811,137.5,447.0054,12.1643402399128,null,{"$f":"AW125","v":137.5},{"$f":"AVERAGE(B125,E125,H125,K125,N125,Q125,T125,W125,Z125,AC125,AF125,AI125,AL125,AO125,AR125,AU125,AX125)","v":565.128629411765},{"$f":"AVERAGE(C125,F125,I125,L125,O125,R125,U125,X125,AA125,AD125,AG125,AJ125,AM125,AP125,AS125,AV125,AY125)","v":7.35921483097056},{"$f":"STDEV(B125,E125,H125,K125,N125,Q125,T125,W125,Z125,AC125,AF125,AI125,AL125,AO125,AR125,AU125,AX125)","v":90.4463657233996},{"$f":"STDEV(C125,F125,I125,L125,O125,R125,U125,X125,AA125,AD125,AG125,AJ125,AM125,AP125,AS125,AV125,AY125)","v":2.73383615974099}]
[138.75,413.7651,10.841439476554,138.75,582.2134,6.71832061068702,138.75,658.5177,4.8443838604144,138.75,651.1452,5.35299890948746,138.75,590.9165,6.31384950926936,138.75,493.8914,5.67895310796074,138.75,589.415,6.48255179934569,138.75,659.2886,4.9143947655398,138.75,612.4844,6.57600872410033,138.75,616.6729,6.36281352235551,138.75,639.6486,4.55267175572519,138.75,582.416,7.55059978189749,138.75,640.1209,4.74242093784078,138.75,381.1039,6.4907306434024,138.75,435.5053,12.6782988004362,138.75,453.0203,10.7563794983642,138.75,447.6301,11.2086150490731,null,{"$f":"AW126","v":138.75},{"$f":"AVERAGE(B126,E126,H126,K126,N126,Q126,T126,W126,Z126,AC126,AF126,AI126,AL126,AO126,AR126,AU126,AX126)","v":555.750311764706},{"$f":"AVERAGE(C126,F126,I126,L126,O126,R126,U126,X126,AA126,AD126,AG126,AJ126,AM126,AP126,AS126,AV126,AY126)","v":7.18031945602669},{"$f":"STDEV(B126,E126,H126,K126,N126,Q126,T126,W126,Z126,AC126,AF126,AI126,AL126,AO126,AR126,AU126,AX126)","v":95.6688475279955},{"$f":"STDEV(C126,F126,I126,L126,O126,R126,U126,X126,AA126,AD126,AG126,AJ126,AM126,AP126,AS126,AV126,AY126)","v":2.55900713995169}]
[140,416.368,10.6211559432933,140,601.2042,6.13435114503817,140,660.9667,4.79967284623773,140,613.911,5.39509269356598,140,600.2041,6.44285714285714,140,546.9341,5.38004362050164,140,604.3348,6.47470010905125,140,623.6229,5.07306434023991,140,608.7402,6.62290076335878,140,610.8174,6.46444929116685,140,640.4385,4.65310796074155,140,581.5704,7.49956379498364,140,632.1359,4.92006543075245,140,452.0764,5.91330425299891,140,437.2099,13.5669574700109,140,470.0019,10.2235550708833,140,459.6081,10.2170119956379,null,{"$f":"AW127","v":140},{"$f":"AVERAGE(B127,E127,H127,K127,N127,Q127,T127,W127,Z127,AC127,AF127,AI127,AL127,AO127,AR127,AU127,AX127)","v":562.361441176471},{"$f":"AVERAGE(C127,F127,I127,L127,O127,R127,U127,X127,AA127,AD127,AG127,AJ127,AM127,AP127,AS127,AV127,AY127)","v":7.08246199243056},{"$f":"STDEV(B127,E127,H127,K127,N127,Q127,T127,W127,Z127,AC127,AF127,AI127,AL127,AO127,AR127,AU127,AX127)","v":81.0611982553541},{"$f":"STDEV(C127,F127,I127,L127,O127,R127,U127,X127,AA127,AD127,AG127,AJ127,AM127,AP127,AS127,AV127,AY127)","v":2.54517064147238}]
[141.25,400.8187,10.1990185387132,141.25,632.3788,5.78953107960742,141.25,658.8726,4.83020719738277,141.25,650.8407,4.76095965103599,141.25,598.8698,6.41701199563795,141.25,597.5056,5.26619411123228,141.25,620.6909,6.38309705561614,141.25,605.2082,5.27001090512541,141.25,607.4085,6.70643402399128,141.25,610.4168,6.52050163576881,141.25,619.582,4.92115594329335,141.25,566.6848,7.51494002181025,141.25,625.6296,5.12748091603053,141.25,544.0614,5.74220283533261,141.25,431.0538,13.1267175572519,141.25,486.2061,10.2869138495093,141.25,490.0822,10.6571428571429,null,{"$f":"AW128","v":141.25},{"$f":"AVERAGE(B128,E128,H128,K128,N128,Q128,T128,W128,Z128,AC128,AF128,AI128,AL128,AO128,AR128,AU128,AX128)","v":573.312382352941},{"$f":"AVERAGE(C128,F128,I128,L128,O128,R128,U128,X128,AA128,AD128,AG128,AJ128,AM128,AP128,AS128,AV128,AY128)","v":7.03056001026365},{"$f":"STDEV(B128,E128,H128,K128,N128,Q128,T128,W128,Z128,AC128,AF128,AI128,AL128,AO128,AR128,AU128,AX128)","v":76.7071265013414},{"$f":"STDEV(C128,F128,I128,L128,O128,R128,U128,X128,AA128,AD128,AG128,AJ128,AM128,AP128,AS128,AV128,AY128)","v":2.49787624090833}]
[142.5,404.4519,11.1651035986914,142.5,633.7525,5.81374045801527,142.5,660.1456,4.79563794983642,142.5,689.4399,4.37306434023991,142.5,603.445,6.33031624863686,142.5,600.3202,5.24372955288986,142.5,495.4381,6.37720828789531,142.5,646.1073,5.00588876772083,142.5,607.83,6.76248636859324,142.5,605.1259,6.55310796074155,142.5,619.0965,5.15398037077426,142.5,556.7936,7.67818974918212,142.5,636.3708,5.33555070883315,142.5,610.9453,5.5051254089422,142.5,431.7282,12.9235550708833,142.5,489.4517,9.64612868047982,142.5,492.4382,10.024427480916,null,{"$f":"AW129","v":142.5},{"$f":"AVERAGE(B129,E129,H129,K129,N129,Q129,T129,W129,Z129,AC129,AF129,AI129,AL129,AO129,AR129,AU129,AX129)","v":575.463570588235},{"$f":"AVERAGE(C129,F129,I129,L129,O129,R129,U129,X129,AA129,AD129,AG129,AJ129,AM129,AP129,AS129,AV129,AY129)","v":6.98160241195715},{"$f":"STDEV(B129,E129,H129,K129,N129,Q129,T129,W129,Z129,AC129,AF129,AI129,AL129,AO129,AR129,AU129,AX129)","v":82.8021964513001},{"$f":"STDEV(C129,F129,I129,L129,O129,R129,U129,X129,AA129,AD129,AG129,AJ129,AM129,AP129,AS129,AV129,AY129)","v":2.48462044123173}]
[143.75,416.2462,11.5749182115594,143.75,635.1527,5.86663031624864,143.75,643.815,4.89422028353326,143.75,699.6552,4.29083969465649,143.75,607.8639,6.32977099236641,143.75,648.1412,4.70359869138495,143.75,556.7883,7.38582333696838,143.75,651.8216,4.94372955288986,143.75,608.1345,6.8020719738277,143.75,590.6905,6.513413304253,143.75,624.1186,5.23380588876772,143.75,550.3415,7.92726281352236,143.75,631.7664,5.34885496183206,143.75,630.665,5.34111232279171,143.75,425.4272,12.264667393675,143.75,512.1286,9.55169029443839,143.75,512.405,10.1348964013086,null,{"$f":"AW130","v":143.75},{"$f":"AVERAGE(B130,E130,H130,K130,N130,Q130,T130,W130,Z130,AC130,AF130,AI130,AL130,AO130,AR130,AU130,AX130)","v":585.009494117647},{"$f":"AVERAGE(C130,F130,I130,L130,O130,R130,U130,X130,AA130,AD130,AG130,AJ130,AM130,AP130,AS130,AV130,AY130)","v":7.00631214317788},{"$f":"STDEV(B130,E130,H130,K130,N130,Q130,T130,W130,Z130,AC130,AF130,AI130,AL130,AO130,AR130,AU130,AX130)","v":79.444932359225},{"$f":"STDEV(C130,F130,I130,L130,O130,R130,U130,X130,AA130,AD130,AG130,AJ130,AM130,AP130,AS130,AV130,AY130)","v":2.47330961882834}]
[145,417.4979,11.4316248636859,145,636.2174,5.75965103598691,145,632.8959,5.02039258451472,145,695.1787,4.27579062159215,145,605.9619,6.19520174482007,145,672.7305,4.33369683751363,145,575.4812,7.19803707742639,145,643.0821,5.1247546346783,145,607.6873,6.81395856052345,145,581.613,6.47720828789531,145,607.0593,5.40272628135224,145,555.1235,7.9432933478735,145,637.947,5.29225736095965,145,631.9877,5.20010905125409,145,410.8946,11.9709923664122,145,461.2026,8.42868047982552,145,511.4846,9.88724100327154,null,{"$f":"AW131","v":145},{"$f":"AVERAGE(B131,E131,H131,K131,N131,Q131,T131,W131,Z131,AC131,AF131,AI131,AL131,AO131,AR131,AU131,AX131)","v":581.414423529412},{"$f":"AVERAGE(C131,F131,I131,L131,O131,R131,U131,X131,AA131,AD131,AG131,AJ131,AM131,AP131,AS131,AV131,AY131)","v":6.86797741997562},{"$f":"STDEV(B131,E131,H131,K131,N131,Q131,T131,W131,Z131,AC131,AF131,AI131,AL131,AO131,AR131,AU131,AX131)","v":84.5779200978049},{"$f":"STDEV(C131,F131,I131,L131,O131,R131,U131,X131,AA131,AD131,AG131,AJ131,AM131,AP131,AS131,AV131,AY131)","v":2.35222379207161}]
[146.25,413.0982,11.1247546346783,146.25,637.6125,5.54983642311887,146.25,641.8877,4.95539803707743,146.25,690.5334,4.1979280261723,146.25,603.2693,6.11450381679389,146.25,697.9588,3.99738276990185,146.25,575.7755,6.8803707742639,146.25,661.8224,5.04013086150491,146.25,605.6246,6.69476553980371,146.25,356.1578,6.23544165757906,146.25,618.3646,5.52595419847328,146.25,564.5366,7.78604143947655,146.25,638.1153,5.2143947655398,146.25,638.3455,4.86870229007634,146.25,422.0962,14.164667393675,146.25,456.9432,9.13773173391494,146.25,509.7335,9.70850599781898,null,{"$f":"AW132","v":146.25},{"$f":"AVERAGE(B132,E132,H132,K132,N132,Q132,T132,W132,Z132,AC132,AF132,AI132,AL132,AO132,AR132,AU132,AX132)","v":572.463241176471},{"$f":"AVERAGE(C132,F132,I132,L132,O132,R132,U132,X132,AA132,AD132,AG132,AJ132,AM132,AP132,AS132,AV132,AY132)","v":6.89391237410995},{"$f":"STDEV(B132,E132,H132,K132,N132,Q132,T132,W132,Z132,AC132,AF132,AI132,AL132,AO132,AR132,AU132,AX132)","v":103.590068685324},{"$f":"STDEV(C132,F132,I132,L132,O132,R132,U132,X132,AA132,AD132,AG132,AJ132,AM132,AP132,AS132,AV132,AY132)","v":2.72775124830404}]
[147.5,404.5455,10.7376226826608,147.5,652.6982,5.25779716466739,147.5,646.2735,4.83467829880044,147.5,705.5062,3.8979280261723,147.5,599.5074,6.25332606324973,147.5,701.1863,3.92039258451472,147.5,598.4086,6.41864776444929,147.5,656.4121,5.10523446019629,147.5,612.0525,6.58473282442748,147.5,221.136,6.25081788440567,147.5,613.0026,5.62093784078517,147.5,575.0337,7.50010905125409,147.5,645.2243,5.12758996728462,147.5,664.5483,4.46913849509269,147.5,423.3342,14.6712104689204,147.5,496.141,10.1619411123228,147.5,514.5344,9.66684841875681,null,{"$f":"AW133","v":147.5},{"$f":"AVERAGE(B133,E133,H133,K133,N133,Q133,T133,W133,Z133,AC133,AF133,AI133,AL133,AO133,AR133,AU133,AX133)","v":572.326164705882},{"$f":"AVERAGE(C133,F133,I133,L133,O133,R133,U133,X133,AA133,AD133,AG133,AJ133,AM133,AP133,AS133,AV133,AY133)","v":6.85170312399769},{"$f":"STDEV(B133,E133,H133,K133,N133,Q133,T133,W133,Z133,AC133,AF133,AI133,AL133,AO133,AR133,AU133,AX133)","v":126.156150169893},{"$f":"STDEV(C133,F133,I133,L133,O133,R133,U133,X133,AA133,AD133,AG133,AJ133,AM133,AP133,AS133,AV133,AY133)","v":2.89035630953999}]
[148.75,402.3632,10.6533260632497,148.75,664.4926,5.12900763358779,148.75,649.5585,4.7484187568157,148.75,720.4865,3.68691384950927,148.75,610.2571,6.19040348964013,148.75,713.5418,3.79443838604144,148.75,532.0026,6.27273718647765,148.75,645.0673,5.24296619411123,148.75,614.9811,6.52333696837514,148.75,514.6566,9.07906215921483,148.75,599.2422,5.75136314067612,148.75,573.2542,7.22104689203926,148.75,631.5082,5.15757906215922,148.75,683.2082,4.17655398037077,148.75,422.8406,14.8757906215921,148.75,466.4124,9.23587786259542,148.75,503.3665,9.29923664122137,null,{"$f":"AW134","v":148.75},{"$f":"AVERAGE(B134,E134,H134,K134,N134,Q134,T134,W134,Z134,AC134,AF134,AI134,AL134,AO134,AR134,AU134,AX134)","v":585.131741176471},{"$f":"AVERAGE(C134,F134,I134,L134,O134,R134,U134,X134,AA134,AD134,AG134,AJ134,AM134,AP134,AS134,AV134,AY134)","v":6.88459169927513},{"$f":"STDEV(B134,E134,H134,K134,N134,Q134,T134,W134,Z134,AC134,AF134,AI134,AL134,AO134,AR134,AU134,AX134)","v":97.0810025467654},{"$f":"STDEV(C134,F134,I134,L134,O134,R134,U134,X134,AA134,AD134,AG134,AJ134,AM134,AP134,AS134,AV134,AY134)","v":2.92673058008848}]
[150,415.2413,10.9567066521265,150,649.4889,5.15081788440567,150,645.799,4.82944383860414,150,624.6148,4.58985823336968,150,624.5352,6.07818974918211,150,707.9653,3.83893129770992,150,434.834,6.6721919302072,150,640.0075,5.22300981461287,150,618.6156,6.45430752453653,150,513.7355,9.06499454743729,150,612.0706,5.78931297709924,150,578.0313,6.71286804798255,150,641.948,5.06368593238822,150,691.6637,3.97131952017448,150,419.591,14.3255179934569,150,458.2164,9.91101417666303,150,506.6487,9.52344601962923,null,{"$f":"AW135","v":150},{"$f":"AVERAGE(B135,E135,H135,K135,N135,Q135,T135,W135,Z135,AC135,AF135,AI135,AL135,AO135,AR135,AU135,AX135)","v":575.470988235294},{"$f":"AVERAGE(C135,F135,I135,L135,O135,R135,U135,X135,AA135,AD135,AG135,AJ135,AM135,AP135,AS135,AV135,AY135)","v":6.95033036115209},{"$f":"STDEV(B135,E135,H135,K135,N135,Q135,T135,W135,Z135,AC135,AF135,AI135,AL135,AO135,AR135,AU135,AX135)","v":96.8702682027352},{"$f":"STDEV(C135,F135,I135,L135,O135,R135,U135,X135,AA135,AD135,AG135,AJ135,AM135,AP135,AS135,AV135,AY135)","v":2.86354027303224}]
[151.25,403.0407,10.3691384950927,151.25,648.1347,5.20152671755725,151.25,637.8364,4.8773173391494,151.25,648.7217,4.8082878953108,151.25,608.8834,6.01592148309706,151.25,691.7077,4.0217011995638,151.25,366.6534,7.0030534351145,151.25,645.9124,5.12355507088332,151.25,617.9818,6.37949836423119,151.25,515.5911,9.23369683751363,151.25,598.423,5.87371864776445,151.25,600.0055,6.32431842966194,151.25,648.0099,5.10861504907306,151.25,697.1736,3.79683751363141,151.25,417.4131,13.064667393675,151.25,477.3774,11.0815703380589,151.25,508.6942,9.52213740458015,null,{"$f":"AW136","v":151.25},{"$f":"AVERAGE(B136,E136,H136,K136,N136,Q136,T136,W136,Z136,AC136,AF136,AI136,AL136,AO136,AR136,AU136,AX136)","v":572.444705882353},{"$f":"AVERAGE(C136,F136,I136,L136,O136,R136,U136,X136,AA136,AD136,AG136,AJ136,AM136,AP136,AS136,AV136,AY136)","v":6.92973891846815},{"$f":"STDEV(B136,E136,H136,K136,N136,Q136,T136,W136,Z136,AC136,AF136,AI136,AL136,AO136,AR136,AU136,AX136)","v":103.972500090411},{"$f":"STDEV(C136,F136,I136,L136,O136,R136,U136,X136,AA136,AD136,AG136,AJ136,AM136,AP136,AS136,AV136,AY136)","v":2.71464132961807}]
[152.5,406.6241,10.3295528898582,152.5,663.5357,5.17579062159215,152.5,636.0916,4.8701199563795,152.5,661.691,4.93238822246456,152.5,609.4533,5.93173391494002,152.5,670.7718,4.29432933478735,152.5,513.2708,9.23522355507088,152.5,637.8947,5.22693565976009,152.5,619.8894,6.31744820065431,152.5,516.9131,9.37339149400218,152.5,592.3007,5.96619411123228,152.5,620.6883,5.96728462377317,152.5,642.9274,5.18724100327154,152.5,701.5144,3.71701199563795,152.5,420.9515,11.4967284623773,152.5,481.6252,11.0570338058888,152.5,494.336,9.29345692475463,null,{"$f":"AW137","v":152.5},{"$f":"AVERAGE(B137,E137,H137,K137,N137,Q137,T137,W137,Z137,AC137,AF137,AI137,AL137,AO137,AR137,AU137,AX137)","v":581.792882352941},{"$f":"AVERAGE(C137,F137,I137,L137,O137,R137,U137,X137,AA137,AD137,AG137,AJ137,AM137,AP137,AS137,AV137,AY137)","v":6.96305086920264},{"$f":"STDEV(B137,E137,H137,K137,N137,Q137,T137,W137,Z137,AC137,AF137,AI137,AL137,AO137,AR137,AU137,AX137)","v":90.8742185060086},{"$f":"STDEV(C137,F137,I137,L137,O137,R137,U137,X137,AA137,AD137,AG137,AJ137,AM137,AP137,AS137,AV137,AY137)","v":2.55002387787226}]
[153.75,421.4125,10.4833151581243,153.75,656.2072,5.14089422028353,153.75,645.607,4.77033805888768,153.75,650.3764,5.17088331515812,153.75,596.2205,6.08909487459106,153.75,673.7969,4.33413304252999,153.75,515.836,9.54340239912759,153.75,641.7038,5.3041439476554,153.75,625.9052,6.23642311886587,153.75,516.787,9.36063249727372,153.75,585.9765,6.0113413304253,153.75,639.2591,5.84438386041439,153.75,646.0091,5.19738276990185,153.75,706.7577,3.65932388222465,153.75,441.9471,11.3895310796074,153.75,475.199,10.2066521264995,153.75,497.7299,9.32453653217012,null,{"$f":"AW138","v":153.75},{"$f":"AVERAGE(B138,E138,H138,K138,N138,Q138,T138,W138,Z138,AC138,AF138,AI138,AL138,AO138,AR138,AU138,AX138)","v":584.513582352941},{"$f":"AVERAGE(C138,F138,I138,L138,O138,R138,U138,X138,AA138,AD138,AG138,AJ138,AM138,AP138,AS138,AV138,AY138)","v":6.9450830713965},{"$f":"STDEV(B138,E138,H138,K138,N138,Q138,T138,W138,Z138,AC138,AF138,AI138,AL138,AO138,AR138,AU138,AX138)","v":87.9414316693235},{"$f":"STDEV(C138,F138,I138,L138,O138,R138,U138,X138,AA138,AD138,AG138,AJ138,AM138,AP138,AS138,AV138,AY138)","v":2.48708054818435}]
[155,427.1664,10.4612868047983,155,645.3658,5.27295528898582,155,642.1953,4.78004362050164,155,647.055,5.37699018538713,155,591.9514,6.31145038167939,155,661.1301,4.50425299890949,155,507.0328,9.56074154852781,155,635.487,5.30676117775354,155,622.3103,6.14198473282443,155,504.8807,8.98702290076336,155,584.5631,6.05103598691385,155,637.7928,5.78844056706652,155,640.4347,5.17448200654308,155,709.5138,3.58538713195202,155,456.9333,12.2587786259542,155,416.2495,8.70752453653217,155,510.8151,8.859760087241,null,{"$f":"AW139","v":155},{"$f":"AVERAGE(B139,E139,H139,K139,N139,Q139,T139,W139,Z139,AC139,AF139,AI139,AL139,AO139,AR139,AU139,AX139)","v":578.875123529412},{"$f":"AVERAGE(C139,F139,I139,L139,O139,R139,U139,X139,AA139,AD139,AG139,AJ139,AM139,AP139,AS139,AV139,AY139)","v":6.88993521072552},{"$f":"STDEV(B139,E139,H139,K139,N139,Q139,T139,W139,Z139,AC139,AF139,AI139,AL139,AO139,AR139,AU139,AX139)","v":89.8151330762078},{"$f":"STDEV(C139,F139,I139,L139,O139,R139,U139,X139,AA139,AD139,AG139,AJ139,AM139,AP139,AS139,AV139,AY139)","v":2.43054751609694}]
[156.25,430.2707,10.4215921483097,156.25,649.1643,5.44427480916031,156.25,634.3218,5.01352235550709,156.25,644.7185,5.49454743729553,156.25,594.9061,6.40032715376227,156.25,649.9233,4.69760087241003,156.25,494.4775,9.79138495092693,156.25,648.3047,5.15125408942203,156.25,625.5129,6.05485278080698,156.25,450.8202,8.83860414394766,156.25,592.6921,6.07251908396947,156.25,638.0445,5.79705561613959,156.25,644.9614,5.10468920392585,156.25,734.5839,3.29389312977099,156.25,460.0692,12.0561613958561,156.25,425.562,10.3837513631407,156.25,533.7099,8.70174482006543,null,{"$f":"AW140","v":156.25},{"$f":"AVERAGE(B140,E140,H140,K140,N140,Q140,T140,W140,Z140,AC140,AF140,AI140,AL140,AO140,AR140,AU140,AX140)","v":579.531941176471},{"$f":"AVERAGE(C140,F140,I140,L140,O140,R140,U140,X140,AA140,AD140,AG140,AJ140,AM140,AP140,AS140,AV140,AY140)","v":6.9833985502598},{"$f":"STDEV(B140,E140,H140,K140,N140,Q140,T140,W140,Z140,AC140,AF140,AI140,AL140,AO140,AR140,AU140,AX140)","v":94.277449938924},{"$f":"STDEV(C140,F140,I140,L140,O140,R140,U140,X140,AA140,AD140,AG140,AJ140,AM140,AP140,AS140,AV140,AY140)","v":2.51277588404824}]
[157.5,425.0567,10.359760087241,157.5,642.8079,5.55245365321701,157.5,639.5794,5.16226826608506,157.5,642.6646,5.51352235550709,157.5,597.6843,6.50458015267176,157.5,637.2526,4.9835332606325,157.5,498.8574,10.3408942202835,157.5,660.6574,4.98298800436205,157.5,629.8398,5.92846237731734,157.5,447.7617,10.4442748091603,157.5,583.8267,6.10032715376227,157.5,636.9139,5.88157033805889,157.5,647.689,5.13904034896401,157.5,733.6087,3.29400218102508,157.5,465.8437,12.1551799345692,157.5,429.7547,11.8561613958561,157.5,527.714,8.44580152671756,null,{"$f":"AW141","v":157.5},{"$f":"AVERAGE(B141,E141,H141,K141,N141,Q141,T141,W141,Z141,AC141,AF141,AI141,AL141,AO141,AR141,AU141,AX141)","v":579.265441176471},{"$f":"AVERAGE(C141,F141,I141,L141,O141,R141,U141,X141,AA141,AD141,AG141,AJ141,AM141,AP141,AS141,AV141,AY141)","v":7.21440118031946},{"$f":"STDEV(B141,E141,H141,K141,N141,Q141,T141,W141,Z141,AC141,AF141,AI141,AL141,AO141,AR141,AU141,AX141)","v":94.1545785615937},{"$f":"STDEV(C141,F141,I141,L141,O141,R141,U141,X141,AA141,AD141,AG141,AJ141,AM141,AP141,AS141,AV141,AY141)","v":2.7641445684639}]
[158.75,427.9654,10.7898582333697,158.75,643.0138,5.46270447110142,158.75,614.1616,5.36553980370774,158.75,643.7611,5.36543075245365,158.75,596.9506,6.63751363140676,158.75,668.916,4.859760087241,158.75,498.2663,10.3700109051254,158.75,668.852,4.82115594329335,158.75,608.4086,5.71450381679389,158.75,466.0583,11.1967284623773,158.75,578.3624,6.20163576881134,158.75,628.5717,5.97099236641221,158.75,639.3015,5.21221374045802,158.75,713.3224,3.48527808069793,158.75,452.494,10.8601962922574,158.75,432.0296,13.3123227917121,158.75,487.6272,8.47829880043621,null,{"$f":"AW142","v":158.75},{"$f":"AVERAGE(B142,E142,H142,K142,N142,Q142,T142,W142,Z142,AC142,AF142,AI142,AL142,AO142,AR142,AU142,AX142)","v":574.591911764706},{"$f":"AVERAGE(C142,F142,I142,L142,O142,R142,U142,X142,AA142,AD142,AG142,AJ142,AM142,AP142,AS142,AV142,AY142)","v":7.30024376162679},{"$f":"STDEV(B142,E142,H142,K142,N142,Q142,T142,W142,Z142,AC142,AF142,AI142,AL142,AO142,AR142,AU142,AX142)","v":93.1121413413678},{"$f":"STDEV(C142,F142,I142,L142,O142,R142,U142,X142,AA142,AD142,AG142,AJ142,AM142,AP142,AS142,AV142,AY142)","v":2.90254279223169}]
[160,420.3389,10.5311886586696,160,648.0784,5.34471101417666,160,608.3906,5.44907306434024,160,644.8582,5.11832061068702,160,581.6125,6.726826608506,160,650.2035,5.0567066521265,160,499.3033,10.4202835332606,160,652.6229,4.92224645583424,160,619.3372,5.29825517993457,160,473.2211,11.287786259542,160,591.2206,6.29051254089422,160,626.5227,5.96848418756816,160,635.9379,5.23456924754635,160,698.8119,3.57917121046892,160,465.95,10.3155943293348,160,426.886,13.7567066521265,160,488.4742,8.99563794983642,null,{"$f":"AW143","v":160},{"$f":"AVERAGE(B143,E143,H143,K143,N143,Q143,T143,W143,Z143,AC143,AF143,AI143,AL143,AO143,AR143,AU143,AX143)","v":572.457052941177},{"$f":"AVERAGE(C143,F143,I143,L143,O143,R143,U143,X143,AA143,AD143,AG143,AJ143,AM143,AP143,AS143,AV143,AY143)","v":7.31153377381487},{"$f":"STDEV(B143,E143,H143,K143,N143,Q143,T143,W143,Z143,AC143,AF143,AI143,AL143,AO143,AR143,AU143,AX143)","v":89.513228579594},{"$f":"STDEV(C143,F143,I143,L143,O143,R143,U143,X143,AA143,AD143,AG143,AJ143,AM143,AP143,AS143,AV143,AY143)","v":2.93329969001579}]
[161.25,418.585,10.0010905125409,161.25,631.3241,5.51101417666303,161.25,628.591,5.34525627044711,161.25,636.9802,5.00490730643402,161.25,577.5714,6.86913849509269,161.25,647.1906,5.21864776444929,161.25,488.2072,10.2986913849509,161.25,652.581,4.95866957470011,161.25,658.2908,4.96935659760087,161.25,472.7009,11.2824427480916,161.25,590.6703,6.22966194111232,161.25,633.0011,5.86303162486369,161.25,639.1177,5.22639040348964,161.25,670.1557,3.72170119956379,161.25,482.8174,10.8335877862595,161.25,425.3074,14.1465648854962,161.25,480.1364,9.71984732824427,null,{"$f":"AW144","v":161.25},{"$f":"AVERAGE(B144,E144,H144,K144,N144,Q144,T144,W144,Z144,AC144,AF144,AI144,AL144,AO144,AR144,AU144,AX144)","v":572.542835294118},{"$f":"AVERAGE(C144,F144,I144,L144,O144,R144,U144,X144,AA144,AD144,AG144,AJ144,AM144,AP144,AS144,AV144,AY144)","v":7.36470588235294},{"$f":"STDEV(B144,E144,H144,K144,N144,Q144,T144,W144,Z144,AC144,AF144,AI144,AL144,AO144,AR144,AU144,AX144)","v":89.1281724303401},{"$f":"STDEV(C144,F144,I144,L144,O144,R144,U144,X144,AA144,AD144,AG144,AJ144,AM144,AP144,AS144,AV144,AY144)","v":3.01381183411348}]
[162.5,432.6693,10.218320610687,162.5,610.8093,5.91243184296619,162.5,626.5872,5.27688113413304,162.5,608.1854,5.46782988004362,162.5,589.0801,6.82617230098146,162.5,644.6581,5.29389312977099,162.5,484.0758,10.4119956379498,162.5,663.0678,4.87797164667394,162.5,670.2437,4.82606324972737,162.5,468.069,11.063358778626,162.5,592.1265,6.19127589967285,162.5,635.8546,5.80458015267176,162.5,632.7975,5.33217011995638,162.5,686.9321,3.46139585605234,162.5,484.0225,10.7209378407852,162.5,422.6462,13.3438386041439,162.5,480.8469,10.4897491821156,null,{"$f":"AW145","v":162.5},{"$f":"AVERAGE(B145,E145,H145,K145,N145,Q145,T145,W145,Z145,AC145,AF145,AI145,AL145,AO145,AR145,AU145,AX145)","v":572.510117647059},{"$f":"AVERAGE(C145,F145,I145,L145,O145,R145,U145,X145,AA145,AD145,AG145,AJ145,AM145,AP145,AS145,AV145,AY145)","v":7.38346269805632},{"$f":"STDEV(B145,E145,H145,K145,N145,Q145,T145,W145,Z145,AC145,AF145,AI145,AL145,AO145,AR145,AU145,AX145)","v":89.0912589184907},{"$f":"STDEV(C145,F145,I145,L145,O145,R145,U145,X145,AA145,AD145,AG145,AJ145,AM145,AP145,AS145,AV145,AY145)","v":2.94039123657599}]
[163.75,438.8196,10.1600872410033,163.75,588.8247,6.19738276990185,163.75,623.5896,5.22704471101418,163.75,626.0331,5.64972737186478,163.75,591.2417,6.78462377317339,163.75,639.8013,5.38571428571429,163.75,488.2832,10.8005452562704,163.75,657.744,4.95779716466739,163.75,668.7142,4.70981461286805,163.75,467.4163,10.9956379498364,163.75,591.8869,6.17873500545256,163.75,625.6323,5.9185387131952,163.75,641.642,5.3917121046892,163.75,668.447,3.59160305343511,163.75,489.7907,10.8066521264995,163.75,426.0034,12.3128680479826,163.75,470.2926,10.9079607415485,null,{"$f":"AW146","v":163.75},{"$f":"AVERAGE(B146,E146,H146,K146,N146,Q146,T146,W146,Z146,AC146,AF146,AI146,AL146,AO146,AR146,AU146,AX146)","v":570.833094117647},{"$f":"AVERAGE(C146,F146,I146,L146,O146,R146,U146,X146,AA146,AD146,AG146,AJ146,AM146,AP146,AS146,AV146,AY146)","v":7.41037911347745},{"$f":"STDEV(B146,E146,H146,K146,N146,Q146,T146,W146,Z146,AC146,AF146,AI146,AL146,AO146,AR146,AU146,AX146)","v":86.2550367537055},{"$f":"STDEV(C146,F146,I146,L146,O146,R146,U146,X146,AA146,AD146,AG146,AJ146,AM146,AP146,AS146,AV146,AY146)","v":2.84218443374612}]
[165,440.3564,10.3079607415485,165,582.8358,6.73435114503817,165,635.6229,5.08778625954198,165,595.6918,6.14852780806979,165,584.6936,6.78222464558342,165,629.075,5.57001090512541,165,488.499,10.9556161395856,165,646.3365,5.0649945474373,165,676.0145,4.50730643402399,165,464.2362,10.711014176663,165,590.8334,6.11810250817884,165,613.0558,6.15169029443839,165,638.7674,5.42715376226827,165,564.4774,4.48615049073064,165,486.1474,10.7371864776445,165,425.2288,10.5519083969466,165,466.4342,11.3781897491821,null,{"$f":"AW147","v":165},{"$f":"AVERAGE(B147,E147,H147,K147,N147,Q147,T147,W147,Z147,AC147,AF147,AI147,AL147,AO147,AR147,AU147,AX147)","v":560.488594117647},{"$f":"AVERAGE(C147,F147,I147,L147,O147,R147,U147,X147,AA147,AD147,AG147,AJ147,AM147,AP147,AS147,AV147,AY147)","v":7.45412791070627},{"$f":"STDEV(B147,E147,H147,K147,N147,Q147,T147,W147,Z147,AC147,AF147,AI147,AL147,AO147,AR147,AU147,AX147)","v":80.9182944747005},{"$f":"STDEV(C147,F147,I147,L147,O147,R147,U147,X147,AA147,AD147,AG147,AJ147,AM147,AP147,AS147,AV147,AY147)","v":2.61485180442839}]
[166.25,430.4248,10.2692475463468,166.25,595.464,7.013413304253,166.25,642.2947,5.02126499454744,166.25,611.9615,6.38266085059978,166.25,584.5048,6.61264994547437,166.25,627.4204,5.61592148309706,166.25,479.309,10.8485278080698,166.25,644.8202,5.06652126499455,166.25,688.2115,4.2020719738277,166.25,449.3899,10.8558342420938,166.25,595.2393,6.03805888767721,166.25,610.299,6.36663031624864,166.25,637.3474,5.51875681570338,166.25,552.9864,4.89465648854962,166.25,487.9564,10.7665212649945,166.25,456.9218,11.2827699018539,166.25,460.6783,11.826826608506,null,{"$f":"AW148","v":166.25},{"$f":"AVERAGE(B148,E148,H148,K148,N148,Q148,T148,W148,Z148,AC148,AF148,AI148,AL148,AO148,AR148,AU148,AX148)","v":562.072317647059},{"$f":"AVERAGE(C148,F148,I148,L148,O148,R148,U148,X148,AA148,AD148,AG148,AJ148,AM148,AP148,AS148,AV148,AY148)","v":7.56366668804927},{"$f":"STDEV(B148,E148,H148,K148,N148,Q148,T148,W148,Z148,AC148,AF148,AI148,AL148,AO148,AR148,AU148,AX148)","v":83.0868983883984},{"$f":"STDEV(C148,F148,I148,L148,O148,R148,U148,X148,AA148,AD148,AG148,AJ148,AM148,AP148,AS148,AV148,AY148)","v":2.70040033783349}]
[167.5,426.0108,10.5130861504907,167.5,594.2968,7.11417666303163,167.5,637.2877,4.96630316248637,167.5,604.3759,6.47917121046892,167.5,592.3684,6.5669574700109,167.5,623.4256,5.64034896401309,167.5,481.65,11.0163576881134,167.5,655.6932,4.98985823336968,167.5,691.4027,4.11014176663032,167.5,458.7279,11.5958560523446,167.5,590.9945,6.0587786259542,167.5,613.2712,6.51624863685932,167.5,627.0237,5.56314067611778,167.5,624.8818,4.65681570338059,167.5,488.2649,10.3394765539804,167.5,453.4257,11.4618320610687,167.5,448.5824,11.7450381679389,null,{"$f":"AW149","v":167.5},{"$f":"AVERAGE(B149,E149,H149,K149,N149,Q149,T149,W149,Z149,AC149,AF149,AI149,AL149,AO149,AR149,AU149,AX149)","v":565.393129411765},{"$f":"AVERAGE(C149,F149,I149,L149,O149,R149,U149,X149,AA149,AD149,AG149,AJ149,AM149,AP149,AS149,AV149,AY149)","v":7.60785810507409},{"$f":"STDEV(B149,E149,H149,K149,N149,Q149,T149,W149,Z149,AC149,AF149,AI149,AL149,AO149,AR149,AU149,AX149)","v":85.1046622170443},{"$f":"STDEV(C149,F149,I149,L149,O149,R149,U149,X149,AA149,AD149,AG149,AJ149,AM149,AP149,AS149,AV149,AY149)","v":2.78850561281953}]
[168.75,422.2096,10.8401308615049,168.75,586.2187,7.15441657579062,168.75,638.861,4.88396946564886,168.75,606.2155,6.40676117775354,168.75,582.2875,6.60970556161396,168.75,608.4943,5.86782988004362,168.75,470.2448,9.86357688113413,168.75,652.1928,5.04569247546347,168.75,663.781,4.50948745910578,168.75,456.9605,10.6404580152672,168.75,594.3089,6.02628135223555,168.75,608.4697,6.60806979280262,168.75,630.5025,5.31537622682661,168.75,590.4599,4.9824427480916,168.75,446.5536,8.97699018538713,168.75,450.945,11.6689203925845,168.75,445.0403,12.2591057797165,null,{"$f":"AW150","v":168.75},{"$f":"AVERAGE(B150,E150,H150,K150,N150,Q150,T150,W150,Z150,AC150,AF150,AI150,AL150,AO150,AR150,AU150,AX150)","v":556.102682352941},{"$f":"AVERAGE(C150,F150,I150,L150,O150,R150,U150,X150,AA150,AD150,AG150,AJ150,AM150,AP150,AS150,AV150,AY150)","v":7.50936557829238},{"$f":"STDEV(B150,E150,H150,K150,N150,Q150,T150,W150,Z150,AC150,AF150,AI150,AL150,AO150,AR150,AU150,AX150)","v":85.1342815289707},{"$f":"STDEV(C150,F150,I150,L150,O150,R150,U150,X150,AA150,AD150,AG150,AJ150,AM150,AP150,AS150,AV150,AY150)","v":2.61574691732415}]
[170,428.2911,10.8200654307525,170,567.8509,7.4298800436205,170,622.4077,5.09509269356598,170,525.1038,6.61123227917121,170,580.0092,6.69018538713195,170,606.1593,5.97557251908397,170,481.4385,10.1661941112323,170,645.0581,5.19302071973828,170,684.1292,4.48004362050164,170,471.971,10.5335877862595,170,586.063,6.04187568157034,170,603.0762,6.68375136314068,170,645.4449,5.03064340239913,170,613.2014,5.11592148309706,170,426.9365,9.51025081788441,170,450.7473,10.9157033805889,170,440.5402,12.2381679389313,null,{"$f":"AW151","v":170},{"$f":"AVERAGE(B151,E151,H151,K151,N151,Q151,T151,W151,Z151,AC151,AF151,AI151,AL151,AO151,AR151,AU151,AX151)","v":551.672252941177},{"$f":"AVERAGE(C151,F151,I151,L151,O151,R151,U151,X151,AA151,AD151,AG151,AJ151,AM151,AP151,AS151,AV151,AY151)","v":7.56065815639233},{"$f":"STDEV(B151,E151,H151,K151,N151,Q151,T151,W151,Z151,AC151,AF151,AI151,AL151,AO151,AR151,AU151,AX151)","v":85.5190459368125},{"$f":"STDEV(C151,F151,I151,L151,O151,R151,U151,X151,AA151,AD151,AG151,AJ151,AM151,AP151,AS151,AV151,AY151)","v":2.5495614483625}]
[171.25,431.1163,11.1830970556161,171.25,572.2972,7.71766630316249,171.25,625.2295,5.19727371864776,171.25,547.4294,7.53980370774264,171.25,582.8816,6.7515812431843,171.25,618.2343,5.87928026172301,171.25,431.1031,8.54263904034896,171.25,650.5146,5.14100327153762,171.25,678.8937,4.61014176663032,171.25,468.6806,10.5937840785169,171.25,592.2149,6.11155943293348,171.25,600.2264,6.82148309705562,171.25,667.0172,4.74471101417666,171.25,621.7448,5.19411123227917,171.25,431.1732,11.1440567066521,171.25,457.5037,9.7484187568157,171.25,443.2128,12.2131952017448,null,{"$f":"AW152","v":171.25},{"$f":"AVERAGE(B152,E152,H152,K152,N152,Q152,T152,W152,Z152,AC152,AF152,AI152,AL152,AO152,AR152,AU152,AX152)","v":554.086664705882},{"$f":"AVERAGE(C152,F152,I152,L152,O152,R152,U152,X152,AA152,AD152,AG152,AJ152,AM152,AP152,AS152,AV152,AY152)","v":7.59610622875104},{"$f":"STDEV(B152,E152,H152,K152,N152,Q152,T152,W152,Z152,AC152,AF152,AI152,AL152,AO152,AR152,AU152,AX152)","v":90.2911571516415},{"$f":"STDEV(C152,F152,I152,L152,O152,R152,U152,X152,AA152,AD152,AG152,AJ152,AM152,AP152,AS152,AV152,AY152)","v":2.52941371232958}]
[172.5,429.9293,11.3455834242094,172.5,565.3394,7.78931297709924,172.5,627.6447,5.16063249727372,172.5,542.3455,8.00065430752454,172.5,588.5032,6.60796074154853,172.5,622.9968,5.87088331515812,172.5,489.4103,8.15888767720829,172.5,656.4319,4.97535441657579,172.5,681.1723,4.58538713195202,172.5,474.0575,10.890294438386,172.5,603.0483,6.02966194111232,172.5,596.7445,6.88942202835333,172.5,668.6323,4.6814612868048,172.5,566.2261,5.43107960741548,172.5,422.6907,12.4428571428571,172.5,485.3448,9.14765539803708,172.5,454.78,12.8837513631407,null,{"$f":"AW153","v":172.5},{"$f":"AVERAGE(B153,E153,H153,K153,N153,Q153,T153,W153,Z153,AC153,AF153,AI153,AL153,AO153,AR153,AU153,AX153)","v":557.370447058824},{"$f":"AVERAGE(C153,F153,I153,L153,O153,R153,U153,X153,AA153,AD153,AG153,AJ153,AM153,AP153,AS153,AV153,AY153)","v":7.69946115850921},{"$f":"STDEV(B153,E153,H153,K153,N153,Q153,T153,W153,Z153,AC153,AF153,AI153,AL153,AO153,AR153,AU153,AX153)","v":84.1836786663107},{"$f":"STDEV(C153,F153,I153,L153,O153,R153,U153,X153,AA153,AD153,AG153,AJ153,AM153,AP153,AS153,AV153,AY153)","v":2.75064346427548}]
[173.75,430.4617,11.1016357688113,173.75,552.963,8.00687022900763,173.75,623.0642,5.17895310796074,173.75,548.9516,8.37415485278081,173.75,594.3075,6.29596510359869,173.75,594.7807,5.91504907306434,173.75,534.8413,8.01733914940022,173.75,663.8286,4.88157033805889,173.75,678.607,4.50141766630316,173.75,479.0993,10.5595419847328,173.75,595.0215,6.04340239912759,173.75,588.8564,7.05823336968375,173.75,670.3741,4.65310796074155,173.75,547.5693,5.56106870229008,173.75,423.5573,13.8182115594329,173.75,486.1153,8.85114503816794,173.75,453.7737,12.543947655398,null,{"$f":"AW154","v":173.75},{"$f":"AVERAGE(B154,E154,H154,K154,N154,Q154,T154,W154,Z154,AC154,AF154,AI154,AL154,AO154,AR154,AU154,AX154)","v":556.833676470588},{"$f":"AVERAGE(C154,F154,I154,L154,O154,R154,U154,X154,AA154,AD154,AG154,AJ154,AM154,AP154,AS154,AV154,AY154)","v":7.72715376226826},{"$f":"STDEV(B154,E154,H154,K154,N154,Q154,T154,W154,Z154,AC154,AF154,AI154,AL154,AO154,AR154,AU154,AX154)","v":80.9809958677693},{"$f":"STDEV(C154,F154,I154,L154,O154,R154,U154,X154,AA154,AD154,AG154,AJ154,AM154,AP154,AS154,AV154,AY154)","v":2.84284936919548}]
[175,428.6025,10.4778625954198,175,543.2963,8.20850599781898,175,627.3202,5.12977099236641,175,544.8395,8.41014176663032,175,614.9529,6.08702290076336,175,604.2154,5.57949836423119,175,553.0827,7.86968375136314,175,664.166,4.8979280261723,175,683.4816,4.33206106870229,175,481.4515,10.4736095965104,175,585.4967,6.06990185387132,175,589.5911,7.24427480916031,175,409.9167,5.67873500545256,175,564.8665,5.58549618320611,175,424.5024,14.3601962922574,175,493.7143,9.24427480916031,175,450.2446,11.309705561614,null,{"$f":"AW155","v":175},{"$f":"AVERAGE(B155,E155,H155,K155,N155,Q155,T155,W155,Z155,AC155,AF155,AI155,AL155,AO155,AR155,AU155,AX155)","v":544.925935294118},{"$f":"AVERAGE(C155,F155,I155,L155,O155,R155,U155,X155,AA155,AD155,AG155,AJ155,AM155,AP155,AS155,AV155,AY155)","v":7.70345115145294},{"$f":"STDEV(B155,E155,H155,K155,N155,Q155,T155,W155,Z155,AC155,AF155,AI155,AL155,AO155,AR155,AU155,AX155)","v":84.6345586793889},{"$f":"STDEV(C155,F155,I155,L155,O155,R155,U155,X155,AA155,AD155,AG155,AJ155,AM155,AP155,AS155,AV155,AY155)","v":2.74196938333744}]
[176.25,448.2294,10.5639040348964,176.25,518.3228,8.47077426390403,176.25,633.9642,5.11592148309706,176.25,544.8202,8.43238822246456,176.25,610.4534,6.02333696837514,176.25,639.8158,5.38811341330425,176.25,556.9909,7.7587786259542,176.25,664.8183,4.88342420937841,176.25,675.7739,4.46434023991276,176.25,471.9101,10.3922573609597,176.25,593.7944,6.06881134133043,176.25,582.8922,7.2917121046892,176.25,280.0205,6.21581243184297,176.25,563.2695,5.50654307524537,176.25,422.5299,14.06346782988,176.25,510.6377,9.87666303162486,176.25,464.6031,11.0476553980371,null,{"$f":"AW156","v":176.25},{"$f":"AVERAGE(B156,E156,H156,K156,N156,Q156,T156,W156,Z156,AC156,AF156,AI156,AL156,AO156,AR156,AU156,AX156)","v":540.167429411765},{"$f":"AVERAGE(C156,F156,I156,L156,O156,R156,U156,X156,AA156,AD156,AG156,AJ156,AM156,AP156,AS156,AV156,AY156)","v":7.73905317852332},{"$f":"STDEV(B156,E156,H156,K156,N156,Q156,T156,W156,Z156,AC156,AF156,AI156,AL156,AO156,AR156,AU156,AX156)","v":101.495130181599},{"$f":"STDEV(C156,F156,I156,L156,O156,R156,U156,X156,AA156,AD156,AG156,AJ156,AM156,AP156,AS156,AV156,AY156)","v":2.69344348975871}]
[177.5,426.9386,9.9917121046892,177.5,519.9913,9.04591057797165,177.5,631.7235,5.17535441657579,177.5,548.4748,8.45016357688114,177.5,598.0832,6.02202835332606,177.5,626.8491,5.59214830970556,177.5,560.0468,7.60283533260632,177.5,664.0534,4.87153762268266,177.5,684.8875,4.54154852780807,177.5,474.9429,10.5153762268266,177.5,599.7701,6.20218102508179,177.5,583.2687,7.26063249727372,177.5,543.2068,7.41155943293348,177.5,524.2074,5.50109051254089,177.5,417.8252,12.8437295528899,177.5,514.0739,9.77993456924755,177.5,445.8612,9.45637949836423,null,{"$f":"AW157","v":177.5},{"$f":"AVERAGE(B157,E157,H157,K157,N157,Q157,T157,W157,Z157,AC157,AF157,AI157,AL157,AO157,AR157,AU157,AX157)","v":550.835552941176},{"$f":"AVERAGE(C157,F157,I157,L157,O157,R157,U157,X157,AA157,AD157,AG157,AJ157,AM157,AP157,AS157,AV157,AY157)","v":7.66259541984733},{"$f":"STDEV(B157,E157,H157,K157,N157,Q157,T157,W157,Z157,AC157,AF157,AI157,AL157,AO157,AR157,AU157,AX157)","v":79.7535053981337},{"$f":"STDEV(C157,F157,I157,L157,O157,R157,U157,X157,AA157,AD157,AG157,AJ157,AM157,AP157,AS157,AV157,AY157)","v":2.3501396163247}]
[178.75,432.0688,10.3741548527808,178.75,502.8022,8.47131952017448,178.75,627.6732,5.21363140676118,178.75,547.226,8.1907306434024,178.75,595.3185,5.97339149400218,178.75,580.6945,6.08953107960742,178.75,570.6185,7.54176663031625,178.75,658.1301,4.86750272628135,178.75,681.2762,4.60218102508179,178.75,484.4841,10.9051254089422,178.75,608.0748,6.24372955288986,178.75,587.804,7.24002181025082,178.75,545.8649,7.86772082878953,178.75,518.2817,5.42355507088332,178.75,428.1801,12.430534351145,178.75,513.1348,9.5608505997819,178.75,477.4866,8.67306434023991,null,{"$f":"AW158","v":178.75},{"$f":"AVERAGE(B158,E158,H158,K158,N158,Q158,T158,W158,Z158,AC158,AF158,AI158,AL158,AO158,AR158,AU158,AX158)","v":550.536411764706},{"$f":"AVERAGE(C158,F158,I158,L158,O158,R158,U158,X158,AA158,AD158,AG158,AJ158,AM158,AP158,AS158,AV158,AY158)","v":7.62757713772532},{"$f":"STDEV(B158,E158,H158,K158,N158,Q158,T158,W158,Z158,AC158,AF158,AI158,AL158,AO158,AR158,AU158,AX158)","v":73.3538351409615},{"$f":"STDEV(C158,F158,I158,L158,O158,R158,U158,X158,AA158,AD158,AG158,AJ158,AM158,AP158,AS158,AV158,AY158)","v":2.26249452819865}]
[180,436.0183,10.5526717557252,180,380.1052,7.13009814612868,180,635.0454,5.17230098146129,180,557.7845,7.97328244274809,180,620.3616,5.8360959651036,180,603.2816,6.37055616139586,180,568.6691,7.4721919302072,180,664.9407,4.79727371864776,180,682.0974,4.49432933478735,180,479.6639,10.8461286804798,180,614.6658,6.0979280261723,180,590.5434,7.20905125408942,180,514.6145,7.91788440567067,180,557.8177,5.10545256270447,180,418.912,10.0608505997819,180,505.3273,9.26892039258452,180,519.6289,8.00010905125409,null,{"$f":"AW159","v":180},{"$f":"AVERAGE(B159,E159,H159,K159,N159,Q159,T159,W159,Z159,AC159,AF159,AI159,AL159,AO159,AR159,AU159,AX159)","v":549.969252941177},{"$f":"AVERAGE(C159,F159,I159,L159,O159,R159,U159,X159,AA159,AD159,AG159,AJ159,AM159,AP159,AS159,AV159,AY159)","v":7.31206620052601},{"$f":"STDEV(B159,E159,H159,K159,N159,Q159,T159,W159,Z159,AC159,AF159,AI159,AL159,AO159,AR159,AU159,AX159)","v":86.6518347856388},{"$f":"STDEV(C159,F159,I159,L159,O159,R159,U159,X159,AA159,AD159,AG159,AJ159,AM159,AP159,AS159,AV159,AY159)","v":1.99959102487927}]
[181.25,435.6044,10.8368593238822,181.25,436.5712,9.00283533260632,181.25,627.8338,5.18702290076336,181.25,563.2926,7.79934569247546,181.25,625.9741,5.77273718647764,181.25,606.6719,6.33620501635769,181.25,570.8065,7.43794983642312,181.25,672.3193,4.74002181025082,181.25,683.539,4.3370774263904,181.25,474.7203,10.6310796074155,181.25,622.084,6.05223555070883,181.25,593.5811,7.19880043620502,181.25,474.8601,8.57001090512541,181.25,564.0535,5.12955288985823,181.25,468.7004,9.86892039258451,181.25,507.3338,9.38407851690294,181.25,551.9311,7.62442748091603,null,{"$f":"AW160","v":181.25},{"$f":"AVERAGE(B160,E160,H160,K160,N160,Q160,T160,W160,Z160,AC160,AF160,AI160,AL160,AO160,AR160,AU160,AX160)","v":557.639829411765},{"$f":"AVERAGE(C160,F160,I160,L160,O160,R160,U160,X160,AA160,AD160,AG160,AJ160,AM160,AP160,AS160,AV160,AY160)","v":7.40642119443197},{"$f":"STDEV(B160,E160,H160,K160,N160,Q160,T160,W160,Z160,AC160,AF160,AI160,AL160,AO160,AR160,AU160,AX160)","v":79.2330690443688},{"$f":"STDEV(C160,F160,I160,L160,O160,R160,U160,X160,AA160,AD160,AG160,AJ160,AM160,AP160,AS160,AV160,AY160)","v":2.07030152010621}]
[182.5,435.6636,10.7224645583424,182.5,490.3509,10.3239912758997,182.5,614.2429,5.286586695747,182.5,569.3717,7.54013086150491,182.5,626.6263,5.69901853871319,182.5,604.4431,6.34820065430752,182.5,583.2606,7.43151581243184,182.5,668.1058,4.73129770992366,182.5,691.4476,4.19738276990185,182.5,479.1002,10.5160305343511,182.5,604.0737,6.1618320610687,182.5,589.9001,7.15550708833152,182.5,456.3219,9.64394765539804,182.5,423.5467,5.64220283533261,182.5,490.7167,9.53642311886587,182.5,515.6805,9.38189749182116,182.5,552.2674,7.65605234460196,null,{"$f":"AW161","v":182.5},{"$f":"AVERAGE(B161,E161,H161,K161,N161,Q161,T161,W161,Z161,AC161,AF161,AI161,AL161,AO161,AR161,AU161,AX161)","v":552.6541},{"$f":"AVERAGE(C161,F161,I161,L161,O161,R161,U161,X161,AA161,AD161,AG161,AJ161,AM161,AP161,AS161,AV161,AY161)","v":7.52791070626724},{"$f":"STDEV(B161,E161,H161,K161,N161,Q161,T161,W161,Z161,AC161,AF161,AI161,AL161,AO161,AR161,AU161,AX161)","v":80.5908134096638},{"$f":"STDEV(C161,F161,I161,L161,O161,R161,U161,X161,AA161,AD161,AG161,AJ161,AM161,AP161,AS161,AV161,AY161)","v":2.1383590351333}]
[183.75,431.6439,10.4149400218102,183.75,498.6659,10.4405670665213,183.75,616.2803,5.4567066521265,183.75,581.0873,7.46499454743729,183.75,634.2852,5.5845147219193,183.75,596.4664,6.44143947655398,183.75,579.0502,7.31875681570338,183.75,667.04,4.69880043620502,183.75,688.9611,4.25757906215921,183.75,487.0247,10.4389312977099,183.75,595.9838,6.28462377317339,183.75,588.639,7.15398037077426,183.75,461.5526,10.93173391494,183.75,225.4957,6.09302071973828,183.75,507.8019,9.67546346782988,183.75,523.7063,9.01123227917121,183.75,544.4084,7.98844056706652,null,{"$f":"AW162","v":183.75},{"$f":"AVERAGE(B162,E162,H162,K162,N162,Q162,T162,W162,Z162,AC162,AF162,AI162,AL162,AO162,AR162,AU162,AX162)","v":542.828982352941},{"$f":"AVERAGE(C162,F162,I162,L162,O162,R162,U162,X162,AA162,AD162,AG162,AJ162,AM162,AP162,AS162,AV162,AY162)","v":7.62680736416704},{"$f":"STDEV(B162,E162,H162,K162,N162,Q162,T162,W162,Z162,AC162,AF162,AI162,AL162,AO162,AR162,AU162,AX162)","v":108.237845072116},{"$f":"STDEV(C162,F162,I162,L162,O162,R162,U162,X162,AA162,AD162,AG162,AJ162,AM162,AP162,AS162,AV162,AY162)","v":2.17190627813638}]
[185,437.9066,10.1044711014177,185,495.7601,10.3368593238822,185,616.658,5.54929116684842,185,576.2672,7.12191930207197,185,631.2029,5.6009814612868,185,599.3305,6.5164667393675,185,564.8656,7.07808069792803,185,669.6132,4.66259541984733,185,693.673,4.25081788440567,185,495.7381,10.2613958560523,185,599.3949,6.34591057797165,185,588.9003,7.22333696837514,185,449.633,11.2470010905125,185,507.6279,6.68800436205016,185,498.4459,9.55594329334787,185,512.5525,8.25398037077426,185,552.2357,8.23664122137405,null,{"$f":"AW163","v":185},{"$f":"AVERAGE(B163,E163,H163,K163,N163,Q163,T163,W163,Z163,AC163,AF163,AI163,AL163,AO163,AR163,AU163,AX163)","v":558.223847058824},{"$f":"AVERAGE(C163,F163,I163,L163,O163,R163,U163,X163,AA163,AD163,AG163,AJ163,AM163,AP163,AS163,AV163,AY163)","v":7.59021746103021},{"$f":"STDEV(B163,E163,H163,K163,N163,Q163,T163,W163,Z163,AC163,AF163,AI163,AL163,AO163,AR163,AU163,AX163)","v":73.5355224856253},{"$f":"STDEV(C163,F163,I163,L163,O163,R163,U163,X163,AA163,AD163,AG163,AJ163,AM163,AP163,AS163,AV163,AY163)","v":2.10760103450712}]
[186.25,450.3531,10.392693565976,186.25,488.6364,10.4420937840785,186.25,600.3944,5.44896401308615,186.25,588.4239,6.7504907306434,186.25,625.2092,5.6123227917121,186.25,592.5954,6.55681570338059,186.25,589.5703,7.04580152671756,186.25,657.4478,4.67786259541985,186.25,688.7181,4.34961832061069,186.25,501.1311,10.3348964013086,186.25,602.0064,6.36859323882225,186.25,583.6399,7.31995637949836,186.25,442.5042,11.7509269356598,186.25,533.0747,7.08724100327154,186.25,498.8092,9.95147219193021,186.25,533.9801,7.84907306434024,186.25,550.7954,8.00687022900763,null,{"$f":"AW164","v":186.25},{"$f":"AVERAGE(B164,E164,H164,K164,N164,Q164,T164,W164,Z164,AC164,AF164,AI164,AL164,AO164,AR164,AU164,AX164)","v":560.4288},{"$f":"AVERAGE(C164,F164,I164,L164,O164,R164,U164,X164,AA164,AD164,AG164,AJ164,AM164,AP164,AS164,AV164,AY164)","v":7.64386426326256},{"$f":"STDEV(B164,E164,H164,K164,N164,Q164,T164,W164,Z164,AC164,AF164,AI164,AL164,AO164,AR164,AU164,AX164)","v":69.205522723407},{"$f":"STDEV(C164,F164,I164,L164,O164,R164,U164,X164,AA164,AD164,AG164,AJ164,AM164,AP164,AS164,AV164,AY164)","v":2.20747606162169}]
[187.5,446.0467,9.78516902944384,187.5,483.7847,10.2283533260632,187.5,621.2802,5.26946564885496,187.5,597.1007,6.36205016357688,187.5,639.598,5.45517993456925,187.5,552.0957,6.79160305343511,187.5,590.2277,7.08604143947655,187.5,669.3208,4.47568157033806,187.5,691.8127,4.33664122137405,187.5,487.3775,9.9618320610687,187.5,606.959,6.42170119956379,187.5,586.9383,7.41613958560524,187.5,442.4011,11.7274809160305,187.5,527.7122,7.53664122137405,187.5,497.9885,10.0726281352236,187.5,550.6529,7.85659760087241,187.5,559.3899,7.77044711014177,null,{"$f":"AW165","v":187.5},{"$f":"AVERAGE(B165,E165,H165,K165,N165,Q165,T165,W165,Z165,AC165,AF165,AI165,AL165,AO165,AR165,AU165,AX165)","v":561.805094117647},{"$f":"AVERAGE(C165,F165,I165,L165,O165,R165,U165,X165,AA165,AD165,AG165,AJ165,AM165,AP165,AS165,AV165,AY165)","v":7.5619796010007},{"$f":"STDEV(B165,E165,H165,K165,N165,Q165,T165,W165,Z165,AC165,AF165,AI165,AL165,AO165,AR165,AU165,AX165)","v":73.9586602970409},{"$f":"STDEV(C165,F165,I165,L165,O165,R165,U165,X165,AA165,AD165,AG165,AJ165,AM165,AP165,AS165,AV165,AY165)","v":2.1621845128954}]
[188.75,457.006,9.83882224645583,188.75,454.728,9.76466739367503,188.75,624.5312,5.29302071973828,188.75,594.9846,6.39890948745911,188.75,642.8472,5.41701199563795,188.75,522.6306,7.46684841875682,188.75,587.5038,7.08255179934569,188.75,683.8235,4.32966194111232,188.75,689.1585,4.27382769901854,188.75,477.9174,9.81221374045802,188.75,604.8081,6.43653217011996,188.75,589.4847,7.32922573609597,188.75,447.8712,11.7606324972737,188.75,483.5578,7.47415485278081,188.75,494.8819,9.72213740458015,188.75,555.5146,7.56194111232279,188.75,566.8101,7.68309705561614,null,{"$f":"AW166","v":188.75},{"$f":"AVERAGE(B166,E166,H166,K166,N166,Q166,T166,W166,Z166,AC166,AF166,AI166,AL166,AO166,AR166,AU166,AX166)","v":557.532894117647},{"$f":"AVERAGE(C166,F166,I166,L166,O166,R166,U166,X166,AA166,AD166,AG166,AJ166,AM166,AP166,AS166,AV166,AY166)","v":7.50854448649689},{"$f":"STDEV(B166,E166,H166,K166,N166,Q166,T166,W166,Z166,AC166,AF166,AI166,AL166,AO166,AR166,AU166,AX166)","v":79.1925099302601},{"$f":"STDEV(C166,F166,I166,L166,O166,R166,U166,X166,AA166,AD166,AG166,AJ166,AM166,AP166,AS166,AV166,AY166)","v":2.1108281843883}]
[190,462.5104,9.83751363140676,190,460.399,11.1814612868048,190,620.0984,5.19836423118866,190,592.0797,6.68615049073064,190,637.2243,5.42388222464558,190,487.2702,8.17033805888768,190,587.3783,7.04449291166849,190,671.1003,4.44972737186478,190,688.7134,4.19541984732824,190,488.1451,10.1128680479826,190,606.9099,6.36477644492912,190,589.931,7.16401308615049,190,441.088,11.6705561613959,190,503.1747,7.90218102508179,190,508.9265,9.5340239912759,190,549.3021,7.35016357688113,190,564.8546,7.42453653217012,null,{"$f":"AW167","v":190},{"$f":"AVERAGE(B167,E167,H167,K167,N167,Q167,T167,W167,Z167,AC167,AF167,AI167,AL167,AO167,AR167,AU167,AX167)","v":556.417994117647},{"$f":"AVERAGE(C167,F167,I167,L167,O167,R167,U167,X167,AA167,AD167,AG167,AJ167,AM167,AP167,AS167,AV167,AY167)","v":7.63002758355251},{"$f":"STDEV(B167,E167,H167,K167,N167,Q167,T167,W167,Z167,AC167,AF167,AI167,AL167,AO167,AR167,AU167,AX167)","v":76.2954003992907},{"$f":"STDEV(C167,F167,I167,L167,O167,R167,U167,X167,AA167,AD167,AG167,AJ167,AM167,AP167,AS167,AV167,AY167)","v":2.23369772094321}]
[191.25,470.4311,9.80436205016358,191.25,456.6639,11.4532170119956,191.25,627.9925,5.15245365321701,191.25,583.203,6.95779716466739,191.25,632.0828,5.3969465648855,191.25,490.3157,9.33129770992366,191.25,587.1402,7.08549618320611,191.25,672.0516,4.47175572519084,191.25,705.1437,3.92584514721919,191.25,491.5454,10.1285714285714,191.25,613.6368,6.3845147219193,191.25,571.9885,7.11046892039258,191.25,431.9715,11.6423118865867,191.25,526.7368,8.3164667393675,191.25,382.2761,7.35474372955289,191.25,508.5941,7.62966194111232,191.25,577.9694,7.10796074154853,null,{"$f":"AW168","v":191.25},{"$f":"AVERAGE(B168,E168,H168,K168,N168,Q168,T168,W168,Z168,AC168,AF168,AI168,AL168,AO168,AR168,AU168,AX168)","v":548.808417647059},{"$f":"AVERAGE(C168,F168,I168,L168,O168,R168,U168,X168,AA168,AD168,AG168,AJ168,AM168,AP168,AS168,AV168,AY168)","v":7.60316890114824},{"$f":"STDEV(B168,E168,H168,K168,N168,Q168,T168,W168,Z168,AC168,AF168,AI168,AL168,AO168,AR168,AU168,AX168)","v":88.7057454164627},{"$f":"STDEV(C168,F168,I168,L168,O168,R168,U168,X168,AA168,AD168,AG168,AJ168,AM168,AP168,AS168,AV168,AY168)","v":2.27455446826311}]
[192.5,469.014,9.78778625954199,192.5,451.5877,11.5610687022901,192.5,633.6006,5.23031624863686,192.5,594.083,7.0979280261723,192.5,630.7889,5.40599781897492,192.5,457.6738,9.33947655398037,192.5,590.4025,7.12322791712105,192.5,686.9127,4.38178844056707,192.5,706.3807,3.8587786259542,192.5,496.2021,10.2945474372955,192.5,607.8105,6.3288985823337,192.5,571.3276,7.46826608505998,192.5,431.0563,11.1936750272628,192.5,435.858,7.37044711014177,192.5,329.3046,7.55070883315158,192.5,497.2935,8.34700109051254,192.5,584.2214,6.7917121046892,null,{"$f":"AW169","v":192.5},{"$f":"AVERAGE(B169,E169,H169,K169,N169,Q169,T169,W169,Z169,AC169,AF169,AI169,AL169,AO169,AR169,AU169,AX169)","v":539.6187},{"$f":"AVERAGE(C169,F169,I169,L169,O169,R169,U169,X169,AA169,AD169,AG169,AJ169,AM169,AP169,AS169,AV169,AY169)","v":7.595977933158},{"$f":"STDEV(B169,E169,H169,K169,N169,Q169,T169,W169,Z169,AC169,AF169,AI169,AL169,AO169,AR169,AU169,AX169)","v":103.001817415119},{"$f":"STDEV(C169,F169,I169,L169,O169,R169,U169,X169,AA169,AD169,AG169,AJ169,AM169,AP169,AS169,AV169,AY169)","v":2.26161775663256}]
[193.75,465.9676,9.61766630316249,193.75,441.1659,11.1088331515812,193.75,637.1667,5.17720828789531,193.75,592.2277,7.07459105779716,193.75,647.3874,5.38964013086151,193.75,425.6421,10.3359869138495,193.75,581.1654,7.00294438386042,193.75,685.7348,4.42213740458015,193.75,672.9902,4.19978189749182,193.75,493.1665,10.2338058887677,193.75,609.0662,6.25354416575791,193.75,570.4482,7.68080697928026,193.75,333.7964,7.35092693565976,193.75,405.6765,7.51973827699019,193.75,442.8955,12.2661941112323,193.75,509.5844,9.16695747001091,193.75,599.6361,6.37142857142857,null,{"$f":"AW170","v":193.75},{"$f":"AVERAGE(B170,E170,H170,K170,N170,Q170,T170,W170,Z170,AC170,AF170,AI170,AL170,AO170,AR170,AU170,AX170)","v":536.101035294118},{"$f":"AVERAGE(C170,F170,I170,L170,O170,R170,U170,X170,AA170,AD170,AG170,AJ170,AM170,AP170,AS170,AV170,AY170)","v":7.71601129001219},{"$f":"STDEV(B170,E170,H170,K170,N170,Q170,T170,W170,Z170,AC170,AF170,AI170,AL170,AO170,AR170,AU170,AX170)","v":104.508742273643},{"$f":"STDEV(C170,F170,I170,L170,O170,R170,U170,X170,AA170,AD170,AG170,AJ170,AM170,AP170,AS170,AV170,AY170)","v":2.38813664684852}]
[195,474.0751,9.51570338058888,195,445.9988,11.4115594329335,195,629.7395,5.14569247546347,195,593.6009,6.8608505997819,195,636.6725,5.35441657579062,195,416.9079,11.6980370774264,195,551.8356,6.67862595419847,195,676.3684,4.56412213740458,195,533.1924,5.19956379498364,195,496.8411,10.1957470010905,195,603.2454,6.23042529989095,195,569.9312,7.66237731733915,195,397.6847,6.45725190839695,195,354.3738,7.3649945474373,195,443.1775,13.1985823336968,195,496.8514,9.23129770992366,195,600.677,6.29411123227917,null,{"$f":"AW171","v":195},{"$f":"AVERAGE(B171,E171,H171,K171,N171,Q171,T171,W171,Z171,AC171,AF171,AI171,AL171,AO171,AR171,AU171,AX171)","v":524.774894117647},{"$f":"AVERAGE(C171,F171,I171,L171,O171,R171,U171,X171,AA171,AD171,AG171,AJ171,AM171,AP171,AS171,AV171,AY171)","v":7.82725639874271},{"$f":"STDEV(B171,E171,H171,K171,N171,Q171,T171,W171,Z171,AC171,AF171,AI171,AL171,AO171,AR171,AU171,AX171)","v":93.4863843399165},{"$f":"STDEV(C171,F171,I171,L171,O171,R171,U171,X171,AA171,AD171,AG171,AJ171,AM171,AP171,AS171,AV171,AY171)","v":2.58895805782247}]
[196.25,478.6484,9.65354416575791,196.25,451.9951,12.0511450381679,196.25,626.3717,5.18091603053435,196.25,602.7065,6.59203925845147,196.25,644.8602,5.23282442748092,196.25,402.9701,12.4923664122137,196.25,576.434,6.16324972737186,196.25,664.9166,4.71155943293348,196.25,576.5181,5.41155943293348,196.25,500.7421,10.1407851690294,196.25,612.5295,6.15856052344602,196.25,572.4685,7.70043620501636,196.25,520.7703,5.32748091603053,196.25,349.591,7.69541984732824,196.25,437.0764,13.2352235550709,196.25,478.6704,9.40119956379498,196.25,599.5641,6.559760087241,null,{"$f":"AW172","v":196.25},{"$f":"AVERAGE(B172,E172,H172,K172,N172,Q172,T172,W172,Z172,AC172,AF172,AI172,AL172,AO172,AR172,AU172,AX172)","v":535.107823529412},{"$f":"AVERAGE(C172,F172,I172,L172,O172,R172,U172,X172,AA172,AD172,AG172,AJ172,AM172,AP172,AS172,AV172,AY172)","v":7.86518057604721},{"$f":"STDEV(B172,E172,H172,K172,N172,Q172,T172,W172,Z172,AC172,AF172,AI172,AL172,AO172,AR172,AU172,AX172)","v":91.144103548423},{"$f":"STDEV(C172,F172,I172,L172,O172,R172,U172,X172,AA172,AD172,AG172,AJ172,AM172,AP172,AS172,AV172,AY172)","v":2.78653742229821}]
[197.5,461.5386,9.58222464558342,197.5,446.2622,12.3956379498364,197.5,631.2117,5.20272628135224,197.5,610.4011,6.34372955288986,197.5,648.0206,5.16019629225736,197.5,398.8068,13.8241003271538,197.5,602.6333,5.78026172300981,197.5,668.1719,4.67371864776445,197.5,574.6604,5.6639040348964,197.5,491.618,9.71537622682661,197.5,616.569,6.07208287895311,197.5,569.8524,7.91123227917121,197.5,647.0243,3.99193020719738,197.5,307.6688,7.51079607415485,197.5,427.1709,13.3661941112323,197.5,390.6966,7.99629225736096,197.5,598.0086,6.58440567066521,null,{"$f":"AW173","v":197.5},{"$f":"AVERAGE(B173,E173,H173,K173,N173,Q173,T173,W173,Z173,AC173,AF173,AI173,AL173,AO173,AR173,AU173,AX173)","v":534.724423529412},{"$f":"AVERAGE(C173,F173,I173,L173,O173,R173,U173,X173,AA173,AD173,AG173,AJ173,AM173,AP173,AS173,AV173,AY173)","v":7.7514593623709},{"$f":"STDEV(B173,E173,H173,K173,N173,Q173,T173,W173,Z173,AC173,AF173,AI173,AL173,AO173,AR173,AU173,AX173)","v":110.061257744418},{"$f":"STDEV(C173,F173,I173,L173,O173,R173,U173,X173,AA173,AD173,AG173,AJ173,AM173,AP173,AS173,AV173,AY173)","v":3.04700090192442}]
[198.75,460.8931,9.6711014176663,198.75,439.8098,12.4668484187568,198.75,620.2548,5.15223555070883,198.75,606.591,6.36423118865867,198.75,648.3454,5.09923664122137,198.75,393.854,14.0246455834242,198.75,628.774,5.68386041439477,198.75,681.814,4.49007633587786,198.75,571.4543,6.07491821155943,198.75,491.5773,9.82769901853871,198.75,623.6771,5.99367502726281,198.75,541.1925,7.75856052344602,198.75,728.3138,3.02769901853871,198.75,362.9811,9.76128680479826,198.75,421.5529,13.6862595419847,198.75,377.0107,8.59574700109051,198.75,588.6206,6.67535441657579,null,{"$f":"AW174","v":198.75},{"$f":"AVERAGE(B174,E174,H174,K174,N174,Q174,T174,W174,Z174,AC174,AF174,AI174,AL174,AO174,AR174,AU174,AX174)","v":540.395082352941},{"$f":"AVERAGE(C174,F174,I174,L174,O174,R174,U174,X174,AA174,AD174,AG174,AJ174,AM174,AP174,AS174,AV174,AY174)","v":7.90314324202963},{"$f":"STDEV(B174,E174,H174,K174,N174,Q174,T174,W174,Z174,AC174,AF174,AI174,AL174,AO174,AR174,AU174,AX174)","v":114.114062875453},{"$f":"STDEV(C174,F174,I174,L174,O174,R174,U174,X174,AA174,AD174,AG174,AJ174,AM174,AP174,AS174,AV174,AY174)","v":3.25158901258662}]
[200,473.7637,9.92191930207197,200,426.8542,12.2087241003272,200,645.0086,4.95299890948746,200,614.259,6.40817884405671,200,653.5078,5.03598691384951,200,388.612,14.1242093784079,200,630.9299,5.69541984732824,200,674.9774,4.54100327153762,200,584.2409,6.20250817884406,200,494.575,9.8990185387132,200,618.4131,5.973173391494,200,530.3713,7.97764449291167,200,765.203,2.54263904034896,200,356.6616,8.88495092693566,200,420.733,13.7309705561614,200,449.8708,12.1423118865867,200,591.4105,6.92431842966194,null,{"$f":"AW175","v":200},{"$f":"AVERAGE(B175,E175,H175,K175,N175,Q175,T175,W175,Z175,AC175,AF175,AI175,AL175,AO175,AR175,AU175,AX175)","v":548.199517647059},{"$f":"AVERAGE(C175,F175,I175,L175,O175,R175,U175,X175,AA175,AD175,AG175,AJ175,AM175,AP175,AS175,AV175,AY175)","v":8.0685868240426},{"$f":"STDEV(B175,E175,H175,K175,N175,Q175,T175,W175,Z175,AC175,AF175,AI175,AL175,AO175,AR175,AU175,AX175)","v":115.774369773847},{"$f":"STDEV(C175,F175,I175,L175,O175,R175,U175,X175,AA175,AD175,AG175,AJ175,AM175,AP175,AS175,AV175,AY175)","v":3.44042055180406}]
[201.25,476.0954,9.89127589967285,201.25,427.3266,13.4139585605234,201.25,647.7538,4.90261723009815,201.25,620.5016,6.34711014176663,201.25,648.009,5.04623773173392,201.25,385.2614,14.3284623773173,201.25,626.0939,5.60883315158124,201.25,673.9574,4.59465648854962,201.25,577.5513,6.24656488549618,201.25,487.4425,9.71472191930207,201.25,605.7658,6.02813522355507,201.25,538.1191,7.80174482006543,201.25,770.9711,2.46979280261723,201.25,389.7103,9.47557251908397,201.25,424.6751,13.9173391494002,201.25,423.0866,11.2937840785169,201.25,553.7871,6.85387131952017,null,{"$f":"AW176","v":201.25},{"$f":"AVERAGE(B176,E176,H176,K176,N176,Q176,T176,W176,Z176,AC176,AF176,AI176,AL176,AO176,AR176,AU176,AX176)","v":545.653411764706},{"$f":"AVERAGE(C176,F176,I176,L176,O176,R176,U176,X176,AA176,AD176,AG176,AJ176,AM176,AP176,AS176,AV176,AY176)","v":8.11380460581179},{"$f":"STDEV(B176,E176,H176,K176,N176,Q176,T176,W176,Z176,AC176,AF176,AI176,AL176,AO176,AR176,AU176,AX176)","v":113.712422048571},{"$f":"STDEV(C176,F176,I176,L176,O176,R176,U176,X176,AA176,AD176,AG176,AJ176,AM176,AP176,AS176,AV176,AY176)","v":3.54402760951684}]
[202.5,474.6293,9.58942202835333,202.5,428.4863,14.0932388222465,202.5,649.558,4.84732824427481,202.5,609.8386,6.26030534351145,202.5,649.7561,4.99465648854962,202.5,386.1348,14.1811341330425,202.5,642.7476,5.3917121046892,202.5,656.5038,4.73631406761178,202.5,429.5654,6.22540894220284,202.5,490.9953,9.68953107960742,202.5,598.2649,6.10643402399128,202.5,488.6941,7.42399127589967,202.5,751.8859,2.73642311886587,202.5,398.2443,9.67339149400218,202.5,419.032,12.6345692475463,202.5,403.6316,11.7576881134133,202.5,512.8915,6.17513631406761,null,{"$f":"AW177","v":202.5},{"$f":"AVERAGE(B177,E177,H177,K177,N177,Q177,T177,W177,Z177,AC177,AF177,AI177,AL177,AO177,AR177,AU177,AX177)","v":528.874088235294},{"$f":"AVERAGE(C177,F177,I177,L177,O177,R177,U177,X177,AA177,AD177,AG177,AJ177,AM177,AP177,AS177,AV177,AY177)","v":8.03039322599269},{"$f":"STDEV(B177,E177,H177,K177,N177,Q177,T177,W177,Z177,AC177,AF177,AI177,AL177,AO177,AR177,AU177,AX177)","v":114.813680981035},{"$f":"STDEV(C177,F177,I177,L177,O177,R177,U177,X177,AA177,AD177,AG177,AJ177,AM177,AP177,AS177,AV177,AY177)","v":3.50582945047299}]
[203.75,473.6401,9.56979280261723,203.75,428.6182,14.3009814612868,203.75,644.0585,4.79149400218102,203.75,618.2752,5.95419847328244,203.75,667.8698,4.86008724100327,203.75,391.3264,13.9581243184297,203.75,648.4288,5.2680479825518,203.75,646.8228,4.83282442748092,203.75,375.3173,6.56281352235551,203.75,503.9162,9.94667393675027,203.75,605.316,6.21690294438386,203.75,494.3311,8.4051254089422,203.75,725.5575,3.09869138495093,203.75,383.1815,9.36728462377317,203.75,433.2586,12.739040348964,203.75,416.761,13.6172300981461,203.75,530.0898,5.51712104689204,null,{"$f":"AW178","v":203.75},{"$f":"AVERAGE(B178,E178,H178,K178,N178,Q178,T178,W178,Z178,AC178,AF178,AI178,AL178,AO178,AR178,AU178,AX178)","v":528.633458823529},{"$f":"AVERAGE(C178,F178,I178,L178,O178,R178,U178,X178,AA178,AD178,AG178,AJ178,AM178,AP178,AS178,AV178,AY178)","v":8.17684906023478},{"$f":"STDEV(B178,E178,H178,K178,N178,Q178,T178,W178,Z178,AC178,AF178,AI178,AL178,AO178,AR178,AU178,AX178)","v":115.560716729313},{"$f":"STDEV(C178,F178,I178,L178,O178,R178,U178,X178,AA178,AD178,AG178,AJ178,AM178,AP178,AS178,AV178,AY178)","v":3.65919195015616}]
[205,474.8725,9.59138495092694,205,426.5963,13.9699018538713,205,639.6564,4.79978189749182,205,548.4548,5.87437295528899,205,648.4549,5.05419847328244,205,396.0761,14.1979280261723,205,615.5959,5.34198473282443,205,663.9808,4.740239912759,205,548.627,7.06728462377317,205,487.2398,9.65016357688113,205,617.8797,6.29683751363141,205,505.3762,8.92868047982552,205,715.9679,3.26401308615049,205,359.5571,8.93969465648855,205,437.96,12.7568157033806,205,422.8931,13.9569247546347,205,619.8161,5.08833151581243,null,{"$f":"AW179","v":205},{"$f":"AVERAGE(B179,E179,H179,K179,N179,Q179,T179,W179,Z179,AC179,AF179,AI179,AL179,AO179,AR179,AU179,AX179)","v":537.000270588235},{"$f":"AVERAGE(C179,F179,I179,L179,O179,R179,U179,X179,AA179,AD179,AG179,AJ179,AM179,AP179,AS179,AV179,AY179)","v":8.20697286548207},{"$f":"STDEV(B179,E179,H179,K179,N179,Q179,T179,W179,Z179,AC179,AF179,AI179,AL179,AO179,AR179,AU179,AX179)","v":107.429538359038},{"$f":"STDEV(C179,F179,I179,L179,O179,R179,U179,X179,AA179,AD179,AG179,AJ179,AM179,AP179,AS179,AV179,AY179)","v":3.6592834438681}]
[206.25,479.0333,9.62519083969466,206.25,424.954,13.8787350054526,206.25,628.6899,4.92235550708833,206.25,530.9839,6.12911668484188,206.25,643.4803,5.25943293347873,206.25,398.9339,13.8411123227917,206.25,495.2649,5.94394765539804,206.25,680.4503,4.63784078516903,206.25,563.9358,6.64034896401309,206.25,479.7005,9.76019629225736,206.25,612.1942,6.31286804798255,206.25,494.029,9.64372955288986,206.25,723.9783,3.20316248636859,206.25,338.7272,8.2701199563795,206.25,409.9594,10.1142857142857,206.25,419.4018,13.0610687022901,206.25,526.43,5.53260632497274,null,{"$f":"AW180","v":206.25},{"$f":"AVERAGE(B180,E180,H180,K180,N180,Q180,T180,W180,Z180,AC180,AF180,AI180,AL180,AO180,AR180,AU180,AX180)","v":520.596864705883},{"$f":"AVERAGE(C180,F180,I180,L180,O180,R180,U180,X180,AA180,AD180,AG180,AJ180,AM180,AP180,AS180,AV180,AY180)","v":8.04565398678555},{"$f":"STDEV(B180,E180,H180,K180,N180,Q180,T180,W180,Z180,AC180,AF180,AI180,AL180,AO180,AR180,AU180,AX180)","v":108.503031264471},{"$f":"STDEV(C180,F180,I180,L180,O180,R180,U180,X180,AA180,AD180,AG180,AJ180,AM180,AP180,AS180,AV180,AY180)","v":3.32649096704194}]
[207.5,480.0592,9.73544165757906,207.5,422.9694,13.4760087241003,207.5,622.6943,4.9886586695747,207.5,575.127,6.4690294438386,207.5,645.7144,5.35757906215922,207.5,397.8095,13.4423118865867,207.5,526.8302,6.44340239912759,207.5,676.9156,4.63413304252999,207.5,568.5426,6.22726281352236,207.5,466.3604,9.76095965103599,207.5,607.5297,6.33489640130861,207.5,495.93,10.1470010905125,207.5,717.9313,3.33271537622683,207.5,372.1872,8.55114503816794,207.5,420.9713,9.03456924754635,207.5,421.1125,13.2410032715376,207.5,435.8179,6.1629225736096,null,{"$f":"AW181","v":207.5},{"$f":"AVERAGE(B181,E181,H181,K181,N181,Q181,T181,W181,Z181,AC181,AF181,AI181,AL181,AO181,AR181,AU181,AX181)","v":520.853088235294},{"$f":"AVERAGE(C181,F181,I181,L181,O181,R181,U181,X181,AA181,AD181,AG181,AJ181,AM181,AP181,AS181,AV181,AY181)","v":8.07876707935082},{"$f":"STDEV(B181,E181,H181,K181,N181,Q181,T181,W181,Z181,AC181,AF181,AI181,AL181,AO181,AR181,AU181,AX181)","v":106.406825002046},{"$f":"STDEV(C181,F181,I181,L181,O181,R181,U181,X181,AA181,AD181,AG181,AJ181,AM181,AP181,AS181,AV181,AY181)","v":3.18477409523822}]
[208.75,478.4395,9.52769901853871,208.75,416.7266,12.8480916030534,208.75,637.7164,4.9979280261723,208.75,530.0439,7.19236641221374,208.75,635.6261,5.40283533260632,208.75,389.4051,13.5508178844057,208.75,573.4926,6.86444929116685,208.75,671.6781,4.66521264994548,208.75,611.2242,5.89749182115594,208.75,446.0985,10.3504907306434,208.75,605.0965,6.19618320610687,208.75,480.8134,10.2314067611778,208.75,732.8618,3.20785169029444,208.75,428.4512,10.0199563794984,208.75,421.697,7.85354416575791,208.75,415.9059,13.2155943293348,208.75,567.4184,6.55419847328244,null,{"$f":"AW182","v":208.75},{"$f":"AVERAGE(B182,E182,H182,K182,N182,Q182,T182,W182,Z182,AC182,AF182,AI182,AL182,AO182,AR182,AU182,AX182)","v":531.923247058824},{"$f":"AVERAGE(C182,F182,I182,L182,O182,R182,U182,X182,AA182,AD182,AG182,AJ182,AM182,AP182,AS182,AV182,AY182)","v":8.15153633972673},{"$f":"STDEV(B182,E182,H182,K182,N182,Q182,T182,W182,Z182,AC182,AF182,AI182,AL182,AO182,AR182,AU182,AX182)","v":105.837501742377},{"$f":"STDEV(C182,F182,I182,L182,O182,R182,U182,X182,AA182,AD182,AG182,AJ182,AM182,AP182,AS182,AV182,AY182)","v":3.15848775126901}]
[210,476.3921,9.33598691384951,210,419.0729,13.1781897491821,210,617.194,5.2226826608506,210,507.4814,8.27928026172301,210,626.338,5.31374045801527,210,387.6959,14.1465648854962,210,597.4627,7.08135223555071,210,674.2749,4.70261723009815,210,626.8556,5.71079607415485,210,431.1726,11.2736095965104,210,607.0128,6.04863685932388,210,492.3713,10.6294438386041,210,720.0099,3.39934569247546,210,435.0477,10.2213740458015,210,470.3401,8.35267175572519,210,342.3321,8.42235550708833,210,538.0724,6.94809160305344,null,{"$f":"AW183","v":210},{"$f":"AVERAGE(B183,E183,H183,K183,N183,Q183,T183,W183,Z183,AC183,AF183,AI183,AL183,AO183,AR183,AU183,AX183)","v":527.595670588235},{"$f":"AVERAGE(C183,F183,I183,L183,O183,R183,U183,X183,AA183,AD183,AG183,AJ183,AM183,AP183,AS183,AV183,AY183)","v":8.1333376098531},{"$f":"STDEV(B183,E183,H183,K183,N183,Q183,T183,W183,Z183,AC183,AF183,AI183,AL183,AO183,AR183,AU183,AX183)","v":108.55480403504},{"$f":"STDEV(C183,F183,I183,L183,O183,R183,U183,X183,AA183,AD183,AG183,AJ183,AM183,AP183,AS183,AV183,AY183)","v":3.03097774625271}]
[211.25,478.2708,9.32399127589967,211.25,425.6467,13.5473282442748,211.25,636.8838,5.19661941112323,211.25,519.9483,9.29890948745911,211.25,630.9024,5.11155943293348,211.25,388.0293,14.4235550708833,211.25,560.7034,6.76259541984733,211.25,675.5782,4.67579062159215,211.25,608.7107,5.86652126499455,211.25,416.9495,12.1814612868048,211.25,619.2676,5.99094874591058,211.25,493.1046,10.7331515812432,211.25,701.3654,3.63413304252999,211.25,441.9919,10.7429661941112,211.25,485.9308,8.65856052344602,211.25,426.9412,8.34612868047982,211.25,540.4772,7.32191930207197,null,{"$f":"AW184","v":211.25},{"$f":"AVERAGE(B184,E184,H184,K184,N184,Q184,T184,W184,Z184,AC184,AF184,AI184,AL184,AO184,AR184,AU184,AX184)","v":532.394223529412},{"$f":"AVERAGE(C184,F184,I184,L184,O184,R184,U184,X184,AA184,AD184,AG184,AJ184,AM184,AP184,AS184,AV184,AY184)","v":8.34212585797678},{"$f":"STDEV(B184,E184,H184,K184,N184,Q184,T184,W184,Z184,AC184,AF184,AI184,AL184,AO184,AR184,AU184,AX184)","v":98.6015383174277},{"$f":"STDEV(C184,F184,I184,L184,O184,R184,U184,X184,AA184,AD184,AG184,AJ184,AM184,AP184,AS184,AV184,AY184)","v":3.19579274139272}]
[212.5,477.6103,9.03118865866957,212.5,430.1053,13.8257360959651,212.5,646.8194,5.06423118865867,212.5,493.4065,9.14667393675027,212.5,652.5229,4.96324972737187,212.5,389.1111,14.3100327153762,212.5,559.6766,6.18331515812432,212.5,679.6536,4.59302071973828,212.5,628.8723,5.97142857142857,212.5,413.9711,13.7603053435115,212.5,630.6047,5.87142857142857,212.5,484.854,10.9135223555071,212.5,694.7648,3.71210468920393,212.5,446.0171,10.7821155943293,212.5,439.2087,8.72453653217012,212.5,444.0159,7.63129770992366,212.5,516.21,7.5062159214831,null,{"$f":"AW185","v":212.5},{"$f":"AVERAGE(B185,E185,H185,K185,N185,Q185,T185,W185,Z185,AC185,AF185,AI185,AL185,AO185,AR185,AU185,AX185)","v":531.024958823529},{"$f":"AVERAGE(C185,F185,I185,L185,O185,R185,U185,X185,AA185,AD185,AG185,AJ185,AM185,AP185,AS185,AV185,AY185)","v":8.35237667586118},{"$f":"STDEV(B185,E185,H185,K185,N185,Q185,T185,W185,Z185,AC185,AF185,AI185,AL185,AO185,AR185,AU185,AX185)","v":103.457428929561},{"$f":"STDEV(C185,F185,I185,L185,O185,R185,U185,X185,AA185,AD185,AG185,AJ185,AM185,AP185,AS185,AV185,AY185)","v":3.39225282981091}]
[213.75,481.0454,8.90905125408942,213.75,427.8646,13.6339149400218,213.75,647.0172,5.0154852780807,213.75,467.3116,9.8937840785169,213.75,646.5263,5.12497273718648,213.75,394.2899,14.2928026172301,213.75,578.1875,5.73991275899673,213.75,671.6546,4.64460196292257,213.75,633.6882,5.86837513631407,213.75,409.2003,14.6395856052345,213.75,627.138,5.713413304253,213.75,486.7343,10.9472191930207,213.75,718.123,3.50359869138495,213.75,426.4116,9.91973827699018,213.75,458.8956,10.5562704471101,213.75,508.3983,7.16641221374046,213.75,520.5009,7.91603053435115,null,{"$f":"AW186","v":213.75},{"$f":"AVERAGE(B186,E186,H186,K186,N186,Q186,T186,W186,Z186,AC186,AF186,AI186,AL186,AO186,AR186,AU186,AX186)","v":535.46984117647},{"$f":"AVERAGE(C186,F186,I186,L186,O186,R186,U186,X186,AA186,AD186,AG186,AJ186,AM186,AP186,AS186,AV186,AY186)","v":8.44030406055552},{"$f":"STDEV(B186,E186,H186,K186,N186,Q186,T186,W186,Z186,AC186,AF186,AI186,AL186,AO186,AR186,AU186,AX186)","v":103.896325211675},{"$f":"STDEV(C186,F186,I186,L186,O186,R186,U186,X186,AA186,AD186,AG186,AJ186,AM186,AP186,AS186,AV186,AY186)","v":3.53269694822918}]
[215,476.9083,8.82279171210469,215,425.9797,13.6181025081788,215,657.0024,4.93260632497274,215,482.2708,11.0693565976009,215,654.9802,5.10850599781897,215,393.5016,14.3323882224646,215,610.9739,5.72868047982552,215,667.8935,4.65376226826609,215,634.3782,5.73696837513631,215,397.1959,14.5797164667394,215,621.6809,5.53565976008724,215,494.4357,11.0949836423119,215,718.9293,3.53118865866957,215,432.0834,10.732933478735,215,449.4663,11.1852780806979,215,509.7193,7.0793893129771,215,524.0161,8.06444929116685,null,{"$f":"AW187","v":215},{"$f":"AVERAGE(B187,E187,H187,K187,N187,Q187,T187,W187,Z187,AC187,AF187,AI187,AL187,AO187,AR187,AU187,AX187)","v":538.318558823529},{"$f":"AVERAGE(C187,F187,I187,L187,O187,R187,U187,X187,AA187,AD187,AG187,AJ187,AM187,AP187,AS187,AV187,AY187)","v":8.57686830457374},{"$f":"STDEV(B187,E187,H187,K187,N187,Q187,T187,W187,Z187,AC187,AF187,AI187,AL187,AO187,AR187,AU187,AX187)","v":106.392608394252},{"$f":"STDEV(C187,F187,I187,L187,O187,R187,U187,X187,AA187,AD187,AG187,AJ187,AM187,AP187,AS187,AV187,AY187)","v":3.64632979472721}]
[216.25,485.0424,9.01155943293348,216.25,429.5563,13.5967284623773,216.25,664.1824,4.86586695747001,216.25,477.4666,10.8473282442748,216.25,656.8098,5.04100327153762,216.25,390.847,14.0393675027263,216.25,610.1822,5.87557251908397,216.25,665.0461,4.62529989094875,216.25,625.0583,5.72464558342421,216.25,393.4523,15.5043620501636,216.25,647.1417,5.19716466739368,216.25,492.2021,10.903707742639,216.25,688.8519,3.82639040348964,216.25,438.7119,11.1787350054526,216.25,443.2398,11.9923664122137,216.25,512.1016,7.30392584514722,216.25,490.6842,7.90850599781898,null,{"$f":"AW188","v":216.25},{"$f":"AVERAGE(B188,E188,H188,K188,N188,Q188,T188,W188,Z188,AC188,AF188,AI188,AL188,AO188,AR188,AU188,AX188)","v":535.916270588235},{"$f":"AVERAGE(C188,F188,I188,L188,O188,R188,U188,X188,AA188,AD188,AG188,AJ188,AM188,AP188,AS188,AV188,AY188)","v":8.67308999935852},{"$f":"STDEV(B188,E188,H188,K188,N188,Q188,T188,W188,Z188,AC188,AF188,AI188,AL188,AO188,AR188,AU188,AX188)","v":105.529542773681},{"$f":"STDEV(C188,F188,I188,L188,O188,R188,U188,X188,AA188,AD188,AG188,AJ188,AM188,AP188,AS188,AV188,AY188)","v":3.7536781732285}]
[217.5,487.0754,8.94252998909487,217.5,433.0858,13.3352235550709,217.5,652.9855,5.01297709923664,217.5,476.765,10.5523446019629,217.5,646.316,5.12529989094875,217.5,393.0731,12.9916030534351,217.5,605.0804,5.83827699018539,217.5,633.5177,4.85757906215921,217.5,597.3352,6.01079607415485,217.5,389.2588,15.893893129771,217.5,656.0027,5.04165757906216,217.5,497.2162,10.5725190839695,217.5,648.8701,4.11766630316249,217.5,446.8761,11.4664122137405,217.5,439.1692,12.6322791712105,217.5,544.6099,7.38625954198473,217.5,477.6089,8.36619411123228,null,{"$f":"AW189","v":217.5},{"$f":"AVERAGE(B189,E189,H189,K189,N189,Q189,T189,W189,Z189,AC189,AF189,AI189,AL189,AO189,AR189,AU189,AX189)","v":530.873294117647},{"$f":"AVERAGE(C189,F189,I189,L189,O189,R189,U189,X189,AA189,AD189,AG189,AJ189,AM189,AP189,AS189,AV189,AY189)","v":8.71432420296363},{"$f":"STDEV(B189,E189,H189,K189,N189,Q189,T189,W189,Z189,AC189,AF189,AI189,AL189,AO189,AR189,AU189,AX189)","v":97.2607487992746},{"$f":"STDEV(C189,F189,I189,L189,O189,R189,U189,X189,AA189,AD189,AG189,AJ189,AM189,AP189,AS189,AV189,AY189)","v":3.6618014262915}]
[218.75,485.7457,8.96324972737187,218.75,438.3432,13.2257360959651,218.75,650.0566,5.14165757906216,218.75,490.2799,10.6485278080698,218.75,649.408,5.12813522355507,218.75,404.8172,12.7647764449291,218.75,602.6792,5.6185387131952,218.75,587.9671,5.46324972737187,218.75,568.1352,6.60174482006543,218.75,380.1354,13.9797164667394,218.75,658.4521,4.97404580152672,218.75,502.5028,10.3980370774264,218.75,648.2106,4.22824427480916,218.75,451.423,11.6395856052345,218.75,433.0276,12.8415485278081,218.75,555.7384,7.28102508178844,218.75,501.8698,9.02355507088331,null,{"$f":"AW190","v":218.75},{"$f":"AVERAGE(B190,E190,H190,K190,N190,Q190,T190,W190,Z190,AC190,AF190,AI190,AL190,AO190,AR190,AU190,AX190)","v":529.928929411765},{"$f":"AVERAGE(C190,F190,I190,L190,O190,R190,U190,X190,AA190,AD190,AG190,AJ190,AM190,AP190,AS190,AV190,AY190)","v":8.70125729681185},{"$f":"STDEV(B190,E190,H190,K190,N190,Q190,T190,W190,Z190,AC190,AF190,AI190,AL190,AO190,AR190,AU190,AX190)","v":92.566629669483},{"$f":"STDEV(C190,F190,I190,L190,O190,R190,U190,X190,AA190,AD190,AG190,AJ190,AM190,AP190,AS190,AV190,AY190)","v":3.38392536264022}]
[220,491.4725,9.20338058887677,220,439.4029,12.675572519084,220,623.4419,5.37699018538713,220,495.1669,10.4364231188659,220,654.7547,4.94776444929117,220,409.8507,12.8263904034896,220,621.4762,5.33827699018539,220,618.2493,5.67284623773173,220,587.5638,6.98331515812432,220,371.0851,12.4080697928026,220,658.075,4.90283533260632,220,501.1862,10.4360959651036,220,678.2806,4.00032715376227,220,449.8884,11.4968375136314,220,435.7618,13.5008724100327,220,535.7586,7.42715376226827,220,479.4195,8.7381679389313,null,{"$f":"AW191","v":220},{"$f":"AVERAGE(B191,E191,H191,K191,N191,Q191,T191,W191,Z191,AC191,AF191,AI191,AL191,AO191,AR191,AU191,AX191)","v":532.402005882353},{"$f":"AVERAGE(C191,F191,I191,L191,O191,R191,U191,X191,AA191,AD191,AG191,AJ191,AM191,AP191,AS191,AV191,AY191)","v":8.6100776188338},{"$f":"STDEV(B191,E191,H191,K191,N191,Q191,T191,W191,Z191,AC191,AF191,AI191,AL191,AO191,AR191,AU191,AX191)","v":97.2665940017594},{"$f":"STDEV(C191,F191,I191,L191,O191,R191,U191,X191,AA191,AD191,AG191,AJ191,AM191,AP191,AS191,AV191,AY191)","v":3.26207706993406}]
[221.25,484.0757,9.27044711014177,221.25,443.9255,12.6648854961832,221.25,614.185,5.61472191930207,221.25,499.8289,10.4032715376227,221.25,673.1406,4.77382769901854,221.25,414.4306,13.0888767720829,221.25,634.7474,5.13729552889858,221.25,626.3574,5.81701199563795,221.25,572.3574,7.23271537622683,221.25,364.5512,13.0250817884406,221.25,654.5789,4.83696837513631,221.25,498.8372,10.6354416575791,221.25,665.8543,4.05103598691385,221.25,441.8282,11.1340239912759,221.25,437.8006,13.3940021810251,221.25,517.929,7.78822246455834,221.25,474.9205,8.72442748091603,null,{"$f":"AW192","v":221.25},{"$f":"AVERAGE(B192,E192,H192,K192,N192,Q192,T192,W192,Z192,AC192,AF192,AI192,AL192,AO192,AR192,AU192,AX192)","v":530.549905882353},{"$f":"AVERAGE(C192,F192,I192,L192,O192,R192,U192,X192,AA192,AD192,AG192,AJ192,AM192,AP192,AS192,AV192,AY192)","v":8.68189749182116},{"$f":"STDEV(B192,E192,H192,K192,N192,Q192,T192,W192,Z192,AC192,AF192,AI192,AL192,AO192,AR192,AU192,AX192)","v":98.4827832725184},{"$f":"STDEV(C192,F192,I192,L192,O192,R192,U192,X192,AA192,AD192,AG192,AJ192,AM192,AP192,AS192,AV192,AY192)","v":3.29841739531972}]
[222.5,488.7366,9.47208287895311,222.5,443.3775,12.5309705561614,222.5,634.1733,5.52966194111232,222.5,486.5478,9.45986913849509,222.5,669.0108,4.77589967284624,222.5,414.914,13.1403489640131,222.5,648.8997,4.94994547437296,222.5,618.1615,5.9896401308615,222.5,576.919,7.28473282442748,222.5,358.9254,13.1174482006543,222.5,647.082,4.93075245365322,222.5,497.7368,10.8043620501636,222.5,652.6699,4.19825517993457,222.5,442.0779,11.1222464558342,222.5,435.5051,13.2423118865867,222.5,523.6877,8.1484187568157,222.5,484.2777,9.04721919302072,null,{"$f":"AW193","v":222.5},{"$f":"AVERAGE(B193,E193,H193,K193,N193,Q193,T193,W193,Z193,AC193,AF193,AI193,AL193,AO193,AR193,AU193,AX193)","v":530.747217647059},{"$f":"AVERAGE(C193,F193,I193,L193,O193,R193,U193,X193,AA193,AD193,AG193,AJ193,AM193,AP193,AS193,AV193,AY193)","v":8.69083327987684},{"$f":"STDEV(B193,E193,H193,K193,N193,Q193,T193,W193,Z193,AC193,AF193,AI193,AL193,AO193,AR193,AU193,AX193)","v":98.8907423973311},{"$f":"STDEV(C193,F193,I193,L193,O193,R193,U193,X193,AA193,AD193,AG193,AJ193,AM193,AP193,AS193,AV193,AY193)","v":3.25736153180284}]
[223.75,485.5022,9.39869138495093,223.75,443.6967,12.5151581243184,223.75,625.2947,5.60752453653217,223.75,505.8507,8.81003271537623,223.75,665.9962,4.75452562704471,223.75,416.8102,13.0320610687023,223.75,635.2914,5.0309705561614,223.75,616.2836,6.17437295528899,223.75,579.1369,7.16041439476554,223.75,346.4956,13.390294438386,223.75,654.6998,4.94111232279171,223.75,495.0857,10.8351145038168,223.75,608.6637,4.47295528898582,223.75,441.5833,10.7,223.75,433.1415,13.1980370774264,223.75,519.2722,8.16259541984733,223.75,450.3194,8.90109051254089,null,{"$f":"AW194","v":223.75},{"$f":"AVERAGE(B194,E194,H194,K194,N194,Q194,T194,W194,Z194,AC194,AF194,AI194,AL194,AO194,AR194,AU194,AX194)","v":524.889635294118},{"$f":"AVERAGE(C194,F194,I194,L194,O194,R194,U194,X194,AA194,AD194,AG194,AJ194,AM194,AP194,AS194,AV194,AY194)","v":8.65205593687857},{"$f":"STDEV(B194,E194,H194,K194,N194,Q194,T194,W194,Z194,AC194,AF194,AI194,AL194,AO194,AR194,AU194,AX194)","v":97.2095483166966},{"$f":"STDEV(C194,F194,I194,L194,O194,R194,U194,X194,AA194,AD194,AG194,AJ194,AM194,AP194,AS194,AV194,AY194)","v":3.20391116581938}]
[225,478.9489,9.47251908396946,225,437.1858,12.0942202835333,225,625.0969,5.65659760087241,225,430.2361,7.1814612868048,225,661.686,4.81363140676118,225,416.2514,12.4304252998909,225,634.0223,5.09629225736096,225,614.3075,6.24972737186478,225,573.9722,7.29160305343511,225,351.0863,14.8628135223555,225,669.5534,4.86368593238822,225,494.699,10.8632497273719,225,588.0441,4.54721919302072,225,456.1036,11.1358778625954,225,434.569,13.3161395856052,225,463.2343,8.05376226826608,225,457.3198,9.37197382769902,null,{"$f":"AW195","v":225},{"$f":"AVERAGE(B195,E195,H195,K195,N195,Q195,T195,W195,Z195,AC195,AF195,AI195,AL195,AO195,AR195,AU195,AX195)","v":516.842152941176},{"$f":"AVERAGE(C195,F195,I195,L195,O195,R195,U195,X195,AA195,AD195,AG195,AJ195,AM195,AP195,AS195,AV195,AY195)","v":8.66477644492912},{"$f":"STDEV(B195,E195,H195,K195,N195,Q195,T195,W195,Z195,AC195,AF195,AI195,AL195,AO195,AR195,AU195,AX195)","v":99.3176767470054},{"$f":"STDEV(C195,F195,I195,L195,O195,R195,U195,X195,AA195,AD195,AG195,AJ195,AM195,AP195,AS195,AV195,AY195)","v":3.32032543545798}]
[226.25,470.924,9.16684841875682,226.25,417.701,9.77775354416576,226.25,628.7,5.47797164667394,226.25,372.2168,6.49040348964013,226.25,654.9227,4.9123227917121,226.25,419.2699,12.4785169029444,226.25,641.4328,5.09182115594329,226.25,603.5387,6.01635768811341,226.25,553.168,7.61941112322792,226.25,346.7419,12.2758996728462,226.25,665.9698,4.89323882224646,226.25,497.2918,10.8016357688113,226.25,588.8494,4.57044711014177,226.25,458.4228,11.0839694656489,226.25,436.2766,13.6177753544166,226.25,475.1923,8.53162486368593,226.25,440.2956,8.34362050163577,null,{"$f":"AW196","v":226.25},{"$f":"AVERAGE(B196,E196,H196,K196,N196,Q196,T196,W196,Z196,AC196,AF196,AI196,AL196,AO196,AR196,AU196,AX196)","v":510.053770588235},{"$f":"AVERAGE(C196,F196,I196,L196,O196,R196,U196,X196,AA196,AD196,AG196,AJ196,AM196,AP196,AS196,AV196,AY196)","v":8.30291872474181},{"$f":"STDEV(B196,E196,H196,K196,N196,Q196,T196,W196,Z196,AC196,AF196,AI196,AL196,AO196,AR196,AU196,AX196)","v":103.611689243925},{"$f":"STDEV(C196,F196,I196,L196,O196,R196,U196,X196,AA196,AD196,AG196,AJ196,AM196,AP196,AS196,AV196,AY196)","v":2.98691767852603}]
[227.5,447.6773,7.83064340239913,227.5,445.8848,8.77557251908397,227.5,637.7703,5.25943293347873,227.5,357.4814,6.85572519083969,227.5,651.1075,5.03227917121047,227.5,425.3309,12.606106870229,227.5,637.7829,5.18822246455834,227.5,624.9831,5.76575790621592,227.5,555.5251,8.18615049073064,227.5,292.9686,7.5701199563795,227.5,659.7796,4.99814612868048,227.5,498.5612,10.735332606325,227.5,453.5815,5.3423118865867,227.5,457.9681,11.0945474372955,227.5,435.7367,13.4386041439477,227.5,478.38,8.16194111232279,227.5,469.2787,7.54034896401309,null,{"$f":"AW197","v":227.5},{"$f":"AVERAGE(B197,E197,H197,K197,N197,Q197,T197,W197,Z197,AC197,AF197,AI197,AL197,AO197,AR197,AU197,AX197)","v":501.752805882353},{"$f":"AVERAGE(C197,F197,I197,L197,O197,R197,U197,X197,AA197,AD197,AG197,AJ197,AM197,AP197,AS197,AV197,AY197)","v":7.90477901084098},{"$f":"STDEV(B197,E197,H197,K197,N197,Q197,T197,W197,Z197,AC197,AF197,AI197,AL197,AO197,AR197,AU197,AX197)","v":108.644756890758},{"$f":"STDEV(C197,F197,I197,L197,O197,R197,U197,X197,AA197,AD197,AG197,AJ197,AM197,AP197,AS197,AV197,AY197)","v":2.68544356766235}]
[228.75,491.014,6.9835332606325,228.75,475.551,9.19661941112323,228.75,649.4151,5.13696837513631,228.75,478.7873,8.17568157033806,228.75,646.6549,5.16444929116685,228.75,426.6218,11.9644492911668,228.75,627.7505,5.19214830970556,228.75,619.4736,5.74514721919302,228.75,556.9304,8.29989094874591,228.75,383.9296,7.8041439476554,228.75,663.2353,5.05539803707743,228.75,491.1683,10.53413304253,228.75,560.9531,4.90981461286805,228.75,455.5303,11.2404580152672,228.75,432.7969,12.5326063249727,228.75,478.0541,7.69847328244275,228.75,526.045,6.92104689203926,null,{"$f":"AW198","v":228.75},{"$f":"AVERAGE(B198,E198,H198,K198,N198,Q198,T198,W198,Z198,AC198,AF198,AI198,AL198,AO198,AR198,AU198,AX198)","v":527.288894117647},{"$f":"AVERAGE(C198,F198,I198,L198,O198,R198,U198,X198,AA198,AD198,AG198,AJ198,AM198,AP198,AS198,AV198,AY198)","v":7.79735069600359},{"$f":"STDEV(B198,E198,H198,K198,N198,Q198,T198,W198,Z198,AC198,AF198,AI198,AL198,AO198,AR198,AU198,AX198)","v":87.7090739021587},{"$f":"STDEV(C198,F198,I198,L198,O198,R198,U198,X198,AA198,AD198,AG198,AJ198,AM198,AP198,AS198,AV198,AY198)","v":2.54694151946081}]
[230,566.4129,6.39749182115594,230,432.577,9.19901853871319,230,644.9588,5.10981461286805,230,479.0303,8.49520174482007,230,633.8012,5.40174482006543,230,429.7675,11.4925845147219,230,647.8772,4.96466739367503,230,618.1113,5.7896401308615,230,559.3473,8.21123227917121,230,474.5236,7.36128680479826,230,657.0305,5.12617230098146,230,338.0963,7.13718647764449,230,607.4377,4.66161395856052,230,457.227,11.5017448200654,230,437.8938,12.3715376226827,230,514.815,7.16586695747001,230,569.5113,6.43009814612868,null,{"$f":"AW199","v":230},{"$f":"AVERAGE(B199,E199,H199,K199,N199,Q199,T199,W199,Z199,AC199,AF199,AI199,AL199,AO199,AR199,AU199,AX199)","v":533.436394117647},{"$f":"AVERAGE(C199,F199,I199,L199,O199,R199,U199,X199,AA199,AD199,AG199,AJ199,AM199,AP199,AS199,AV199,AY199)","v":7.45981782025787},{"$f":"STDEV(B199,E199,H199,K199,N199,Q199,T199,W199,Z199,AC199,AF199,AI199,AL199,AO199,AR199,AU199,AX199)","v":95.9753106984843},{"$f":"STDEV(C199,F199,I199,L199,O199,R199,U199,X199,AA199,AD199,AG199,AJ199,AM199,AP199,AS199,AV199,AY199)","v":2.44725861636359}]
[231.25,594.0362,6.04711014176663,231.25,416.2818,10.9189749182116,231.25,650.9955,4.95267175572519,231.25,523.554,9.16117775354417,231.25,640.3523,5.42922573609597,231.25,427.79,11.3162486368593,231.25,647.5507,4.90752453653217,231.25,624.9757,5.81450381679389,231.25,549.0227,7.87971646673937,231.25,530.7728,6.53718647764449,231.25,653.0727,5.11428571428571,231.25,450.2363,7.2608505997819,231.25,437.7798,5.65496183206107,231.25,454.8928,11.454852780807,231.25,438.4573,12.3342420937841,231.25,562.6792,6.94209378407852,231.25,579.2927,5.97546346782988,null,{"$f":"AW200","v":231.25},{"$f":"AVERAGE(B200,E200,H200,K200,N200,Q200,T200,W200,Z200,AC200,AF200,AI200,AL200,AO200,AR200,AU200,AX200)","v":540.1025},{"$f":"AVERAGE(C200,F200,I200,L200,O200,R200,U200,X200,AA200,AD200,AG200,AJ200,AM200,AP200,AS200,AV200,AY200)","v":7.51182885367888},{"$f":"STDEV(B200,E200,H200,K200,N200,Q200,T200,W200,Z200,AC200,AF200,AI200,AL200,AO200,AR200,AU200,AX200)","v":87.7984135944238},{"$f":"STDEV(C200,F200,I200,L200,O200,R200,U200,X200,AA200,AD200,AG200,AJ200,AM200,AP200,AS200,AV200,AY200)","v":2.54128894612948}]
[232.5,599.3873,5.84907306434024,232.5,416.3489,11.4391494002181,232.5,648.5941,4.94405670665213,232.5,531.1207,9.29465648854962,232.5,644.1643,5.31494002181025,232.5,424.491,11.4505997818975,232.5,643.8946,5.01570338058888,232.5,620.5398,5.86052344601963,232.5,515.8286,7.43533260632497,232.5,594.5997,5.92606324972737,232.5,645.7542,5.16881134133043,232.5,509.2608,7.05321701199564,232.5,540.2067,5.38789531079607,232.5,452.6454,11.1637949836423,232.5,432.7167,12.4355507088332,232.5,580.5771,6.69890948745911,232.5,585.5512,5.50348964013086,null,{"$f":"AW201","v":232.5},{"$f":"AVERAGE(B201,E201,H201,K201,N201,Q201,T201,W201,Z201,AC201,AF201,AI201,AL201,AO201,AR201,AU201,AX201)","v":552.098888235294},{"$f":"AVERAGE(C201,F201,I201,L201,O201,R201,U201,X201,AA201,AD201,AG201,AJ201,AM201,AP201,AS201,AV201,AY201)","v":7.40833921354801},{"$f":"STDEV(B201,E201,H201,K201,N201,Q201,T201,W201,Z201,AC201,AF201,AI201,AL201,AO201,AR201,AU201,AX201)","v":82.2454226790911},{"$f":"STDEV(C201,F201,I201,L201,O201,R201,U201,X201,AA201,AD201,AG201,AJ201,AM201,AP201,AS201,AV201,AY201)","v":2.64671920002442}]
[233.75,613.6455,5.77121046892039,233.75,424.9813,10.0404580152672,233.75,648.581,4.91090512540894,233.75,499.4394,8.73456924754635,233.75,645.6628,5.21417666303162,233.75,429.3762,11.0513631406761,233.75,655.7191,5.01984732824428,233.75,626.7668,5.89531079607415,233.75,506.9427,7.73936750272628,233.75,616.0312,5.59094874591058,233.75,647.6973,5.26859323882225,233.75,550.7474,6.51494002181025,233.75,580.6117,4.99160305343511,233.75,455.3809,11.0717557251908,233.75,431.7946,12.2720828789531,233.75,574.7128,6.51483097055616,233.75,626.7606,4.9309705561614,null,{"$f":"AW202","v":233.75},{"$f":"AVERAGE(B202,E202,H202,K202,N202,Q202,T202,W202,Z202,AC202,AF202,AI202,AL202,AO202,AR202,AU202,AX202)","v":560.873605882353},{"$f":"AVERAGE(C202,F202,I202,L202,O202,R202,U202,X202,AA202,AD202,AG202,AJ202,AM202,AP202,AS202,AV202,AY202)","v":7.14899608698441},{"$f":"STDEV(B202,E202,H202,K202,N202,Q202,T202,W202,Z202,AC202,AF202,AI202,AL202,AO202,AR202,AU202,AX202)","v":85.4549608439401},{"$f":"STDEV(C202,F202,I202,L202,O202,R202,U202,X202,AA202,AD202,AG202,AJ202,AM202,AP202,AS202,AV202,AY202)","v":2.51474570610217}]
[235,637.1502,5.6288985823337,235,458.4387,10.4977099236641,235,664.2089,4.66859323882225,235,473.277,9.11864776444929,235,654.8766,5.13947655398037,235,442.227,10.788985823337,235,653.1169,5.00218102508179,235,624.5469,5.85387131952017,235,528.8197,8.56324972737187,235,628.5354,5.49094874591058,235,644.1329,5.37033805888768,235,469.9099,6.53544165757906,235,677.7953,4.43380588876772,235,452.7176,10.6477644492912,235,437.4357,12.2519083969466,235,569.6838,6.36074154852781,235,679.3919,4.48233369683751,null,{"$f":"AW203","v":235},{"$f":"AVERAGE(B203,E203,H203,K203,N203,Q203,T203,W203,Z203,AC203,AF203,AI203,AL203,AO203,AR203,AU203,AX203)","v":570.368494117647},{"$f":"AVERAGE(C203,F203,I203,L203,O203,R203,U203,X203,AA203,AD203,AG203,AJ203,AM203,AP203,AS203,AV203,AY203)","v":7.10793508242992},{"$f":"STDEV(B203,E203,H203,K203,N203,Q203,T203,W203,Z203,AC203,AF203,AI203,AL203,AO203,AR203,AU203,AX203)","v":94.9170937282998},{"$f":"STDEV(C203,F203,I203,L203,O203,R203,U203,X203,AA203,AD203,AG203,AJ203,AM203,AP203,AS203,AV203,AY203)","v":2.60740286252194}]
[236.25,620.8445,5.62737186477645,236.25,462.4575,10.2119956379498,236.25,666.1695,4.5835332606325,236.25,507.3901,10.1165757906216,236.25,646.2535,5.25376226826609,236.25,457.096,10.6172300981461,236.25,659.1558,4.90436205016358,236.25,624.0308,5.65038167938931,236.25,519.7402,9.1711014176663,236.25,627.0085,5.43794983642312,236.25,618.7287,5.59934569247546,236.25,325.7581,6.913413304253,236.25,610.449,5.1020719738277,236.25,460.0456,10.89760087241,236.25,438.0642,12.428026172301,236.25,579.4604,6.37971646673937,236.25,648.0959,4.62355507088332,null,{"$f":"AW204","v":236.25},{"$f":"AVERAGE(B204,E204,H204,K204,N204,Q204,T204,W204,Z204,AC204,AF204,AI204,AL204,AO204,AR204,AU204,AX204)","v":557.102841176471},{"$f":"AVERAGE(C204,F204,I204,L204,O204,R204,U204,X204,AA204,AD204,AG204,AJ204,AM204,AP204,AS204,AV204,AY204)","v":7.26576432099557},{"$f":"STDEV(B204,E204,H204,K204,N204,Q204,T204,W204,Z204,AC204,AF204,AI204,AL204,AO204,AR204,AU204,AX204)","v":99.7019365887084},{"$f":"STDEV(C204,F204,I204,L204,O204,R204,U204,X204,AA204,AD204,AG204,AJ204,AM204,AP204,AS204,AV204,AY204)","v":2.64943003266617}]
[237.5,609.434,5.77764449291167,237.5,472.4609,9.76532170119956,237.5,669.4484,4.52595419847328,237.5,445.8732,8.3009814612868,237.5,645.7154,5.35965103598691,237.5,467.7331,10.811014176663,237.5,660.8179,4.86346782988004,237.5,645.0937,5.43020719738277,237.5,522.552,9.59934569247546,237.5,634.2975,5.36641221374046,237.5,621.8671,5.62955288985823,237.5,457.8241,9.9907306434024,237.5,607.3405,5.26663031624864,237.5,451.679,10.6898582333697,237.5,305.8201,7.28026172300981,237.5,585.917,6.44362050163577,237.5,641.8266,4.39869138495093,null,{"$f":"AW205","v":237.5},{"$f":"AVERAGE(B205,E205,H205,K205,N205,Q205,T205,W205,Z205,AC205,AF205,AI205,AL205,AO205,AR205,AU205,AX205)","v":555.629441176471},{"$f":"AVERAGE(C205,F205,I205,L205,O205,R205,U205,X205,AA205,AD205,AG205,AJ205,AM205,AP205,AS205,AV205,AY205)","v":7.02937327602797},{"$f":"STDEV(B205,E205,H205,K205,N205,Q205,T205,W205,Z205,AC205,AF205,AI205,AL205,AO205,AR205,AU205,AX205)","v":104.639455655617},{"$f":"STDEV(C205,F205,I205,L205,O205,R205,U205,X205,AA205,AD205,AG205,AJ205,AM205,AP205,AS205,AV205,AY205)","v":2.30767572035327}]
[238.75,611.9453,5.90796074154853,238.75,483.2813,8.92933478735005,238.75,639.2066,4.81494002181025,238.75,334.3269,6.52464558342421,238.75,637.5216,5.4608505997819,238.75,470.1174,10.9517993456925,238.75,662.4163,4.85354416575791,238.75,635.0367,5.43936750272628,238.75,520.3544,9.61635768811341,238.75,624.1927,5.5423118865867,238.75,637.1438,5.37709923664122,238.75,478.316,11.3613958560523,238.75,573.4519,5.57622682660851,238.75,453.0064,11.0016357688113,238.75,386.7809,7.10676117775354,238.75,587.1957,6.39520174482007,238.75,675.1549,3.90545256270447,null,{"$f":"AW206","v":238.75},{"$f":"AVERAGE(B206,E206,H206,K206,N206,Q206,T206,W206,Z206,AC206,AF206,AI206,AL206,AO206,AR206,AU206,AX206)","v":553.496988235294},{"$f":"AVERAGE(C206,F206,I206,L206,O206,R206,U206,X206,AA206,AD206,AG206,AJ206,AM206,AP206,AS206,AV206,AY206)","v":6.9861697350696},{"$f":"STDEV(B206,E206,H206,K206,N206,Q206,T206,W206,Z206,AC206,AF206,AI206,AL206,AO206,AR206,AU206,AX206)","v":102.84238299323},{"$f":"STDEV(C206,F206,I206,L206,O206,R206,U206,X206,AA206,AD206,AG206,AJ206,AM206,AP206,AS206,AV206,AY206)","v":2.41816058150232}]
[240,611.4631,6.0217011995638,240,508.8577,8.56161395856052,240,650.0873,4.91079607415485,240,504.1842,5.75376226826609,240,629.4472,5.51952017448201,240,474.3503,11.1079607415485,240,578.4085,5.31864776444929,240,624.3866,5.59334787350055,240,504.456,8.83031624863686,240,620.9394,5.57208287895311,240,650.1235,5.20436205016358,240,466.4675,10.4668484187568,240,534.3246,5.84460196292257,240,456.6141,11.2777535441658,240,450.6457,6.11363140676118,240,577.4872,6.42017448200654,240,720.6804,3.39858233369684,null,{"$f":"AW207","v":240},{"$f":"AVERAGE(B207,E207,H207,K207,N207,Q207,T207,W207,Z207,AC207,AF207,AI207,AL207,AO207,AR207,AU207,AX207)","v":562.5249},{"$f":"AVERAGE(C207,F207,I207,L207,O207,R207,U207,X207,AA207,AD207,AG207,AJ207,AM207,AP207,AS207,AV207,AY207)","v":6.81857078709346},{"$f":"STDEV(B207,E207,H207,K207,N207,Q207,T207,W207,Z207,AC207,AF207,AI207,AL207,AO207,AR207,AU207,AX207)","v":81.4438350140451},{"$f":"STDEV(C207,F207,I207,L207,O207,R207,U207,X207,AA207,AD207,AG207,AJ207,AM207,AP207,AS207,AV207,AY207)","v":2.33164800679531}]
[241.25,615.4488,6.08167938931298,241.25,523.9549,8.36488549618321,241.25,668.6388,4.82704471101418,241.25,566.029,4.99509269356598,241.25,635.4019,5.346346782988,241.25,478.0302,10.7672846237732,241.25,526.1595,6.10076335877863,241.25,631.5256,5.71417666303163,241.25,525.219,8.05387131952017,241.25,629.2876,5.39520174482007,241.25,655.3222,5.14645583424209,241.25,481.7862,9.64918211559433,241.25,534.5499,6.08015267175573,241.25,454.5242,10.943838604144,241.25,567.4821,4.99432933478735,241.25,580.2012,6.47742639040349,241.25,734.3248,3.20338058887677,null,{"$f":"AW208","v":241.25},{"$f":"AVERAGE(B208,E208,H208,K208,N208,Q208,T208,W208,Z208,AC208,AF208,AI208,AL208,AO208,AR208,AU208,AX208)","v":576.934464705882},{"$f":"AVERAGE(C208,F208,I208,L208,O208,R208,U208,X208,AA208,AD208,AG208,AJ208,AM208,AP208,AS208,AV208,AY208)","v":6.59653601898775},{"$f":"STDEV(B208,E208,H208,K208,N208,Q208,T208,W208,Z208,AC208,AF208,AI208,AL208,AO208,AR208,AU208,AX208)","v":76.5846003820525},{"$f":"STDEV(C208,F208,I208,L208,O208,R208,U208,X208,AA208,AD208,AG208,AJ208,AM208,AP208,AS208,AV208,AY208)","v":2.1982831747658}]
[242.5,615.0724,6.09651035986914,242.5,532.4496,8.11177753544166,242.5,667.4733,4.84056706652126,242.5,676.034,4.17437295528899,242.5,633.8024,5.38124318429662,242.5,480.8206,10.6371864776445,242.5,581.7996,6.47513631406761,242.5,630.0498,5.76303162486369,242.5,553.0113,7.38309705561614,242.5,639.9127,5.30676117775354,242.5,654.5316,5.05452562704471,242.5,491.5679,9.51406761177753,242.5,437.731,6.29858233369684,242.5,461.8412,11.0250817884406,242.5,684.0249,3.6969465648855,242.5,553.0572,6.55507088331516,242.5,736.2306,3.11504907306434,null,{"$f":"AW209","v":242.5},{"$f":"AVERAGE(B209,E209,H209,K209,N209,Q209,T209,W209,Z209,AC209,AF209,AI209,AL209,AO209,AR209,AU209,AX209)","v":589.9653},{"$f":"AVERAGE(C209,F209,I209,L209,O209,R209,U209,X209,AA209,AD209,AG209,AJ209,AM209,AP209,AS209,AV209,AY209)","v":6.43700044903458},{"$f":"STDEV(B209,E209,H209,K209,N209,Q209,T209,W209,Z209,AC209,AF209,AI209,AL209,AO209,AR209,AU209,AX209)","v":87.237697433578},{"$f":"STDEV(C209,F209,I209,L209,O209,R209,U209,X209,AA209,AD209,AG209,AJ209,AM209,AP209,AS209,AV209,AY209)","v":2.27733032128113}]
[243.75,620.4285,6.04252998909487,243.75,523.4326,7.72431842966194,243.75,662.8728,4.85321701199564,243.75,690.9952,4.01701199563795,243.75,609.3613,5.65114503816794,243.75,482.0961,10.5016357688113,243.75,588.2542,6.64732824427481,243.75,623.8027,5.64285714285714,243.75,558.5831,7.10708833151581,243.75,643.9641,5.19869138495093,243.75,661.7709,4.82333696837514,243.75,490.1348,10.001199563795,243.75,361.6026,6.49803707742639,243.75,462.9797,11.0064340239913,243.75,737.1162,3.12017448200654,243.75,573.027,6.72071973827699,243.75,753.1695,2.88015267175572,null,{"$f":"AW210","v":243.75},{"$f":"AVERAGE(B210,E210,H210,K210,N210,Q210,T210,W210,Z210,AC210,AF210,AI210,AL210,AO210,AR210,AU210,AX210)","v":590.799488235294},{"$f":"AVERAGE(C210,F210,I210,L210,O210,R210,U210,X210,AA210,AD210,AG210,AJ210,AM210,AP210,AS210,AV210,AY210)","v":6.3785810507409},{"$f":"STDEV(B210,E210,H210,K210,N210,Q210,T210,W210,Z210,AC210,AF210,AI210,AL210,AO210,AR210,AU210,AX210)","v":103.046968430686},{"$f":"STDEV(C210,F210,I210,L210,O210,R210,U210,X210,AA210,AD210,AG210,AJ210,AM210,AP210,AS210,AV210,AY210)","v":2.36959278053964}]
[245,618.5056,6.03380588876772,245,529.0069,7.51395856052345,245,663.5813,4.88298800436205,245,695.5874,3.94623773173391,245,618.3265,5.59040348964013,245,483.0122,10.4906215921483,245,596.0876,6.55332606324973,245,627.8637,5.48375136314068,245,505.3027,7.35005452562705,245,661.0745,5.0391494002181,245,662.7459,4.76466739367503,245,495.9048,10.5986913849509,245,374.4636,6.87393675027263,245,456.1807,10.8516902944384,245,734.5472,3.15278080697928,245,583.5606,6.62617230098146,245,760.3759,2.80817884405671,null,{"$f":"AW211","v":245},{"$f":"AVERAGE(B211,E211,H211,K211,N211,Q211,T211,W211,Z211,AC211,AF211,AI211,AL211,AO211,AR211,AU211,AX211)","v":592.125123529412},{"$f":"AVERAGE(C211,F211,I211,L211,O211,R211,U211,X211,AA211,AD211,AG211,AJ211,AM211,AP211,AS211,AV211,AY211)","v":6.38590672910386},{"$f":"STDEV(B211,E211,H211,K211,N211,Q211,T211,W211,Z211,AC211,AF211,AI211,AL211,AO211,AR211,AU211,AX211)","v":104.712791442101},{"$f":"STDEV(C211,F211,I211,L211,O211,R211,U211,X211,AA211,AD211,AG211,AJ211,AM211,AP211,AS211,AV211,AY211)","v":2.43082187820821}]
[246.25,590.2805,6.2360959651036,246.25,557.2744,7.51537622682661,246.25,666.3863,4.92322791712105,246.25,698.4167,3.84067611777535,246.25,638.6384,5.4217011995638,246.25,472.1858,10.5342420937841,246.25,593.9356,6.48407851690294,246.25,634.0364,5.38091603053435,246.25,524.8214,8.2856052344602,246.25,659.8692,4.93162486368593,246.25,658.2383,4.82300981461287,246.25,495.3777,9.96532170119956,246.25,445.2268,7.81483097055616,246.25,461.8067,11.3114503816794,246.25,735.091,3.17055616139586,246.25,596.3218,6.49716466739368,246.25,759.1161,2.82813522355507,null,{"$f":"AW212","v":246.25},{"$f":"AVERAGE(B212,E212,H212,K212,N212,Q212,T212,W212,Z212,AC212,AF212,AI212,AL212,AO212,AR212,AU212,AX212)","v":599.236652941177},{"$f":"AVERAGE(C212,F212,I212,L212,O212,R212,U212,X212,AA212,AD212,AG212,AJ212,AM212,AP212,AS212,AV212,AY212)","v":6.46847135800885},{"$f":"STDEV(B212,E212,H212,K212,N212,Q212,T212,W212,Z212,AC212,AF212,AI212,AL212,AO212,AR212,AU212,AX212)","v":95.2741167243307},{"$f":"STDEV(C212,F212,I212,L212,O212,R212,U212,X212,AA212,AD212,AG212,AJ212,AM212,AP212,AS212,AV212,AY212)","v":2.49058171788503}]
[247.5,582.9296,6.52453653217012,247.5,551.406,7.55605234460196,247.5,661.2758,4.98495092693566,247.5,712.5159,3.63358778625954,247.5,628.0753,5.40119956379498,247.5,471.0984,10.4772082878953,247.5,590.2931,6.29803707742639,247.5,642.7136,5.25583424209378,247.5,517.1429,9.00250817884406,247.5,654.6087,4.93500545256271,247.5,644.2534,4.89629225736096,247.5,511.8851,9.8062159214831,247.5,508.689,9.04918211559433,247.5,461.9876,11.3092693565976,247.5,717.7039,3.45278080697928,247.5,605.5005,6.41984732824428,247.5,756.4637,2.84187568157034,null,{"$f":"AW213","v":247.5},{"$f":"AVERAGE(B213,E213,H213,K213,N213,Q213,T213,W213,Z213,AC213,AF213,AI213,AL213,AO213,AR213,AU213,AX213)","v":601.090735294118},{"$f":"AVERAGE(C213,F213,I213,L213,O213,R213,U213,X213,AA213,AD213,AG213,AJ213,AM213,AP213,AS213,AV213,AY213)","v":6.57908140355379},{"$f":"STDEV(B213,E213,H213,K213,N213,Q213,T213,W213,Z213,AC213,AF213,AI213,AL213,AO213,AR213,AU213,AX213)","v":87.9240100719859},{"$f":"STDEV(C213,F213,I213,L213,O213,R213,U213,X213,AA213,AD213,AG213,AJ213,AM213,AP213,AS213,AV213,AY213)","v":2.55748231274796}]
[248.75,580.1339,6.67360959651036,248.75,532.997,7.81384950926936,248.75,640.8684,5.10272628135224,248.75,704.2626,3.72191930207197,248.75,637.7819,5.33685932388222,248.75,478.7408,10.3186477644493,248.75,604.9805,6.01810250817884,248.75,642.7452,5.2257360959651,248.75,515.1471,9.54351145038168,248.75,624.2601,5.24133042529989,248.75,635.1844,4.96444929116685,248.75,508.0219,9.01319520174482,248.75,504.6455,9.02115594329335,248.75,455.2077,10.7075245365322,248.75,717.4176,3.5484187568157,248.75,589.469,6.33544165757906,248.75,757.6,2.8278080697928,null,{"$f":"AW214","v":248.75},{"$f":"AVERAGE(B214,E214,H214,K214,N214,Q214,T214,W214,Z214,AC214,AF214,AI214,AL214,AO214,AR214,AU214,AX214)","v":595.8508},{"$f":"AVERAGE(C214,F214,I214,L214,O214,R214,U214,X214,AA214,AD214,AG214,AJ214,AM214,AP214,AS214,AV214,AY214)","v":6.55378151260504},{"$f":"STDEV(B214,E214,H214,K214,N214,Q214,T214,W214,Z214,AC214,AF214,AI214,AL214,AO214,AR214,AU214,AX214)","v":87.1044124793199},{"$f":"STDEV(C214,F214,I214,L214,O214,R214,U214,X214,AA214,AD214,AG214,AJ214,AM214,AP214,AS214,AV214,AY214)","v":2.43635085804851}]
[250,588.2875,6.71254089422028,250,544.7223,8.20261723009815,250,629.0799,5.26128680479826,250,705.2865,3.69334787350054,250,639.0282,5.40610687022901,250,478.8954,10.0336968375136,250,618.2999,5.81003271537623,250,645.7795,5.23598691384951,250,506.6931,9.77535441657579,250,615.6348,5.48331515812432,250,639.1015,4.96423118865867,250,527.6028,8.54678298800436,250,497.3229,8.86477644492912,250,461.4541,10.7880043620502,250,719.2448,3.55070883315158,250,569.3182,6.64056706652127,250,752.7522,2.87415485278081,null,{"$f":"AW215","v":250},{"$f":"AVERAGE(B215,E215,H215,K215,N215,Q215,T215,W215,Z215,AC215,AF215,AI215,AL215,AO215,AR215,AU215,AX215)","v":596.382564705883},{"$f":"AVERAGE(C215,F215,I215,L215,O215,R215,U215,X215,AA215,AD215,AG215,AJ215,AM215,AP215,AS215,AV215,AY215)","v":6.57903008531657},{"$f":"STDEV(B215,E215,H215,K215,N215,Q215,T215,W215,Z215,AC215,AF215,AI215,AL215,AO215,AR215,AU215,AX215)","v":85.6861271486372},{"$f":"STDEV(C215,F215,I215,L215,O215,R215,U215,X215,AA215,AD215,AG215,AJ215,AM215,AP215,AS215,AV215,AY215)","v":2.40000635232274}]
[251.25,597.3039,6.70763358778626,251.25,534.2809,7.95572519083969,251.25,653.373,5.19520174482007,251.25,724.3022,3.46019629225736,251.25,635.872,5.51799345692475,251.25,486.5143,10.1220283533261,251.25,626.2058,5.78429661941112,251.25,652.6316,5.21581243184297,251.25,509.9692,9.73282442748092,251.25,619.7028,5.61068702290076,251.25,643.8019,4.93456924754635,251.25,548.5752,8.59465648854962,251.25,421.3537,7.55550708833152,251.25,464.2195,10.8742639040349,251.25,712.4276,3.66215921483097,251.25,580.3991,6.98920392584515,251.25,752.2723,2.88157033805889,null,{"$f":"AW216","v":251.25},{"$f":"AVERAGE(B216,E216,H216,K216,N216,Q216,T216,W216,Z216,AC216,AF216,AI216,AL216,AO216,AR216,AU216,AX216)","v":597.835588235294},{"$f":"AVERAGE(C216,F216,I216,L216,O216,R216,U216,X216,AA216,AD216,AG216,AJ216,AM216,AP216,AS216,AV216,AY216)","v":6.51731349028161},{"$f":"STDEV(B216,E216,H216,K216,N216,Q216,T216,W216,Z216,AC216,AF216,AI216,AL216,AO216,AR216,AU216,AX216)","v":93.4704825307827},{"$f":"STDEV(C216,F216,I216,L216,O216,R216,U216,X216,AA216,AD216,AG216,AJ216,AM216,AP216,AS216,AV216,AY216)","v":2.35927712119385}]
[252.5,598.1092,6.75136314067612,252.5,544.3619,7.66826608505998,252.5,638.6801,5.32355507088332,252.5,711.2961,3.61908396946565,252.5,640.075,5.44274809160305,252.5,489.9066,10.2310796074155,252.5,612.9501,5.91494002181025,252.5,647.9355,5.29051254089422,252.5,511.5877,9.20937840785169,252.5,625.6666,5.68789531079607,252.5,648.2784,4.8763358778626,252.5,544.3613,8.49934569247546,252.5,444.693,7.54013086150491,252.5,464.0799,10.8991275899673,252.5,705.186,3.80676117775354,252.5,554.3173,7.09672846237732,252.5,745.6655,3,null,{"$f":"AW217","v":252.5},{"$f":"AVERAGE(B217,E217,H217,K217,N217,Q217,T217,W217,Z217,AC217,AF217,AI217,AL217,AO217,AR217,AU217,AX217)","v":595.714717647059},{"$f":"AVERAGE(C217,F217,I217,L217,O217,R217,U217,X217,AA217,AD217,AG217,AJ217,AM217,AP217,AS217,AV217,AY217)","v":6.521014818141},{"$f":"STDEV(B217,E217,H217,K217,N217,Q217,T217,W217,Z217,AC217,AF217,AI217,AL217,AO217,AR217,AU217,AX217)","v":87.9374779081652},{"$f":"STDEV(C217,F217,I217,L217,O217,R217,U217,X217,AA217,AD217,AG217,AJ217,AM217,AP217,AS217,AV217,AY217)","v":2.27590425434134}]
[253.75,594.909,6.79770992366412,253.75,550.9507,7.29236641221374,253.75,634.0989,5.39596510359869,253.75,692.8645,3.89116684841876,253.75,651.2854,5.26194111232279,253.75,482.0178,10.1446019629226,253.75,576.8366,6.26990185387132,253.75,637.0471,5.52748091603053,253.75,524.6791,8.89367502726281,253.75,632.6724,5.63249727371865,253.75,650.0307,4.83838604143948,253.75,541.0791,8.09411123227917,253.75,500.3318,8.31897491821156,253.75,465.3452,11.0307524536532,253.75,692.687,3.94972737186478,253.75,546.2262,7.25201744820065,253.75,740.6806,3.08844056706652,null,{"$f":"AW218","v":253.75},{"$f":"AVERAGE(B218,E218,H218,K218,N218,Q218,T218,W218,Z218,AC218,AF218,AI218,AL218,AO218,AR218,AU218,AX218)","v":594.926005882353},{"$f":"AVERAGE(C218,F218,I218,L218,O218,R218,U218,X218,AA218,AD218,AG218,AJ218,AM218,AP218,AS218,AV218,AY218)","v":6.56939508627879},{"$f":"STDEV(B218,E218,H218,K218,N218,Q218,T218,W218,Z218,AC218,AF218,AI218,AL218,AO218,AR218,AU218,AX218)","v":79.9587072993263},{"$f":"STDEV(C218,F218,I218,L218,O218,R218,U218,X218,AA218,AD218,AG218,AJ218,AM218,AP218,AS218,AV218,AY218)","v":2.2192777990624}]
[255,586.3723,6.77339149400218,255,580.66,6.9763358778626,255,642.9825,5.34863685932388,255,701.6977,3.88495092693566,255,650.6413,5.25081788440567,255,482.5658,10.2252998909487,255,576.0661,6.7298800436205,255,638.7598,5.65637949836423,255,518.0642,8.14482006543075,255,632.5667,5.59127589967285,255,650.7174,4.81635768811341,255,562.9355,7.89923664122137,255,515.2679,8.67600872410033,255,461.6406,10.969465648855,255,668.8013,4.24547437295529,255,547.363,7.24427480916031,255,738.1543,3.13544165757906,null,{"$f":"AW219","v":255},{"$f":"AVERAGE(B219,E219,H219,K219,N219,Q219,T219,W219,Z219,AC219,AF219,AI219,AL219,AO219,AR219,AU219,AX219)","v":597.368023529412},{"$f":"AVERAGE(C219,F219,I219,L219,O219,R219,U219,X219,AA219,AD219,AG219,AJ219,AM219,AP219,AS219,AV219,AY219)","v":6.56282635191481},{"$f":"STDEV(B219,E219,H219,K219,N219,Q219,T219,W219,Z219,AC219,AF219,AI219,AL219,AO219,AR219,AU219,AX219)","v":77.3370149687758},{"$f":"STDEV(C219,F219,I219,L219,O219,R219,U219,X219,AA219,AD219,AG219,AJ219,AM219,AP219,AS219,AV219,AY219)","v":2.1591876295619}]
[256.25,572.9076,6.81286804798255,256.25,580.5106,6.74449291166848,256.25,636.4951,5.47851690294438,256.25,683.9965,4.16106870229008,256.25,641.7752,5.34700109051254,256.25,477.8755,10.236641221374,256.25,584.5884,6.85757906215922,256.25,638.0819,5.67066521264995,256.25,533.9304,7.46248636859324,256.25,624.55,5.67001090512541,256.25,627.0956,4.96717557251908,256.25,548.9737,7.72486368593239,256.25,521.5791,8.85856052344602,256.25,460.8768,10.9851690294438,256.25,699.5183,4.07044711014177,256.25,569.2685,7.05779716466739,256.25,709.2133,3.4649945474373,null,{"$f":"AW220","v":256.25},{"$f":"AVERAGE(B220,E220,H220,K220,N220,Q220,T220,W220,Z220,AC220,AF220,AI220,AL220,AO220,AR220,AU220,AX220)","v":594.778617647059},{"$f":"AVERAGE(C220,F220,I220,L220,O220,R220,U220,X220,AA220,AD220,AG220,AJ220,AM220,AP220,AS220,AV220,AY220)","v":6.56296106228751},{"$f":"STDEV(B220,E220,H220,K220,N220,Q220,T220,W220,Z220,AC220,AF220,AI220,AL220,AO220,AR220,AU220,AX220)","v":72.4446746255568},{"$f":"STDEV(C220,F220,I220,L220,O220,R220,U220,X220,AA220,AD220,AG220,AJ220,AM220,AP220,AS220,AV220,AY220)","v":2.08088967834124}]
[257.5,567.2436,6.8845147219193,257.5,581.1289,6.80196292257361,257.5,631.3867,5.56106870229008,257.5,680.9845,4.2990185387132,257.5,638.2367,5.34056706652127,257.5,478.8541,10.4627044711014,257.5,583.6065,6.62998909487459,257.5,636.972,5.58233369683751,257.5,571.9769,6.9814612868048,257.5,613.4795,5.83762268266085,257.5,624.0445,5.00643402399128,257.5,514.7838,7.93871319520174,257.5,493.6497,8.51068702290076,257.5,455.6609,10.7091603053435,257.5,699.9019,4.07164667393675,257.5,589.449,6.9123227917121,257.5,699.0575,3.56346782988004,null,{"$f":"AW221","v":257.5},{"$f":"AVERAGE(B221,E221,H221,K221,N221,Q221,T221,W221,Z221,AC221,AF221,AI221,AL221,AO221,AR221,AU221,AX221)","v":591.789217647059},{"$f":"AVERAGE(C221,F221,I221,L221,O221,R221,U221,X221,AA221,AD221,AG221,AJ221,AM221,AP221,AS221,AV221,AY221)","v":6.53492206042722},{"$f":"STDEV(B221,E221,H221,K221,N221,Q221,T221,W221,Z221,AC221,AF221,AI221,AL221,AO221,AR221,AU221,AX221)","v":73.5084474665857},{"$f":"STDEV(C221,F221,I221,L221,O221,R221,U221,X221,AA221,AD221,AG221,AJ221,AM221,AP221,AS221,AV221,AY221)","v":2.01977319038913}]
[258.75,562.033,7.01526717557252,258.75,579.8298,7.06946564885496,258.75,629.3538,5.56150490730643,258.75,682.251,4.36663031624864,258.75,647.936,5.1629225736096,258.75,471.7389,10.3106870229008,258.75,599.8016,6.45812431842966,258.75,639.2583,5.42551799345693,258.75,589.6269,6.79716466739367,258.75,607.3648,5.88080697928026,258.75,637.4914,4.95496183206107,258.75,515.1204,8.68625954198473,258.75,516.1146,9.2784078516903,258.75,455.0152,10.4821155943293,258.75,694.0033,4.16968375136314,258.75,592.5099,6.65921483097056,258.75,616.8003,4.0937840785169,null,{"$f":"AW222","v":258.75},{"$f":"AVERAGE(B222,E222,H222,K222,N222,Q222,T222,W222,Z222,AC222,AF222,AI222,AL222,AO222,AR222,AU222,AX222)","v":590.3676},{"$f":"AVERAGE(C222,F222,I222,L222,O222,R222,U222,X222,AA222,AD222,AG222,AJ222,AM222,AP222,AS222,AV222,AY222)","v":6.61014818140997},{"$f":"STDEV(B222,E222,H222,K222,N222,Q222,T222,W222,Z222,AC222,AF222,AI222,AL222,AO222,AR222,AU222,AX222)","v":68.0956269168494},{"$f":"STDEV(C222,F222,I222,L222,O222,R222,U222,X222,AA222,AD222,AG222,AJ222,AM222,AP222,AS222,AV222,AY222)","v":2.02703487958043}]
[260,551.2896,7.2948745910578,260,579.6141,7.08091603053435,260,634.9816,5.51461286804798,260,686.3328,4.37808069792803,260,653.0648,5.02213740458015,260,474.1306,10.4367502726281,260,604.3438,6.2495092693566,260,645.286,5.34918211559433,260,591.9456,6.6690294438386,260,618.7217,5.71210468920393,260,627.4651,5.04252998909487,260,511.4496,9.20141766630316,260,524.7134,9.51123227917121,260,466.1765,10.7954198473282,260,678.8713,4.36750272628135,260,586.3658,6.44056706652126,260,631.1649,3.99105779716467,null,{"$f":"AW223","v":260},{"$f":"AVERAGE(B223,E223,H223,K223,N223,Q223,T223,W223,Z223,AC223,AF223,AI223,AL223,AO223,AR223,AU223,AX223)","v":592.112776470588},{"$f":"AVERAGE(C223,F223,I223,L223,O223,R223,U223,X223,AA223,AD223,AG223,AJ223,AM223,AP223,AS223,AV223,AY223)","v":6.65040733850792},{"$f":"STDEV(B223,E223,H223,K223,N223,Q223,T223,W223,Z223,AC223,AF223,AI223,AL223,AO223,AR223,AU223,AX223)","v":66.6623896219462},{"$f":"STDEV(C223,F223,I223,L223,O223,R223,U223,X223,AA223,AD223,AG223,AJ223,AM223,AP223,AS223,AV223,AY223)","v":2.14421739347529}]
[261.25,541.7487,7.81286804798255,261.25,586.687,6.96063249727372,261.25,631.6984,5.42802617230098,261.25,671.3038,4.54732824427481,261.25,638.1361,5.12246455834242,261.25,470.7201,10.3172300981461,261.25,601.869,6.24667393675027,261.25,637.0288,5.41657579062159,261.25,600.5278,6.61068702290076,261.25,635.273,5.58582333696838,261.25,629.2473,4.93620501635769,261.25,519.0026,9.63838604143948,261.25,525.2851,9.5030534351145,261.25,466.6056,10.8063249727372,261.25,670.8179,4.55517993456925,261.25,564.0948,6.67589967284624,261.25,666.12,3.73358778625954,null,{"$f":"AW224","v":261.25},{"$f":"AVERAGE(B224,E224,H224,K224,N224,Q224,T224,W224,Z224,AC224,AF224,AI224,AL224,AO224,AR224,AU224,AX224)","v":591.539176470588},{"$f":"AVERAGE(C224,F224,I224,L224,O224,R224,U224,X224,AA224,AD224,AG224,AJ224,AM224,AP224,AS224,AV224,AY224)","v":6.69982038616973},{"$f":"STDEV(B224,E224,H224,K224,N224,Q224,T224,W224,Z224,AC224,AF224,AI224,AL224,AO224,AR224,AU224,AX224)","v":66.4726624215411},{"$f":"STDEV(C224,F224,I224,L224,O224,R224,U224,X224,AA224,AD224,AG224,AJ224,AM224,AP224,AS224,AV224,AY224)","v":2.18085234830615}]
[262.5,524.1902,8.01308615049073,262.5,566.6986,6.97753544165758,262.5,640.3113,5.30937840785169,262.5,667.4592,4.61384950926936,262.5,641.5958,5.19607415485278,262.5,471.1938,10.3452562704471,262.5,563.7574,6.57535441657579,262.5,623.1517,5.57371864776445,262.5,594.291,6.48222464558342,262.5,610.1514,5.70785169029444,262.5,647.7228,4.74907306434024,262.5,518.7035,9.42791712104689,262.5,523.3115,9.42769901853871,262.5,459.3197,10.6937840785169,262.5,671.6191,4.59803707742639,262.5,565.9025,7.07208287895311,262.5,623.6715,4.0608505997819,null,{"$f":"AW225","v":262.5},{"$f":"AVERAGE(B225,E225,H225,K225,N225,Q225,T225,W225,Z225,AC225,AF225,AI225,AL225,AO225,AR225,AU225,AX225)","v":583.120647058824},{"$f":"AVERAGE(C225,F225,I225,L225,O225,R225,U225,X225,AA225,AD225,AG225,AJ225,AM225,AP225,AS225,AV225,AY225)","v":6.75433959843479},{"$f":"STDEV(B225,E225,H225,K225,N225,Q225,T225,W225,Z225,AC225,AF225,AI225,AL225,AO225,AR225,AU225,AX225)","v":66.0992119117365},{"$f":"STDEV(C225,F225,I225,L225,O225,R225,U225,X225,AA225,AD225,AG225,AJ225,AM225,AP225,AS225,AV225,AY225)","v":2.12224081258989}]
[263.75,522.0542,8.06205016357688,263.75,576.0446,7.21297709923664,263.75,646.6979,5.22071973827699,263.75,650.8632,4.75169029443839,263.75,650.6585,5.2185387131952,263.75,476.7519,10.4564885496183,263.75,580.7933,6.99127589967285,263.75,633.3298,5.64907306434024,263.75,607.5594,6.18898582333697,263.75,593.9653,5.96128680479826,263.75,633.3832,4.71286804798255,263.75,516.1663,8.91166848418757,263.75,520.8738,9.35114503816794,263.75,458.5725,10.8331515812432,263.75,663.4497,4.71941112322792,263.75,565.7783,7.40130861504907,263.75,577.2361,4.42279171210469,null,{"$f":"AW226","v":263.75},{"$f":"AVERAGE(B226,E226,H226,K226,N226,Q226,T226,W226,Z226,AC226,AF226,AI226,AL226,AO226,AR226,AU226,AX226)","v":580.834},{"$f":"AVERAGE(C226,F226,I226,L226,O226,R226,U226,X226,AA226,AD226,AG226,AJ226,AM226,AP226,AS226,AV226,AY226)","v":6.8273782795561},{"$f":"STDEV(B226,E226,H226,K226,N226,Q226,T226,W226,Z226,AC226,AF226,AI226,AL226,AO226,AR226,AU226,AX226)","v":63.5524297133379},{"$f":"STDEV(C226,F226,I226,L226,O226,R226,U226,X226,AA226,AD226,AG226,AJ226,AM226,AP226,AS226,AV226,AY226)","v":2.07184489298891}]
[265,524.6592,7.99094874591058,265,575.8816,7.2412213740458,265,644.9014,5.23042529989095,265,625.0892,5.01842966194111,265,644.2667,5.23489640130862,265,475.4074,10.5985823336968,265,574.3799,7.07208287895311,265,628.9124,5.62911668484188,265,615.0918,6.15725190839695,265,605.312,5.91155943293348,265,627.2956,4.68898582333697,265,527.6036,8.51374045801527,265,510.6673,9.22955288985823,265,442.6798,10.124427480916,265,656.272,4.853653217012,265,564.6651,7.42758996728462,265,523.6718,4.73336968375136,null,{"$f":"AW227","v":265},{"$f":"AVERAGE(B227,E227,H227,K227,N227,Q227,T227,W227,Z227,AC227,AF227,AI227,AL227,AO227,AR227,AU227,AX227)","v":574.515105882353},{"$f":"AVERAGE(C227,F227,I227,L227,O227,R227,U227,X227,AA227,AD227,AG227,AJ227,AM227,AP227,AS227,AV227,AY227)","v":6.80328436718199},{"$f":"STDEV(B227,E227,H227,K227,N227,Q227,T227,W227,Z227,AC227,AF227,AI227,AL227,AO227,AR227,AU227,AX227)","v":64.2509169303099},{"$f":"STDEV(C227,F227,I227,L227,O227,R227,U227,X227,AA227,AD227,AG227,AJ227,AM227,AP227,AS227,AV227,AY227)","v":1.92966259047497}]
[266.25,525.5033,8.09912758996729,266.25,549.1595,7.10348964013086,266.25,652.4355,5.20338058887677,266.25,643.3491,5.02551799345692,266.25,656.2381,5.10534351145038,266.25,468.6819,10.5846237731734,266.25,566.0884,7.20250817884406,266.25,621.3263,5.58593238822246,266.25,597.9697,6.40970556161396,266.25,598.3605,5.97480916030534,266.25,641.7294,4.54820065430752,266.25,543.4623,8.30065430752454,266.25,517.7966,9.57589967284624,266.25,439.135,9.81199563794984,266.25,652.6053,4.95212649945474,266.25,554.9832,7.36957470010905,266.25,71.6275,6.1309705561614,null,{"$f":"AW228","v":266.25},{"$f":"AVERAGE(B228,E228,H228,K228,N228,Q228,T228,W228,Z228,AC228,AF228,AI228,AL228,AO228,AR228,AU228,AX228)","v":547.085388235294},{"$f":"AVERAGE(C228,F228,I228,L228,O228,R228,U228,X228,AA228,AD228,AG228,AJ228,AM228,AP228,AS228,AV228,AY228)","v":6.88140355378793},{"$f":"STDEV(B228,E228,H228,K228,N228,Q228,T228,W228,Z228,AC228,AF228,AI228,AL228,AO228,AR228,AU228,AX228)","v":138.907973525919},{"$f":"STDEV(C228,F228,I228,L228,O228,R228,U228,X228,AA228,AD228,AG228,AJ228,AM228,AP228,AS228,AV228,AY228)","v":1.85937825959656}]
[267.5,527.5605,8.086586695747,267.5,547.2271,7.1350054525627,267.5,642.6952,5.29727371864776,267.5,651.1216,5.03991275899673,267.5,658.498,5.03151581243184,267.5,468.362,11.0453653217012,267.5,564.3951,7.02388222464558,267.5,629.2331,5.53991275899673,267.5,606.2286,6.61810250817884,267.5,611.212,5.95997818974918,267.5,668.5215,4.27546346782988,267.5,534.8108,8.2649945474373,267.5,516.818,9.61941112322792,267.5,449.4893,10.0026172300981,267.5,662.5426,4.87797164667394,267.5,556.1844,7.29411123227917,267.5,-404.5173,5.78974918211559,null,{"$f":"AW229","v":267.5},{"$f":"AVERAGE(B229,E229,H229,K229,N229,Q229,T229,W229,Z229,AC229,AF229,AI229,AL229,AO229,AR229,AU229,AX229)","v":522.963676470588},{"$f":"AVERAGE(C229,F229,I229,L229,O229,R229,U229,X229,AA229,AD229,AG229,AJ229,AM229,AP229,AS229,AV229,AY229)","v":6.87657963948938},{"$f":"STDEV(B229,E229,H229,K229,N229,Q229,T229,W229,Z229,AC229,AF229,AI229,AL229,AO229,AR229,AU229,AX229)","v":248.498231960367},{"$f":"STDEV(C229,F229,I229,L229,O229,R229,U229,X229,AA229,AD229,AG229,AJ229,AM229,AP229,AS229,AV229,AY229)","v":1.97223757568231}]
[268.75,529.1395,7.9917121046892,268.75,561.4248,7.24961832061069,268.75,632.9,5.51613958560523,268.75,616.4924,5.38789531079607,268.75,644.0285,5.12562704471101,268.75,459.6669,11.2136314067612,268.75,578.7113,6.68953107960741,268.75,641.7348,5.43598691384951,268.75,606.8061,6.66663031624864,268.75,623.5742,5.75703380588877,268.75,659.506,4.37611777535442,268.75,539.8243,8.66652126499455,268.75,514.5302,9.58178844056707,268.75,452.3275,10.043947655398,268.75,648.2736,5.01221374045802,268.75,575.8054,7.24209378407852,268.75,320.8941,6.96488549618321,null,{"$f":"AW230","v":268.75},{"$f":"AVERAGE(B230,E230,H230,K230,N230,Q230,T230,W230,Z230,AC230,AF230,AI230,AL230,AO230,AR230,AU230,AX230)","v":565.037623529412},{"$f":"AVERAGE(C230,F230,I230,L230,O230,R230,U230,X230,AA230,AD230,AG230,AJ230,AM230,AP230,AS230,AV230,AY230)","v":6.99537494387068},{"$f":"STDEV(B230,E230,H230,K230,N230,Q230,T230,W230,Z230,AC230,AF230,AI230,AL230,AO230,AR230,AU230,AX230)","v":89.6529855450275},{"$f":"STDEV(C230,F230,I230,L230,O230,R230,U230,X230,AA230,AD230,AG230,AJ230,AM230,AP230,AS230,AV230,AY230)","v":1.95123663014963}]
[270,535.6925,8.09716466739368,270,565.5382,7.04100327153762,270,633.6239,5.56161395856052,270,602.4497,5.66434023991276,270,638.9719,5.22628135223555,270,452.6428,11.4836423118866,270,591.184,6.34372955288986,270,632.8899,5.35834242093784,270,571.9342,6.45561613958561,270,617.2333,5.67742639040349,270,670.9331,4.36564885496183,270,530.6167,8.78669574700109,270,514.8951,9.5928026172301,270,451.1746,10.0453653217012,270,646.4999,5.1793893129771,270,571.1805,7.11679389312977,270,394.1733,7.49258451472192,null,{"$f":"AW231","v":270},{"$f":"AVERAGE(B231,E231,H231,K231,N231,Q231,T231,W231,Z231,AC231,AF231,AI231,AL231,AO231,AR231,AU231,AX231)","v":565.978447058823},{"$f":"AVERAGE(C231,F231,I231,L231,O231,R231,U231,X231,AA231,AD231,AG231,AJ231,AM231,AP231,AS231,AV231,AY231)","v":7.02873179806274},{"$f":"STDEV(B231,E231,H231,K231,N231,Q231,T231,W231,Z231,AC231,AF231,AI231,AL231,AO231,AR231,AU231,AX231)","v":77.8036939654066},{"$f":"STDEV(C231,F231,I231,L231,O231,R231,U231,X231,AA231,AD231,AG231,AJ231,AM231,AP231,AS231,AV231,AY231)","v":1.98690458473884}]
[271.25,530.2533,8.28102508178844,271.25,571.4587,6.96717557251908,271.25,642.0569,5.50774263904035,271.25,615.6,5.55136314067612,271.25,648.8847,5.22115594329335,271.25,448.5504,11.5139585605234,271.25,579.9046,6.28756815703381,271.25,646.0644,5.06237731733915,271.25,579.1319,6.47666303162486,271.25,614.5782,5.65921483097056,271.25,665.2459,4.47241003271538,271.25,505.488,8.7154852780807,271.25,514.6164,9.60534351145038,271.25,454.4035,10.336641221374,271.25,658.4531,5.15321701199564,271.25,558.3655,6.59465648854962,271.25,482.4609,8.39705561613959,null,{"$f":"AW232","v":271.25},{"$f":"AVERAGE(B232,E232,H232,K232,N232,Q232,T232,W232,Z232,AC232,AF232,AI232,AL232,AO232,AR232,AU232,AX232)","v":571.500964705882},{"$f":"AVERAGE(C232,F232,I232,L232,O232,R232,U232,X232,AA232,AD232,AG232,AJ232,AM232,AP232,AS232,AV232,AY232)","v":7.04723843735967},{"$f":"STDEV(B232,E232,H232,K232,N232,Q232,T232,W232,Z232,AC232,AF232,AI232,AL232,AO232,AR232,AU232,AX232)","v":72.0366089545269},{"$f":"STDEV(C232,F232,I232,L232,O232,R232,U232,X232,AA232,AD232,AG232,AJ232,AM232,AP232,AS232,AV232,AY232)","v":2.07036302974935}]
[272.5,518.4152,8.446346782988,272.5,572.431,6.97001090512541,272.5,638.7373,5.52126499454744,272.5,628.5672,5.51941112322792,272.5,643.0779,5.22508178844057,272.5,450.0701,11.5229007633588,272.5,550.5551,6.73162486368593,272.5,668.7959,4.83315158124318,272.5,591.2567,6.78898582333697,272.5,613.6741,5.76368593238822,272.5,648.5036,4.65845147219193,272.5,505.5301,9.2742639040349,272.5,514.2504,9.66346782988004,272.5,452.7402,10.3087241003272,272.5,661.1915,5.09705561613959,272.5,603.271,6.24711014176663,272.5,427.3967,7.3,null,{"$f":"AW233","v":272.5},{"$f":"AVERAGE(B233,E233,H233,K233,N233,Q233,T233,W233,Z233,AC233,AF233,AI233,AL233,AO233,AR233,AU233,AX233)","v":569.909647058823},{"$f":"AVERAGE(C233,F233,I233,L233,O233,R233,U233,X233,AA233,AD233,AG233,AJ233,AM233,AP233,AS233,AV233,AY233)","v":7.05126691898133},{"$f":"STDEV(B233,E233,H233,K233,N233,Q233,T233,W233,Z233,AC233,AF233,AI233,AL233,AO233,AR233,AU233,AX233)","v":79.0485913367936},{"$f":"STDEV(C233,F233,I233,L233,O233,R233,U233,X233,AA233,AD233,AG233,AJ233,AM233,AP233,AS233,AV233,AY233)","v":2.08190181982306}]
[273.75,519.6709,8.65550708833152,273.75,577.5067,6.86237731733915,273.75,637.0731,5.49454743729553,273.75,634.5608,5.64514721919302,273.75,645.5955,5.01068702290076,273.75,438.4724,11.4359869138495,273.75,515.9824,7.34907306434024,273.75,666.02,4.88996728462377,273.75,585.1369,6.70130861504907,273.75,600.1463,6.03238822246456,273.75,629.486,4.82224645583424,273.75,505.1276,9.67448200654308,273.75,509.5274,9.55190839694657,273.75,450.1702,10.0845147219193,273.75,644.9751,5.20534351145038,273.75,599.0489,6.00894220283533,273.75,517.8336,8.21461286804798,null,{"$f":"AW234","v":273.75},{"$f":"AVERAGE(B234,E234,H234,K234,N234,Q234,T234,W234,Z234,AC234,AF234,AI234,AL234,AO234,AR234,AU234,AX234)","v":569.196105882353},{"$f":"AVERAGE(C234,F234,I234,L234,O234,R234,U234,X234,AA234,AD234,AG234,AJ234,AM234,AP234,AS234,AV234,AY234)","v":7.15523766758612},{"$f":"STDEV(B234,E234,H234,K234,N234,Q234,T234,W234,Z234,AC234,AF234,AI234,AL234,AO234,AR234,AU234,AX234)","v":71.8003753680863},{"$f":"STDEV(C234,F234,I234,L234,O234,R234,U234,X234,AA234,AD234,AG234,AJ234,AM234,AP234,AS234,AV234,AY234)","v":2.08097194595282}]
[275,526.9415,8.70152671755725,275,586.1896,6.74503816793893,275,638.4016,5.4824427480916,275,635.986,5.68375136314068,275,659.3747,4.82857142857143,275,437.3143,12.028026172301,275,543.5593,8.00577971646674,275,665.8056,4.91046892039259,275,607.7348,6.37262813522356,275,592.8749,6.12824427480916,275,633.3213,4.81254089422028,275,504.7453,9.94416575790622,275,500.2907,9.31406761177754,275,455.491,10.0907306434024,275,643.5118,5.26826608505998,275,594.3943,6.03086150490731,275,531.9034,8.45605234460196,null,{"$f":"AW235","v":275},{"$f":"AVERAGE(B235,E235,H235,K235,N235,Q235,T235,W235,Z235,AC235,AF235,AI235,AL235,AO235,AR235,AU235,AX235)","v":573.990594117647},{"$f":"AVERAGE(C235,F235,I235,L235,O235,R235,U235,X235,AA235,AD235,AG235,AJ235,AM235,AP235,AS235,AV235,AY235)","v":7.22371544037462},{"$f":"STDEV(B235,E235,H235,K235,N235,Q235,T235,W235,Z235,AC235,AF235,AI235,AL235,AO235,AR235,AU235,AX235)","v":71.5832365829325},{"$f":"STDEV(C235,F235,I235,L235,O235,R235,U235,X235,AA235,AD235,AG235,AJ235,AM235,AP235,AS235,AV235,AY235)","v":2.1950389105495}]
[276.25,527.3769,8.64830970556161,276.25,584.3052,6.76008724100327,276.25,638.8891,5.47600872410033,276.25,626.7459,5.73391494002181,276.25,650.8824,4.9608505997819,276.25,439.1402,12.2467829880044,276.25,541.8472,7.91286804798255,276.25,663.1576,4.88331515812432,276.25,580.4357,6.40883315158124,276.25,588.4089,6.21603053435114,276.25,644.4963,4.78538713195202,276.25,491.2431,9.89738276990185,276.25,500.2771,9.30425299890949,276.25,465.2546,10.3619411123228,276.25,649.0428,5.17600872410033,276.25,606.1306,6.08418756815703,276.25,509.714,8.10839694656488,null,{"$f":"AW236","v":276.25},{"$f":"AVERAGE(B236,E236,H236,K236,N236,Q236,T236,W236,Z236,AC236,AF236,AI236,AL236,AO236,AR236,AU236,AX236)","v":571.020447058824},{"$f":"AVERAGE(C236,F236,I236,L236,O236,R236,U236,X236,AA236,AD236,AG236,AJ236,AM236,AP236,AS236,AV236,AY236)","v":7.23320931426006},{"$f":"STDEV(B236,E236,H236,K236,N236,Q236,T236,W236,Z236,AC236,AF236,AI236,AL236,AO236,AR236,AU236,AX236)","v":71.7318122266205},{"$f":"STDEV(C236,F236,I236,L236,O236,R236,U236,X236,AA236,AD236,AG236,AJ236,AM236,AP236,AS236,AV236,AY236)","v":2.22269305128541}]
[277.5,520.7905,8.27600872410033,277.5,583.2263,6.7298800436205,277.5,644.0909,5.45147219193021,277.5,600.2095,5.88091603053435,277.5,669.3814,4.85866957470011,277.5,433.4733,12.0026172300981,277.5,547.8136,7.7742639040349,277.5,662.3112,4.86553980370774,277.5,537.9033,7.05812431842966,277.5,600.9106,6.19454743729553,277.5,652.988,4.81374045801527,277.5,483.6,10.1472191930207,277.5,504.4313,9.38026172300981,277.5,463.6389,10.3784078516903,277.5,644.9446,5.07655398037077,277.5,609.059,6.01766630316249,277.5,435.7842,7.4567066521265,null,{"$f":"AW237","v":277.5},{"$f":"AVERAGE(B237,E237,H237,K237,N237,Q237,T237,W237,Z237,AC237,AF237,AI237,AL237,AO237,AR237,AU237,AX237)","v":564.385682352941},{"$f":"AVERAGE(C237,F237,I237,L237,O237,R237,U237,X237,AA237,AD237,AG237,AJ237,AM237,AP237,AS237,AV237,AY237)","v":7.19779973057925},{"$f":"STDEV(B237,E237,H237,K237,N237,Q237,T237,W237,Z237,AC237,AF237,AI237,AL237,AO237,AR237,AU237,AX237)","v":80.272302656055},{"$f":"STDEV(C237,F237,I237,L237,O237,R237,U237,X237,AA237,AD237,AG237,AJ237,AM237,AP237,AS237,AV237,AY237)","v":2.19007066360727}]
[278.75,532.3926,7.88615049073064,278.75,602.3242,6.52835332606325,278.75,637.1287,5.54547437295529,278.75,592.984,6.05027262813522,278.75,664.2708,4.80141766630316,278.75,428.2915,11.859760087241,278.75,560.5061,7.74056706652126,278.75,663.8727,4.86008724100327,278.75,566.872,7.72311886586696,278.75,611.8714,6.00163576881134,278.75,618.1683,4.98015267175572,278.75,473.5667,10.1801526717557,278.75,499.3755,9.28004362050164,278.75,461.7699,10.5006543075245,278.75,658.0889,4.91537622682661,278.75,599.0902,5.87241003271538,278.75,466.0756,8.29312977099237,null,{"$f":"AW238","v":278.75},{"$f":"AVERAGE(B238,E238,H238,K238,N238,Q238,T238,W238,Z238,AC238,AF238,AI238,AL238,AO238,AR238,AU238,AX238)","v":566.861711764706},{"$f":"AVERAGE(C238,F238,I238,L238,O238,R238,U238,X238,AA238,AD238,AG238,AJ238,AM238,AP238,AS238,AV238,AY238)","v":7.23639745974726},{"$f":"STDEV(B238,E238,H238,K238,N238,Q238,T238,W238,Z238,AC238,AF238,AI238,AL238,AO238,AR238,AU238,AX238)","v":76.9281652347978},{"$f":"STDEV(C238,F238,I238,L238,O238,R238,U238,X238,AA238,AD238,AG238,AJ238,AM238,AP238,AS238,AV238,AY238)","v":2.19529725520241}]
[280,543.3733,7.66684841875682,280,606.9429,6.45550708833152,280,635.1397,5.55747001090513,280,616.8585,6.05278080697928,280,652.6162,4.93642311886587,280,430.1764,12.1622682660851,280,560.7397,7.56139585605234,280,655.8261,4.79770992366412,280,543.0788,7.86641221374046,280,619.4194,5.82410032715376,280,628.0101,4.82846237731734,280,487.9329,10.5870229007634,280,502.2905,9.42748091603053,280,465.8791,10.7808069792803,280,666.5513,4.86346782988004,280,622.6614,5.46761177753544,280,489.4452,8.87666303162486,null,{"$f":"AW239","v":280},{"$f":"AVERAGE(B239,E239,H239,K239,N239,Q239,T239,W239,Z239,AC239,AF239,AI239,AL239,AO239,AR239,AU239,AX239)","v":572.173029411765},{"$f":"AVERAGE(C239,F239,I239,L239,O239,R239,U239,X239,AA239,AD239,AG239,AJ239,AM239,AP239,AS239,AV239,AY239)","v":7.27720187311566},{"$f":"STDEV(B239,E239,H239,K239,N239,Q239,T239,W239,Z239,AC239,AF239,AI239,AL239,AO239,AR239,AU239,AX239)","v":74.8071399935759},{"$f":"STDEV(C239,F239,I239,L239,O239,R239,U239,X239,AA239,AD239,AG239,AJ239,AM239,AP239,AS239,AV239,AY239)","v":2.35615315569556}]
[281.25,551.8377,7.27546346782988,281.25,576.8379,6.22758996728462,281.25,641.03,5.41374045801527,281.25,608.4676,6.02464558342421,281.25,659.3505,5.03729552889858,281.25,430.0431,11.8403489640131,281.25,549.7217,7.23326063249727,281.25,680.6134,4.48854961832061,281.25,547.7235,8.21810250817884,281.25,630.2991,5.62137404580153,281.25,639.9784,4.72868047982552,281.25,491.2391,10.2391494002181,281.25,503.5388,9.4784078516903,281.25,468.3563,10.8418756815703,281.25,673.1424,4.81450381679389,281.25,646.2194,5.23227917121047,281.25,460.0967,8.21483097055616,null,{"$f":"AW240","v":281.25},{"$f":"AVERAGE(B240,E240,H240,K240,N240,Q240,T240,W240,Z240,AC240,AF240,AI240,AL240,AO240,AR240,AU240,AX240)","v":574.029152941176},{"$f":"AVERAGE(C240,F240,I240,L240,O240,R240,U240,X240,AA240,AD240,AG240,AJ240,AM240,AP240,AS240,AV240,AY240)","v":7.11353518506639},{"$f":"STDEV(B240,E240,H240,K240,N240,Q240,T240,W240,Z240,AC240,AF240,AI240,AL240,AO240,AR240,AU240,AX240)","v":81.1446019870324},{"$f":"STDEV(C240,F240,I240,L240,O240,R240,U240,X240,AA240,AD240,AG240,AJ240,AM240,AP240,AS240,AV240,AY240)","v":2.33021998472819}]
[282.5,564.3879,7.0618320610687,282.5,597.2632,5.64940021810251,282.5,644.668,5.32660850599782,282.5,600.9285,6.09520174482006,282.5,647.6041,5.21657579062159,282.5,438.5768,11.7627044711014,282.5,563.0761,6.78331515812432,282.5,679.4097,4.42464558342421,282.5,556.025,8.3092693565976,282.5,636.8551,5.49520174482007,282.5,641.4912,4.72290076335878,282.5,497.001,9.72115594329335,282.5,502.301,9.4576881134133,282.5,472.9028,10.8837513631407,282.5,670.7939,4.83893129770992,282.5,636.6395,5.14852780806979,282.5,448.6893,7.72726281352236,null,{"$f":"AW241","v":282.5},{"$f":"AVERAGE(B241,E241,H241,K241,N241,Q241,T241,W241,Z241,AC241,AF241,AI241,AL241,AO241,AR241,AU241,AX241)","v":576.389005882353},{"$f":"AVERAGE(C241,F241,I241,L241,O241,R241,U241,X241,AA241,AD241,AG241,AJ241,AM241,AP241,AS241,AV241,AY241)","v":6.97793957277568},{"$f":"STDEV(B241,E241,H241,K241,N241,Q241,T241,W241,Z241,AC241,AF241,AI241,AL241,AO241,AR241,AU241,AX241)","v":79.1982866539301},{"$f":"STDEV(C241,F241,I241,L241,O241,R241,U241,X241,AA241,AD241,AG241,AJ241,AM241,AP241,AS241,AV241,AY241)","v":2.29539260985727}]
[283.75,567.0989,7.10272628135224,283.75,627.6351,5.18571428571429,283.75,645.2932,5.29367502726281,283.75,611.1939,6.10458015267176,283.75,637.3945,5.45954198473283,283.75,444.5484,11.9991275899673,283.75,584.1194,6.3803707742639,283.75,683.103,4.32595419847328,283.75,555.0178,8.03675027262814,283.75,633.8961,5.51733914940022,283.75,643.668,4.67230098146129,283.75,510.1259,9.4629225736096,283.75,502.629,9.46215921483097,283.75,471.7696,10.7384950926936,283.75,665.1713,4.86815703380589,283.75,628.5186,4.93587786259542,283.75,507.0702,8.41101417666303,null,{"$f":"AW242","v":283.75},{"$f":"AVERAGE(B242,E242,H242,K242,N242,Q242,T242,W242,Z242,AC242,AF242,AI242,AL242,AO242,AR242,AU242,AX242)","v":583.426641176471},{"$f":"AVERAGE(C242,F242,I242,L242,O242,R242,U242,X242,AA242,AD242,AG242,AJ242,AM242,AP242,AS242,AV242,AY242)","v":6.93862980306627},{"$f":"STDEV(B242,E242,H242,K242,N242,Q242,T242,W242,Z242,AC242,AF242,AI242,AL242,AO242,AR242,AU242,AX242)","v":72.8236779311686},{"$f":"STDEV(C242,F242,I242,L242,O242,R242,U242,X242,AA242,AD242,AG242,AJ242,AM242,AP242,AS242,AV242,AY242)","v":2.33776632931641}]
[285,552.3171,7.35834242093784,285,639.9773,4.86150490730643,285,654.2881,5.22464558342421,285,608.9882,5.96030534351145,285,644.7941,5.52224645583424,285,442.8291,11.8406761177754,285,606.1193,6.31570338058888,285,680.7687,4.37480916030534,285,542.4951,7.3690294438386,285,625.7346,5.56924754634678,285,655.798,4.5154852780807,285,498.857,8.65190839694657,285,501.9189,9.43173391494002,285,468.7324,10.6716466739368,285,650.1553,4.89323882224646,285,641.6392,4.55910577971647,285,501.7815,8.240239912759,null,{"$f":"AW243","v":285},{"$f":"AVERAGE(B243,E243,H243,K243,N243,Q243,T243,W243,Z243,AC243,AF243,AI243,AL243,AO243,AR243,AU243,AX243)","v":583.364347058824},{"$f":"AVERAGE(C243,F243,I243,L243,O243,R243,U243,X243,AA243,AD243,AG243,AJ243,AM243,AP243,AS243,AV243,AY243)","v":6.7858746552056},{"$f":"STDEV(B243,E243,H243,K243,N243,Q243,T243,W243,Z243,AC243,AF243,AI243,AL243,AO243,AR243,AU243,AX243)","v":76.4547002525116},{"$f":"STDEV(C243,F243,I243,L243,O243,R243,U243,X243,AA243,AD243,AG243,AJ243,AM243,AP243,AS243,AV243,AY243)","v":2.28506750007976}]
[286.25,555.9567,7.57131952017448,286.25,665.6783,4.51886586695747,286.25,652.9338,5.21417666303162,286.25,612.9398,5.86150490730643,286.25,642.4092,5.42290076335878,286.25,442.5603,11.641439476554,286.25,610.0658,6.37295528898582,286.25,694.9509,4.29018538713195,286.25,568.1342,6.97033805888768,286.25,631.3042,5.50021810250818,286.25,658.6875,4.4567066521265,286.25,521.8494,8.10054525627045,286.25,503.9886,9.52737186477644,286.25,472.1327,10.9701199563795,286.25,652.1002,4.81984732824427,286.25,675.3108,4.04503816793893,286.25,464.5842,7.80229007633588,null,{"$f":"AW244","v":286.25},{"$f":"AVERAGE(B244,E244,H244,K244,N244,Q244,T244,W244,Z244,AC244,AF244,AI244,AL244,AO244,AR244,AU244,AX244)","v":589.740388235294},{"$f":"AVERAGE(C244,F244,I244,L244,O244,R244,U244,X244,AA244,AD244,AG244,AJ244,AM244,AP244,AS244,AV244,AY244)","v":6.65210725511579},{"$f":"STDEV(B244,E244,H244,K244,N244,Q244,T244,W244,Z244,AC244,AF244,AI244,AL244,AO244,AR244,AU244,AX244)","v":81.7676582887214},{"$f":"STDEV(C244,F244,I244,L244,O244,R244,U244,X244,AA244,AD244,AG244,AJ244,AM244,AP244,AS244,AV244,AY244)","v":2.33029657689311}]
[287.5,549.114,7.62726281352236,287.5,681.1567,4.34187568157034,287.5,649.0655,5.15616139585605,287.5,624.3007,5.70916030534351,287.5,654.685,5.23282442748092,287.5,445.5497,11.5595419847328,287.5,606.1655,6.39661941112323,287.5,692.139,4.31483097055616,287.5,592.4863,7.11221374045802,287.5,623.6312,5.46663031624864,287.5,646.9355,4.513413304253,287.5,537.8909,7.57382769901854,287.5,506.6626,9.64002181025082,287.5,468.5564,10.8312977099237,287.5,663.5486,4.72562704471101,287.5,680.3654,3.83685932388222,287.5,473.8567,8.16881134133043,null,{"$f":"AW245","v":287.5},{"$f":"AVERAGE(B245,E245,H245,K245,N245,Q245,T245,W245,Z245,AC245,AF245,AI245,AL245,AO245,AR245,AU245,AX245)","v":593.888805882353},{"$f":"AVERAGE(C245,F245,I245,L245,O245,R245,U245,X245,AA245,AD245,AG245,AJ245,AM245,AP245,AS245,AV245,AY245)","v":6.60041054589775},{"$f":"STDEV(B245,E245,H245,K245,N245,Q245,T245,W245,Z245,AC245,AF245,AI245,AL245,AO245,AR245,AU245,AX245)","v":81.3885805778556},{"$f":"STDEV(C245,F245,I245,L245,O245,R245,U245,X245,AA245,AD245,AG245,AJ245,AM245,AP245,AS245,AV245,AY245)","v":2.35008404282327}]
[288.75,535.7216,7.51919302071974,288.75,688.2947,4.24580152671756,288.75,664.5479,4.95921483097056,288.75,628.3907,5.65965103598691,288.75,653.9459,5.16368593238822,288.75,451.2644,11.4263904034896,288.75,591.519,6.37371864776445,288.75,688.8619,4.31101417666303,288.75,575.7425,7.20261723009815,288.75,615.0048,5.50425299890949,288.75,646.6759,4.50610687022901,288.75,559.4425,7.02857142857143,288.75,507.8072,9.71450381679389,288.75,465.4971,10.4953107960742,288.75,653.6477,4.84351145038168,288.75,699.0365,3.5278080697928,288.75,504.1452,8.85997818974918,null,{"$f":"AW246","v":288.75},{"$f":"AVERAGE(B246,E246,H246,K246,N246,Q246,T246,W246,Z246,AC246,AF246,AI246,AL246,AO246,AR246,AU246,AX246)","v":595.855617647059},{"$f":"AVERAGE(C246,F246,I246,L246,O246,R246,U246,X246,AA246,AD246,AG246,AJ246,AM246,AP246,AS246,AV246,AY246)","v":6.54949002501764},{"$f":"STDEV(B246,E246,H246,K246,N246,Q246,T246,W246,Z246,AC246,AF246,AI246,AL246,AO246,AR246,AU246,AX246)","v":80.1214129708098},{"$f":"STDEV(C246,F246,I246,L246,O246,R246,U246,X246,AA246,AD246,AG246,AJ246,AM246,AP246,AS246,AV246,AY246)","v":2.36120330355372}]
[290,553.4323,7.47720828789531,290,678.1386,4.32562704471101,290,653.1993,5.04940021810251,290,624.9323,5.67797164667394,290,650.0376,5.16837513631407,290,454.8759,11.5668484187568,290,515.1119,6.10610687022901,290,696.2877,4.21581243184297,290,554.6588,7.37589967284624,290,625.4712,5.38342420937841,290,664.3198,4.3618320610687,290,582.3439,6.56226826608506,290,508.7773,9.76259541984733,290,474.0694,10.7611777535442,290,658.0355,4.83598691384951,290,720.5471,3.27568157033806,290,509.5521,9.03751363140676,null,{"$f":"AW247","v":290},{"$f":"AVERAGE(B247,E247,H247,K247,N247,Q247,T247,W247,Z247,AC247,AF247,AI247,AL247,AO247,AR247,AU247,AX247)","v":595.5171},{"$f":"AVERAGE(C247,F247,I247,L247,O247,R247,U247,X247,AA247,AD247,AG247,AJ247,AM247,AP247,AS247,AV247,AY247)","v":6.52610173840529},{"$f":"STDEV(B247,E247,H247,K247,N247,Q247,T247,W247,Z247,AC247,AF247,AI247,AL247,AO247,AR247,AU247,AX247)","v":82.4774354082603},{"$f":"STDEV(C247,F247,I247,L247,O247,R247,U247,X247,AA247,AD247,AG247,AJ247,AM247,AP247,AS247,AV247,AY247)","v":2.45288038051216}]
[291.25,566.6314,7.50458015267176,291.25,666.2874,4.49018538713195,291.25,634.913,5.30021810250818,291.25,619.1502,5.76510359869138,291.25,642.9983,5.28647764449291,291.25,451.5669,11.2948745910578,291.25,579.0567,5.44242093784079,291.25,691.8065,4.27360959651036,291.25,538.019,7.70883315158124,291.25,632.4984,5.33664122137405,291.25,669.2134,4.28527808069793,291.25,588.0637,6.49214830970556,291.25,507.8853,9.70021810250818,291.25,472.0436,10.6186477644493,291.25,664.329,4.76030534351145,291.25,731.3015,3.14438386041439,291.25,507.8732,8.90937840785169,null,{"$f":"AW248","v":291.25},{"$f":"AVERAGE(B248,E248,H248,K248,N248,Q248,T248,W248,Z248,AC248,AF248,AI248,AL248,AO248,AR248,AU248,AX248)","v":597.861029411765},{"$f":"AVERAGE(C248,F248,I248,L248,O248,R248,U248,X248,AA248,AD248,AG248,AJ248,AM248,AP248,AS248,AV248,AY248)","v":6.48901789723523},{"$f":"STDEV(B248,E248,H248,K248,N248,Q248,T248,W248,Z248,AC248,AF248,AI248,AL248,AO248,AR248,AU248,AX248)","v":80.7457493272615},{"$f":"STDEV(C248,F248,I248,L248,O248,R248,U248,X248,AA248,AD248,AG248,AJ248,AM248,AP248,AS248,AV248,AY248)","v":2.40547519326841}]
[292.5,571.5402,7.3907306434024,292.5,672.5233,4.51581243184297,292.5,640.4607,5.39203925845147,292.5,618.3752,5.92279171210469,292.5,632.8007,5.44940021810251,292.5,446.2927,10.8875681570338,292.5,549.3961,5.34645583424209,292.5,686.0056,4.33685932388222,292.5,551.89,8.25943293347873,292.5,632.2347,5.40196292257361,292.5,679.3529,4.14133042529989,292.5,558.9345,6.91603053435115,292.5,511.9532,9.82006543075245,292.5,473.029,10.7404580152672,292.5,671.6431,4.7113413304253,292.5,754.5911,2.88647764449291,292.5,518.1829,8.99563794983642,null,{"$f":"AW249","v":292.5},{"$f":"AVERAGE(B249,E249,H249,K249,N249,Q249,T249,W249,Z249,AC249,AF249,AI249,AL249,AO249,AR249,AU249,AX249)","v":598.188582352941},{"$f":"AVERAGE(C249,F249,I249,L249,O249,R249,U249,X249,AA249,AD249,AG249,AJ249,AM249,AP249,AS249,AV249,AY249)","v":6.53614086856117},{"$f":"STDEV(B249,E249,H249,K249,N249,Q249,T249,W249,Z249,AC249,AF249,AI249,AL249,AO249,AR249,AU249,AX249)","v":84.2555718097714},{"$f":"STDEV(C249,F249,I249,L249,O249,R249,U249,X249,AA249,AD249,AG249,AJ249,AM249,AP249,AS249,AV249,AY249)","v":2.42590657419263}]
[293.75,565.4635,7.29498364231189,293.75,655.309,4.74274809160305,293.75,640.2977,5.41570338058888,293.75,610.8239,6.05856052344602,293.75,568.9609,5.91832061068702,293.75,450.8906,10.8107960741549,293.75,460.5722,6.05354416575791,293.75,682.7568,4.35921483097056,293.75,555.2265,8.40218102508179,293.75,647.8138,5.286586695747,293.75,658.91,4.29869138495093,293.75,544.6777,7.39563794983642,293.75,506.3129,9.66739367502726,293.75,476.3422,10.9022900763359,293.75,666.9193,4.78386041439477,293.75,754.5132,2.87993456924755,293.75,526.9937,9.08909487459106,null,{"$f":"AW250","v":293.75},{"$f":"AVERAGE(B250,E250,H250,K250,N250,Q250,T250,W250,Z250,AC250,AF250,AI250,AL250,AO250,AR250,AU250,AX250)","v":586.634347058824},{"$f":"AVERAGE(C250,F250,I250,L250,O250,R250,U250,X250,AA250,AD250,AG250,AJ250,AM250,AP250,AS250,AV250,AY250)","v":6.66820835204311},{"$f":"STDEV(B250,E250,H250,K250,N250,Q250,T250,W250,Z250,AC250,AF250,AI250,AL250,AO250,AR250,AU250,AX250)","v":86.9678819861111},{"$f":"STDEV(C250,F250,I250,L250,O250,R250,U250,X250,AA250,AD250,AG250,AJ250,AM250,AP250,AS250,AV250,AY250)","v":2.38769833177527}]
[295,552.8706,7.36870229007634,295,658.6775,4.88527808069793,295,640.8585,5.39607415485278,295,598.8152,6.27153762268266,295,588.5607,6.33642311886587,295,464.6331,11.2008724100327,295,547.9923,6.38135223555071,295,683.9372,4.38200654307525,295,545.9349,8.20348964013086,295,639.961,5.3319520174482,295,660.9785,4.29356597600872,295,525.0814,7.94307524536532,295,501.1639,9.53718647764449,295,475.9724,10.853653217012,295,662.1772,4.85997818974918,295,758.5882,2.80741548527808,295,524.4665,9.04482006543075,null,{"$f":"AW251","v":295},{"$f":"AVERAGE(B251,E251,H251,K251,N251,Q251,T251,W251,Z251,AC251,AF251,AI251,AL251,AO251,AR251,AU251,AX251)","v":590.039358823529},{"$f":"AVERAGE(C251,F251,I251,L251,O251,R251,U251,X251,AA251,AD251,AG251,AJ251,AM251,AP251,AS251,AV251,AY251)","v":6.77043428058246},{"$f":"STDEV(B251,E251,H251,K251,N251,Q251,T251,W251,Z251,AC251,AF251,AI251,AL251,AO251,AR251,AU251,AX251)","v":81.997620874656},{"$f":"STDEV(C251,F251,I251,L251,O251,R251,U251,X251,AA251,AD251,AG251,AJ251,AM251,AP251,AS251,AV251,AY251)","v":2.40066722242797}]
[296.25,555.1202,7.49083969465649,296.25,664.1976,4.93336968375136,296.25,619.7485,5.49443838604144,296.25,598.6286,6.40752453653217,296.25,558.6854,6.72257360959651,296.25,450.7244,10.7374045801527,296.25,506.8738,7.0990185387132,296.25,687.3328,4.37448200654308,296.25,546.1701,7.98756815703381,296.25,633.7515,5.45059978189749,296.25,666.7119,4.25583424209378,296.25,538.5409,8.63206106870229,296.25,507.9448,9.77001090512541,296.25,471.3473,10.6236641221374,296.25,656.765,4.90141766630316,296.25,752.1157,2.89618320610687,296.25,526.6724,9.19716466739367,null,{"$f":"AW252","v":296.25},{"$f":"AVERAGE(B252,E252,H252,K252,N252,Q252,T252,W252,Z252,AC252,AF252,AI252,AL252,AO252,AR252,AU252,AX252)","v":584.784170588235},{"$f":"AVERAGE(C252,F252,I252,L252,O252,R252,U252,X252,AA252,AD252,AG252,AJ252,AM252,AP252,AS252,AV252,AY252)","v":6.88083263839887},{"$f":"STDEV(B252,E252,H252,K252,N252,Q252,T252,W252,Z252,AC252,AF252,AI252,AL252,AO252,AR252,AU252,AX252)","v":83.6322834097931},{"$f":"STDEV(C252,F252,I252,L252,O252,R252,U252,X252,AA252,AD252,AG252,AJ252,AM252,AP252,AS252,AV252,AY252)","v":2.34898004845429}]
[297.5,359.9974,6.37142857142857,297.5,661.1738,4.92159214830971,297.5,620.2429,5.54089422028353,297.5,598.2664,6.46357688113413,297.5,571.6309,7.00654307524537,297.5,450.5052,10.5033805888768,297.5,495.1669,7.7721919302072,297.5,683.0005,4.37818974918212,297.5,544.1713,7.47786259541985,297.5,619.036,5.63336968375136,297.5,668.5304,4.25245365321701,297.5,521.5844,8.64133042529989,297.5,507.8929,9.77982551799346,297.5,472.8241,10.626826608506,297.5,653.1771,4.89454743729553,297.5,755.064,2.90032715376227,297.5,528.9112,9.33904034896401,null,{"$f":"AW253","v":297.5},{"$f":"AVERAGE(B253,E253,H253,K253,N253,Q253,T253,W253,Z253,AC253,AF253,AI253,AL253,AO253,AR253,AU253,AX253)","v":571.245611764706},{"$f":"AVERAGE(C253,F253,I253,L253,O253,R253,U253,X253,AA253,AD253,AG253,AJ253,AM253,AP253,AS253,AV253,AY253)","v":6.85314003463981},{"$f":"STDEV(B253,E253,H253,K253,N253,Q253,T253,W253,Z253,AC253,AF253,AI253,AL253,AO253,AR253,AU253,AX253)","v":99.8878436100953},{"$f":"STDEV(C253,F253,I253,L253,O253,R253,U253,X253,AA253,AD253,AG253,AJ253,AM253,AP253,AS253,AV253,AY253)","v":2.32433486984676}]
[298.75,507.8039,5.56543075245365,298.75,660.5171,4.76368593238822,298.75,636.3068,5.44885496183206,298.75,596.8026,6.41657579062159,298.75,576.8766,7.13238822246456,298.75,462.3137,11.1200654307525,298.75,501.305,8.359760087241,298.75,686.9859,4.26205016357688,298.75,563.0868,6.88833151581243,298.75,623.8276,5.61712104689204,298.75,662.3989,4.29247546346783,298.75,506.5898,9.03533260632497,298.75,503.5219,9.65190839694656,298.75,476.2737,10.6844056706652,298.75,658.9687,4.86117775354417,298.75,727.4142,3.22519083969466,298.75,531.186,9.41504907306434,null,{"$f":"AW254","v":298.75},{"$f":"AVERAGE(B254,E254,H254,K254,N254,Q254,T254,W254,Z254,AC254,AF254,AI254,AL254,AO254,AR254,AU254,AX254)","v":581.304658823529},{"$f":"AVERAGE(C254,F254,I254,L254,O254,R254,U254,X254,AA254,AD254,AG254,AJ254,AM254,AP254,AS254,AV254,AY254)","v":6.86704727692604},{"$f":"STDEV(B254,E254,H254,K254,N254,Q254,T254,W254,Z254,AC254,AF254,AI254,AL254,AO254,AR254,AU254,AX254)","v":82.1436388211913},{"$f":"STDEV(C254,F254,I254,L254,O254,R254,U254,X254,AA254,AD254,AG254,AJ254,AM254,AP254,AS254,AV254,AY254)","v":2.43033652141193}]
[300,571.4944,4.94907306434024,300,663.3737,4.67589967284624,300,642.8947,5.3793893129771,300,607.9044,6.26532170119956,300,576.7149,7.3051254089422,300,458.16,10.9884405670665,300,510.8904,8.62562704471101,300,701.0912,4.07502726281352,300,575.3353,6.16401308615049,300,643.6441,5.38647764449291,300,669.093,4.25278080697928,300,495.3391,9.35441657579062,300,507.5252,9.8319520174482,300,481.8957,10.8179934569248,300,657.9049,4.88789531079607,300,727.3581,3.23762268266085,300,526.4551,9.23456924754635,null,{"$f":"AW255","v":300},{"$f":"AVERAGE(B255,E255,H255,K255,N255,Q255,T255,W255,Z255,AC255,AF255,AI255,AL255,AO255,AR255,AU255,AX255)","v":589.239658823529},{"$f":"AVERAGE(C255,F255,I255,L255,O255,R255,U255,X255,AA255,AD255,AG255,AJ255,AM255,AP255,AS255,AV255,AY255)","v":6.79009558021682},{"$f":"STDEV(B255,E255,H255,K255,N255,Q255,T255,W255,Z255,AC255,AF255,AI255,AL255,AO255,AR255,AU255,AX255)","v":82.653890615476},{"$f":"STDEV(C255,F255,I255,L255,O255,R255,U255,X255,AA255,AD255,AG255,AJ255,AM255,AP255,AS255,AV255,AY255)","v":2.52268904262348}]
[301.25,583.1408,4.87153762268266,301.25,668.8549,4.66663031624864,301.25,648.3374,5.30741548527808,301.25,612.691,6.17284623773173,301.25,550.9047,7.42715376226827,301.25,464.5491,10.8071973827699,301.25,512.6808,8.65092693565976,301.25,689.8898,4.2,301.25,617.2608,5.81319520174482,301.25,637.2497,5.29203925845147,301.25,674.2988,4.2288985823337,301.25,502.5648,10.0333696837514,301.25,508.6043,9.88004362050164,301.25,481.2426,10.7114503816794,301.25,656.7125,4.91733914940022,301.25,733.9918,3.20196292257361,301.25,528.9959,9.15856052344602,null,{"$f":"AW256","v":301.25},{"$f":"AVERAGE(B256,E256,H256,K256,N256,Q256,T256,W256,Z256,AC256,AF256,AI256,AL256,AO256,AR256,AU256,AX256)","v":592.468805882353},{"$f":"AVERAGE(C256,F256,I256,L256,O256,R256,U256,X256,AA256,AD256,AG256,AJ256,AM256,AP256,AS256,AV256,AY256)","v":6.78473923920713},{"$f":"STDEV(B256,E256,H256,K256,N256,Q256,T256,W256,Z256,AC256,AF256,AI256,AL256,AO256,AR256,AU256,AX256)","v":82.3059383498957},{"$f":"STDEV(C256,F256,I256,L256,O256,R256,U256,X256,AA256,AD256,AG256,AJ256,AM256,AP256,AS256,AV256,AY256)","v":2.55778789130441}]
[302.5,558.1958,5.35921483097056,302.5,665.7051,4.74340239912759,302.5,642.1145,5.27644492911668,302.5,601.58,6.2639040348964,302.5,547.2445,7.72639040348964,302.5,470.6219,10.8316248636859,302.5,516.488,8.7474372955289,302.5,672.0304,4.34002181025082,302.5,617.9546,5.93326063249727,302.5,651.7994,5.14667393675027,302.5,667.4584,4.31090512540894,302.5,506.4492,10.2534351145038,302.5,506.4191,9.79541984732824,302.5,484.1788,10.8803707742639,302.5,669.8494,4.88625954198473,302.5,722.8037,3.35899672846238,302.5,530.1857,9.17993456924754,null,{"$f":"AW257","v":302.5},{"$f":"AVERAGE(B257,E257,H257,K257,N257,Q257,T257,W257,Z257,AC257,AF257,AI257,AL257,AO257,AR257,AU257,AX257)","v":590.063441176471},{"$f":"AVERAGE(C257,F257,I257,L257,O257,R257,U257,X257,AA257,AD257,AG257,AJ257,AM257,AP257,AS257,AV257,AY257)","v":6.88433510808904},{"$f":"STDEV(B257,E257,H257,K257,N257,Q257,T257,W257,Z257,AC257,AF257,AI257,AL257,AO257,AR257,AU257,AX257)","v":79.5143230517784},{"$f":"STDEV(C257,F257,I257,L257,O257,R257,U257,X257,AA257,AD257,AG257,AJ257,AM257,AP257,AS257,AV257,AY257)","v":2.55128470584438}]
[303.75,643.4419,5.12410032715376,303.75,654.62,4.8856052344602,303.75,638.2365,5.31123227917121,303.75,612.1149,6.36935659760087,303.75,543.5355,7.63336968375136,303.75,471.1787,10.7886586695747,303.75,521.5449,8.60261723009815,303.75,691.2655,4.05125408942203,303.75,626.6671,5.92944383860414,303.75,658.9683,5.0876772082879,303.75,668.1698,4.27153762268266,303.75,508.9311,10.0802617230098,303.75,509.0939,9.86652126499455,303.75,480.3716,10.7833151581243,303.75,660.8752,5.04045801526718,303.75,710.8399,3.4824427480916,303.75,526.4872,9.20959651035987,null,{"$f":"AW258","v":303.75},{"$f":"AVERAGE(B258,E258,H258,K258,N258,Q258,T258,W258,Z258,AC258,AF258,AI258,AL258,AO258,AR258,AU258,AX258)","v":595.667176470588},{"$f":"AVERAGE(C258,F258,I258,L258,O258,R258,U258,X258,AA258,AD258,AG258,AJ258,AM258,AP258,AS258,AV258,AY258)","v":6.85396754121496},{"$f":"STDEV(B258,E258,H258,K258,N258,Q258,T258,W258,Z258,AC258,AF258,AI258,AL258,AO258,AR258,AU258,AX258)","v":79.6583709802957},{"$f":"STDEV(C258,F258,I258,L258,O258,R258,U258,X258,AA258,AD258,AG258,AJ258,AM258,AP258,AS258,AV258,AY258)","v":2.52805127222931}]
[305,646.9065,5.07818974918212,305,644.175,5.00436205016358,305,650.0154,5.25648854961832,305,611.5121,6.39040348964013,305,520.5,6.8803707742639,305,473.5154,10.8230098146129,305,519.8874,8.41504907306434,305,709.3858,3.84874591057797,305,627.5206,5.80229007633588,305,647.9581,5.17371864776445,305,663.9348,4.23075245365322,305,511.8662,10.0432933478735,305,511.0992,9.92868047982552,305,474.3851,10.5883315158124,305,656.1932,5.11723009814613,305,716.9192,3.47470010905125,305,526.2351,9.3082878953108,null,{"$f":"AW259","v":305},{"$f":"AVERAGE(B259,E259,H259,K259,N259,Q259,T259,W259,Z259,AC259,AF259,AI259,AL259,AO259,AR259,AU259,AX259)","v":594.824064705882},{"$f":"AVERAGE(C259,F259,I259,L259,O259,R259,U259,X259,AA259,AD259,AG259,AJ259,AM259,AP259,AS259,AV259,AY259)","v":6.78611200205273},{"$f":"STDEV(B259,E259,H259,K259,N259,Q259,T259,W259,Z259,AC259,AF259,AI259,AL259,AO259,AR259,AU259,AX259)","v":82.1189110400654},{"$f":"STDEV(C259,F259,I259,L259,O259,R259,U259,X259,AA259,AD259,AG259,AJ259,AM259,AP259,AS259,AV259,AY259)","v":2.5165248351964}]
[306.25,647.8801,5.146346782988,306.25,652.5557,4.98364231188659,306.25,647.7101,5.26782988004362,306.25,604.8938,6.37230098146129,306.25,566.4247,6.10632497273719,306.25,475.6986,10.8703380588877,306.25,516.9545,8.16935659760087,306.25,705.8061,3.87917121046892,306.25,633.5235,5.72922573609597,306.25,648.702,5.226826608506,306.25,663.125,4.2143947655398,306.25,512.638,9.96335877862595,306.25,506.5501,9.80556161395856,306.25,475.1884,10.6067611777535,306.25,650.1227,5.14863685932388,306.25,739.102,3.24089422028353,306.25,524.7036,9.30806979280262,null,{"$f":"AW260","v":306.25},{"$f":"AVERAGE(B260,E260,H260,K260,N260,Q260,T260,W260,Z260,AC260,AF260,AI260,AL260,AO260,AR260,AU260,AX260)","v":598.328170588236},{"$f":"AVERAGE(C260,F260,I260,L260,O260,R260,U260,X260,AA260,AD260,AG260,AJ260,AM260,AP260,AS260,AV260,AY260)","v":6.70817884405671},{"$f":"STDEV(B260,E260,H260,K260,N260,Q260,T260,W260,Z260,AC260,AF260,AI260,AL260,AO260,AR260,AU260,AX260)","v":82.5119427301418},{"$f":"STDEV(C260,F260,I260,L260,O260,R260,U260,X260,AA260,AD260,AG260,AJ260,AM260,AP260,AS260,AV260,AY260)","v":2.51742908118298}]
[307.5,656.0046,5.15179934569248,307.5,657.2692,4.99138495092694,307.5,640.5639,5.3453653217012,307.5,605.2269,6.37448200654308,307.5,578.5758,5.40774263904035,307.5,478.5515,10.911014176663,307.5,504.623,8.2340239912759,307.5,711.7379,3.83162486368593,307.5,622.8315,5.81483097055616,307.5,649.9328,5.21930207197383,307.5,667.3015,4.16314067611778,307.5,508.2205,9.36095965103599,307.5,504.4013,9.72431842966194,307.5,480.6665,10.7404580152672,307.5,646.8761,5.23184296619411,307.5,741.9068,3.1937840785169,307.5,527.5075,9.3196292257361,null,{"$f":"AW261","v":307.5},{"$f":"AVERAGE(B261,E261,H261,K261,N261,Q261,T261,W261,Z261,AC261,AF261,AI261,AL261,AO261,AR261,AU261,AX261)","v":598.952782352941},{"$f":"AVERAGE(C261,F261,I261,L261,O261,R261,U261,X261,AA261,AD261,AG261,AJ261,AM261,AP261,AS261,AV261,AY261)","v":6.64798255179934},{"$f":"STDEV(B261,E261,H261,K261,N261,Q261,T261,W261,Z261,AC261,AF261,AI261,AL261,AO261,AR261,AU261,AX261)","v":83.5906864827598},{"$f":"STDEV(C261,F261,I261,L261,O261,R261,U261,X261,AA261,AD261,AG261,AJ261,AM261,AP261,AS261,AV261,AY261)","v":2.50587199549972}]
[308.75,649.5161,5.23544165757906,308.75,657.7102,4.99607415485278,308.75,643.8561,5.27360959651036,308.75,602.5273,6.47339149400218,308.75,629.1687,4.58909487459106,308.75,478.0928,10.5236641221374,308.75,481.3439,8.57077426390404,308.75,710.3374,3.83565976008724,308.75,591.5153,6.20545256270447,308.75,633.607,5.35812431842966,308.75,676.0366,4.01046892039259,308.75,524.5088,9.25408942202835,308.75,509.1677,9.88702290076336,308.75,477.8915,10.5762268266085,308.75,639.9234,5.29356597600872,308.75,725.1287,3.39225736095965,308.75,526.7346,9.19029443838604,null,{"$f":"AW262","v":308.75},{"$f":"AVERAGE(B262,E262,H262,K262,N262,Q262,T262,W262,Z262,AC262,AF262,AI262,AL262,AO262,AR262,AU262,AX262)","v":597.474476470588},{"$f":"AVERAGE(C262,F262,I262,L262,O262,R262,U262,X262,AA262,AD262,AG262,AJ262,AM262,AP262,AS262,AV262,AY262)","v":6.62736544999679},{"$f":"STDEV(B262,E262,H262,K262,N262,Q262,T262,W262,Z262,AC262,AF262,AI262,AL262,AO262,AR262,AU262,AX262)","v":82.1702512556364},{"$f":"STDEV(C262,F262,I262,L262,O262,R262,U262,X262,AA262,AD262,AG262,AJ262,AM262,AP262,AS262,AV262,AY262)","v":2.47399358123875}]
[310,634.166,5.41057797164667,310,628.2931,5.16455834242094,310,649.0658,5.16139585605234,310,602.7509,6.54045801526718,310,701.182,3.68931297709924,310,476.2294,10.0613958560523,310,475.0394,8.48811341330425,310,705.7731,3.83031624863686,310,560.1197,6.53118865866958,310,628.1462,5.5907306434024,310,696.0776,3.76346782988004,310,521.8876,8.79083969465649,310,507.9925,9.87742639040349,310,479.4451,10.6741548527808,310,629.7639,5.43107960741548,310,719.023,3.51254089422028,310,524.3192,9.07720828789531,null,{"$f":"AW263","v":310},{"$f":"AVERAGE(B263,E263,H263,K263,N263,Q263,T263,W263,Z263,AC263,AF263,AI263,AL263,AO263,AR263,AU263,AX263)","v":596.427911764706},{"$f":"AVERAGE(C263,F263,I263,L263,O263,R263,U263,X263,AA263,AD263,AG263,AJ263,AM263,AP263,AS263,AV263,AY263)","v":6.56439797292963},{"$f":"STDEV(B263,E263,H263,K263,N263,Q263,T263,W263,Z263,AC263,AF263,AI263,AL263,AO263,AR263,AU263,AX263)","v":85.8850569341874},{"$f":"STDEV(C263,F263,I263,L263,O263,R263,U263,X263,AA263,AD263,AG263,AJ263,AM263,AP263,AS263,AV263,AY263)","v":2.44260275643732}]
[311.25,595.1871,5.69574700109051,311.25,630.6738,5.18440567066521,311.25,654.6999,5.16870229007634,311.25,595.8486,6.55910577971647,311.25,731.3001,3.2979280261723,311.25,478.942,10.0006543075245,311.25,493.0873,8.3092693565976,311.25,717.0941,3.69651035986914,311.25,554.9265,7.15485278080698,311.25,624.3285,5.77546346782988,311.25,696.3621,3.7814612868048,311.25,530.4369,8.10883315158124,311.25,507.2457,9.87033805888768,311.25,483.5734,10.8997818974918,311.25,645.1393,5.44220283533261,311.25,735.6502,3.34427480916031,311.25,522.1119,9.12540894220284,null,{"$f":"AW264","v":311.25},{"$f":"AVERAGE(B264,E264,H264,K264,N264,Q264,T264,W264,Z264,AC264,AF264,AI264,AL264,AO264,AR264,AU264,AX264)","v":599.800435294118},{"$f":"AVERAGE(C264,F264,I264,L264,O264,R264,U264,X264,AA264,AD264,AG264,AJ264,AM264,AP264,AS264,AV264,AY264)","v":6.55382000128295},{"$f":"STDEV(B264,E264,H264,K264,N264,Q264,T264,W264,Z264,AC264,AF264,AI264,AL264,AO264,AR264,AU264,AX264)","v":88.8891759462376},{"$f":"STDEV(C264,F264,I264,L264,O264,R264,U264,X264,AA264,AD264,AG264,AJ264,AM264,AP264,AS264,AV264,AY264)","v":2.46684542507536}]
[312.5,594.0115,5.94067611777535,312.5,662.7232,4.95550708833152,312.5,645.1273,5.27579062159215,312.5,585.2813,6.67568157033806,312.5,717.9704,3.4206106870229,312.5,484.0372,10.0432933478735,312.5,492.9851,8.49836423118866,312.5,689.6647,4.03369683751363,312.5,571.8636,7.2814612868048,312.5,616.8005,5.76957470010905,312.5,697.1559,3.83849509269357,312.5,556.595,7.99738276990185,312.5,511.2076,10.0070883315158,312.5,481.1296,10.8489640130861,312.5,634.8134,5.51515812431843,312.5,717.2077,3.4669574700109,312.5,528.3456,9.31941112322792,null,{"$f":"AW265","v":312.5},{"$f":"AVERAGE(B265,E265,H265,K265,N265,Q265,T265,W265,Z265,AC265,AF265,AI265,AL265,AO265,AR265,AU265,AX265)","v":599.230564705882},{"$f":"AVERAGE(C265,F265,I265,L265,O265,R265,U265,X265,AA265,AD265,AG265,AJ265,AM265,AP265,AS265,AV265,AY265)","v":6.64047725960613},{"$f":"STDEV(B265,E265,H265,K265,N265,Q265,T265,W265,Z265,AC265,AF265,AI265,AL265,AO265,AR265,AU265,AX265)","v":81.9927032192876},{"$f":"STDEV(C265,F265,I265,L265,O265,R265,U265,X265,AA265,AD265,AG265,AJ265,AM265,AP265,AS265,AV265,AY265)","v":2.44703287502257}]
[313.75,604.4086,6.0773173391494,313.75,657.6171,4.92311886586696,313.75,628.7811,5.51406761177754,313.75,585.4105,6.82213740458015,313.75,657.4851,4.03947655398037,313.75,489.7621,10.0077426390404,313.75,496.2379,8.61657579062159,313.75,696.3891,4.0412213740458,313.75,581.4424,7.04383860414395,313.75,630.4792,5.68233369683751,313.75,679.9764,3.99062159214831,313.75,563.44,7.93544165757906,313.75,510.0542,9.93565976008724,313.75,478.5567,10.782878953108,313.75,636.2047,5.56172300981461,313.75,623.0083,4.24591057797165,313.75,526.671,9.28407851690294,null,{"$f":"AW266","v":313.75},{"$f":"AVERAGE(B266,E266,H266,K266,N266,Q266,T266,W266,Z266,AC266,AF266,AI266,AL266,AO266,AR266,AU266,AX266)","v":590.936729411765},{"$f":"AVERAGE(C266,F266,I266,L266,O266,R266,U266,X266,AA266,AD266,AG266,AJ266,AM266,AP266,AS266,AV266,AY266)","v":6.73553787927385},{"$f":"STDEV(B266,E266,H266,K266,N266,Q266,T266,W266,Z266,AC266,AF266,AI266,AL266,AO266,AR266,AU266,AX266)","v":69.6242398636671},{"$f":"STDEV(C266,F266,I266,L266,O266,R266,U266,X266,AA266,AD266,AG266,AJ266,AM266,AP266,AS266,AV266,AY266)","v":2.30302571769449}]
[315,615.0489,6.10272628135223,315,646.8205,4.93260632497274,315,642.2243,5.53358778625954,315,586.0162,6.70545256270447,315,680.3062,4.00436205016358,315,489.4862,9.69312977099237,315,509.7838,8.52082878953108,315,694.1812,4.03555070883315,315,587.7073,6.74471101417666,315,618.8244,5.78484187568157,315,668.8155,4.07797164667394,315,558.6616,7.9803707742639,315,502.7261,9.68233369683751,315,477.8498,10.7113413304253,315,646.7284,5.48702290076336,315,629.6954,4.2937840785169,315,523.0576,9.14460196292257,null,{"$f":"AW267","v":315},{"$f":"AVERAGE(B267,E267,H267,K267,N267,Q267,T267,W267,Z267,AC267,AF267,AI267,AL267,AO267,AR267,AU267,AX267)","v":592.819611764706},{"$f":"AVERAGE(C267,F267,I267,L267,O267,R267,U267,X267,AA267,AD267,AG267,AJ267,AM267,AP267,AS267,AV267,AY267)","v":6.67266020912182},{"$f":"STDEV(B267,E267,H267,K267,N267,Q267,T267,W267,Z267,AC267,AF267,AI267,AL267,AO267,AR267,AU267,AX267)","v":70.4939310511806},{"$f":"STDEV(C267,F267,I267,L267,O267,R267,U267,X267,AA267,AD267,AG267,AJ267,AM267,AP267,AS267,AV267,AY267)","v":2.22267561398823}]
[316.25,619.2079,6.02769901853871,316.25,642.7592,4.9752453653217,316.25,640.379,5.43347873500545,316.25,598.7729,6.37960741548528,316.25,705.3809,3.83740458015267,316.25,498.5616,9.62977099236641,316.25,485.3732,7.64591057797165,316.25,672.6475,4.18942202835333,316.25,555.3909,6.59040348964013,316.25,613.0594,5.87720828789531,316.25,630.4012,4.39116684841876,316.25,536.5935,8.05234460196292,316.25,504.8157,9.78364231188659,316.25,479.8945,10.6857142857143,316.25,644.9574,5.40381679389313,316.25,508.6202,5.10479825517993,316.25,525.6331,9.15430752453653,null,{"$f":"AW268","v":316.25},{"$f":"AVERAGE(B268,E268,H268,K268,N268,Q268,T268,W268,Z268,AC268,AF268,AI268,AL268,AO268,AR268,AU268,AX268)","v":580.144005882353},{"$f":"AVERAGE(C268,F268,I268,L268,O268,R268,U268,X268,AA268,AD268,AG268,AJ268,AM268,AP268,AS268,AV268,AY268)","v":6.65658477131311},{"$f":"STDEV(B268,E268,H268,K268,N268,Q268,T268,W268,Z268,AC268,AF268,AI268,AL268,AO268,AR268,AU268,AX268)","v":72.211092294367},{"$f":"STDEV(C268,F268,I268,L268,O268,R268,U268,X268,AA268,AD268,AG268,AJ268,AM268,AP268,AS268,AV268,AY268)","v":2.12968466147369}]
[317.5,622.4282,5.88320610687023,317.5,653.8817,4.96728462377317,317.5,632.759,5.45496183206107,317.5,606.2746,6.18625954198473,317.5,706.2717,3.87873500545256,317.5,502.7031,9.57808069792802,317.5,522.199,6.84133042529989,317.5,686.3875,4.14067611777536,317.5,444.151,7.10283533260632,317.5,618.6271,5.79203925845147,317.5,518.2402,5.33740458015267,317.5,529.317,8.47688113413304,317.5,510.6487,10.0127589967285,317.5,475.8533,10.4516902944384,317.5,646.114,5.36455834242094,317.5,-340.86,6.27121046892039,317.5,530.0434,9.23162486368593,null,{"$f":"AW269","v":317.5},{"$f":"AVERAGE(B269,E269,H269,K269,N269,Q269,T269,W269,Z269,AC269,AF269,AI269,AL269,AO269,AR269,AU269,AX269)","v":521.472911764706},{"$f":"AVERAGE(C269,F269,I269,L269,O269,R269,U269,X269,AA269,AD269,AG269,AJ269,AM269,AP269,AS269,AV269,AY269)","v":6.76303162486368},{"$f":"STDEV(B269,E269,H269,K269,N269,Q269,T269,W269,Z269,AC269,AF269,AI269,AL269,AO269,AR269,AU269,AX269)","v":235.30764910571},{"$f":"STDEV(C269,F269,I269,L269,O269,R269,U269,X269,AA269,AD269,AG269,AJ269,AM269,AP269,AS269,AV269,AY269)","v":2.05632476309551}]
[318.75,633.6081,5.67928026172301,318.75,662.2128,4.8629225736096,318.75,632.811,5.51068702290076,318.75,606.7904,6.25310796074155,318.75,700.027,3.94220283533261,318.75,495.973,9.41657579062159,318.75,535.8274,6.45190839694657,318.75,703.051,3.99934569247546,318.75,537.4805,8.60861504907306,318.75,631.4662,5.71057797164667,318.75,557.1568,5.4217011995638,318.75,522.679,8.74896401308615,318.75,508.2664,9.95430752453653,318.75,472.2251,10.3473282442748,318.75,638.5055,5.42595419847328,318.75,74.8675,5.40098146128681,318.75,534.5629,9.373173391494,null,{"$f":"AW270","v":318.75},{"$f":"AVERAGE(B270,E270,H270,K270,N270,Q270,T270,W270,Z270,AC270,AF270,AI270,AL270,AO270,AR270,AU270,AX270)","v":555.735917647059},{"$f":"AVERAGE(C270,F270,I270,L270,O270,R270,U270,X270,AA270,AD270,AG270,AJ270,AM270,AP270,AS270,AV270,AY270)","v":6.77103726986978},{"$f":"STDEV(B270,E270,H270,K270,N270,Q270,T270,W270,Z270,AC270,AF270,AI270,AL270,AO270,AR270,AU270,AX270)","v":143.038936795385},{"$f":"STDEV(C270,F270,I270,L270,O270,R270,U270,X270,AA270,AD270,AG270,AJ270,AM270,AP270,AS270,AV270,AY270)","v":2.13731012043503}]
[320,612.732,5.6793893129771,320,657.0313,4.76270447110142,320,627.9312,5.35594329334787,320,607.7626,6.35790621592148,320,699.496,3.96586695747001,320,481.1752,8.9680479825518,320,541.6641,6.49149400218102,320,701.2962,3.99367502726281,320,518.5122,8.85332606324973,320,619.3421,5.61777535441658,320,493.7126,6.07557251908397,320,527.4949,8.98702290076336,320,508.6633,9.95561613958561,320,478.6696,10.7028353326063,320,644.243,5.36455834242094,320,276.8896,6.76968375136314,320,532.8111,9.34863685932388,null,{"$f":"AW271","v":320},{"$f":"AVERAGE(B271,E271,H271,K271,N271,Q271,T271,W271,Z271,AC271,AF271,AI271,AL271,AO271,AR271,AU271,AX271)","v":560.554529411765},{"$f":"AVERAGE(C271,F271,I271,L271,O271,R271,U271,X271,AA271,AD271,AG271,AJ271,AM271,AP271,AS271,AV271,AY271)","v":6.89706203091924},{"$f":"STDEV(B271,E271,H271,K271,N271,Q271,T271,W271,Z271,AC271,AF271,AI271,AL271,AO271,AR271,AU271,AX271)","v":103.980394720247},{"$f":"STDEV(C271,F271,I271,L271,O271,R271,U271,X271,AA271,AD271,AG271,AJ271,AM271,AP271,AS271,AV271,AY271)","v":2.134522403947}]
[321.25,604.5427,5.78386041439477,321.25,661.3084,4.62431842966194,321.25,652.6165,5.12159214830971,321.25,608.2024,6.24154852780807,321.25,703.3032,3.94111232279171,321.25,491.0002,8.30425299890949,321.25,523.7819,6.96423118865867,321.25,697.2129,4.02704471101418,321.25,525.945,9.53206106870229,321.25,631.0598,5.36444929116685,321.25,489.013,6.80905125408942,321.25,528.9382,8.77241003271538,321.25,512.9567,10.0826608505998,321.25,477.54,10.6413304252999,321.25,654.7235,5.25267175572519,321.25,334.7438,6.94711014176663,321.25,529.5007,9.25234460196292,null,{"$f":"AW272","v":321.25},{"$f":"AVERAGE(B272,E272,H272,K272,N272,Q272,T272,W272,Z272,AC272,AF272,AI272,AL272,AO272,AR272,AU272,AX272)","v":566.258170588235},{"$f":"AVERAGE(C272,F272,I272,L272,O272,R272,U272,X272,AA272,AD272,AG272,AJ272,AM272,AP272,AS272,AV272,AY272)","v":6.9212970684457},{"$f":"STDEV(B272,E272,H272,K272,N272,Q272,T272,W272,Z272,AC272,AF272,AI272,AL272,AO272,AR272,AU272,AX272)","v":96.7561037049521},{"$f":"STDEV(C272,F272,I272,L272,O272,R272,U272,X272,AA272,AD272,AG272,AJ272,AM272,AP272,AS272,AV272,AY272)","v":2.15311094183808}]
[322.5,620.3825,5.78287895310796,322.5,627.0705,4.73533260632497,322.5,652.5097,5.12595419847328,322.5,605.7092,6.23740458015267,322.5,703.7851,3.93784078516903,322.5,519.2026,8.58309705561614,322.5,546.0871,7.26848418756816,322.5,699.7743,3.99858233369684,322.5,521.3691,9.51374045801527,322.5,641.1294,5.24449291166848,322.5,518.4588,7.41581243184297,322.5,526.5029,8.38015267175572,322.5,512.6325,10.0838604143948,322.5,476.005,10.5099236641221,322.5,645.6536,5.25736095965104,322.5,495.5657,8.93140676117775,322.5,527.243,9.1525627044711,null,{"$f":"AW273","v":322.5},{"$f":"AVERAGE(B273,E273,H273,K273,N273,Q273,T273,W273,Z273,AC273,AF273,AI273,AL273,AO273,AR273,AU273,AX273)","v":578.769470588235},{"$f":"AVERAGE(C273,F273,I273,L273,O273,R273,U273,X273,AA273,AD273,AG273,AJ273,AM273,AP273,AS273,AV273,AY273)","v":7.06816986336519},{"$f":"STDEV(B273,E273,H273,K273,N273,Q273,T273,W273,Z273,AC273,AF273,AI273,AL273,AO273,AR273,AU273,AX273)","v":74.0161009809924},{"$f":"STDEV(C273,F273,I273,L273,O273,R273,U273,X273,AA273,AD273,AG273,AJ273,AM273,AP273,AS273,AV273,AY273)","v":2.18370575612379}]
[323.75,603.8046,5.84351145038168,323.75,638.5018,4.26652126499455,323.75,640.8494,5.20054525627045,323.75,604.1904,6.32813522355507,323.75,697.166,4.02551799345692,323.75,487.6983,8.52846237731734,323.75,540.808,6.89869138495093,323.75,695.4336,4.00850599781897,323.75,517.9282,9.21090512540894,323.75,638.1255,5.34645583424209,323.75,527.8031,7.75812431842966,323.75,541.9863,8.1,323.75,508.9353,9.97131952017448,323.75,479.8494,10.611014176663,323.75,641.0555,5.21483097055616,323.75,504.141,8.96194111232279,323.75,527.3462,9.09760087241003,null,{"$f":"AW274","v":323.75},{"$f":"AVERAGE(B274,E274,H274,K274,N274,Q274,T274,W274,Z274,AC274,AF274,AI274,AL274,AO274,AR274,AU274,AX274)","v":576.213094117647},{"$f":"AVERAGE(C274,F274,I274,L274,O274,R274,U274,X274,AA274,AD274,AG274,AJ274,AM274,AP274,AS274,AV274,AY274)","v":7.02188722817371},{"$f":"STDEV(B274,E274,H274,K274,N274,Q274,T274,W274,Z274,AC274,AF274,AI274,AL274,AO274,AR274,AU274,AX274)","v":72.4041246921357},{"$f":"STDEV(C274,F274,I274,L274,O274,R274,U274,X274,AA274,AD274,AG274,AJ274,AM274,AP274,AS274,AV274,AY274)","v":2.17003605884851}]
[325,581.4238,6.11526717557252,325,690.4633,3.56815703380589,325,640.4073,5.18931297709924,325,607.6701,6.17001090512541,325,673.2284,4.28571428571429,325,430.7698,8.7319520174482,325,573.3055,6.49803707742639,325,707.831,3.84405670665213,325,521.6456,8.88909487459106,325,642.1984,5.44863685932388,325,501.0183,7.93009814612868,325,554.6264,8.02246455834242,325,508.0873,9.97306434023991,325,480.3899,10.6355507088332,325,652.8972,5.08625954198473,325,494.6647,8.6442748091603,325,528.8443,9.12595419847328,null,{"$f":"AW275","v":325},{"$f":"AVERAGE(B275,E275,H275,K275,N275,Q275,T275,W275,Z275,AC275,AF275,AI275,AL275,AO275,AR275,AU275,AX275)","v":575.851252941177},{"$f":"AVERAGE(C275,F275,I275,L275,O275,R275,U275,X275,AA275,AD275,AG275,AJ275,AM275,AP275,AS275,AV275,AY275)","v":6.95046507152479},{"$f":"STDEV(B275,E275,H275,K275,N275,Q275,T275,W275,Z275,AC275,AF275,AI275,AL275,AO275,AR275,AU275,AX275)","v":82.2098843081241},{"$f":"STDEV(C275,F275,I275,L275,O275,R275,U275,X275,AA275,AD275,AG275,AJ275,AM275,AP275,AS275,AV275,AY275)","v":2.2064251569665}]
[326.25,604.1458,6.11526717557252,326.25,705.0402,3.4340239912759,326.25,649.7727,5.08276990185387,326.25,618.8085,6.08549618320611,326.25,662.9433,4.49672846237732,326.25,439.0665,10.051254089422,326.25,584.6645,6.46673936750273,326.25,678.4444,4.18309705561614,326.25,532.8177,8.52508178844057,326.25,632.3918,5.57851690294438,326.25,509.7054,8.60272628135223,326.25,557.3164,7.69105779716467,326.25,507.6043,9.94994547437296,326.25,484.1738,10.8997818974918,326.25,660.3331,4.92082878953108,326.25,475.3306,8.4659760087241,326.25,531.4833,9.2041439476554,null,{"$f":"AW276","v":326.25},{"$f":"AVERAGE(B276,E276,H276,K276,N276,Q276,T276,W276,Z276,AC276,AF276,AI276,AL276,AO276,AR276,AU276,AX276)","v":578.473076470588},{"$f":"AVERAGE(C276,F276,I276,L276,O276,R276,U276,X276,AA276,AD276,AG276,AJ276,AM276,AP276,AS276,AV276,AY276)","v":7.04431971261787},{"$f":"STDEV(B276,E276,H276,K276,N276,Q276,T276,W276,Z276,AC276,AF276,AI276,AL276,AO276,AR276,AU276,AX276)","v":80.4756834902284},{"$f":"STDEV(C276,F276,I276,L276,O276,R276,U276,X276,AA276,AD276,AG276,AJ276,AM276,AP276,AS276,AV276,AY276)","v":2.2968321916873}]
[327.5,599.3624,6.16412213740458,327.5,705.1995,3.56630316248637,327.5,640.8143,5.15550708833152,327.5,602.4184,6.08440567066521,327.5,690.4605,4.30839694656489,327.5,435.4474,10.8525627044711,327.5,559.3163,6.3391494002181,327.5,699.3417,4.12191930207197,327.5,511.6472,7.78920392584515,327.5,620.336,5.7164667393675,327.5,487.7088,7.98505997818975,327.5,568.6101,7.38189749182116,327.5,504.6913,9.82071973827699,327.5,485.0308,11.0029443838604,327.5,653.2739,4.94002181025082,327.5,426.1991,7.98811341330425,327.5,531.441,9.20730643402399,null,{"$f":"AW277","v":327.5},{"$f":"AVERAGE(B277,E277,H277,K277,N277,Q277,T277,W277,Z277,AC277,AF277,AI277,AL277,AO277,AR277,AU277,AX277)","v":571.8411},{"$f":"AVERAGE(C277,F277,I277,L277,O277,R277,U277,X277,AA277,AD277,AG277,AJ277,AM277,AP277,AS277,AV277,AY277)","v":6.9661235486561},{"$f":"STDEV(B277,E277,H277,K277,N277,Q277,T277,W277,Z277,AC277,AF277,AI277,AL277,AO277,AR277,AU277,AX277)","v":89.4095788501993},{"$f":"STDEV(C277,F277,I277,L277,O277,R277,U277,X277,AA277,AD277,AG277,AJ277,AM277,AP277,AS277,AV277,AY277)","v":2.30455465707885}]
[328.75,584.0632,6.48985823336968,328.75,704.0879,3.71995637949836,328.75,623.8399,5.49443838604144,328.75,602.8989,6.11635768811341,328.75,685.0494,4.3360959651036,328.75,433.1801,11.0703380588877,328.75,575.722,6.0690294438386,328.75,697.7373,4.1196292257361,328.75,545.3344,7.09323882224646,328.75,613.4255,5.70054525627045,328.75,493.7122,6.77753544165758,328.75,563.694,6.94285714285714,328.75,501.8981,9.73522355507088,328.75,481.7014,10.876881134133,328.75,642.8725,5.11275899672846,328.75,328.829,7.18178844056707,328.75,533.6807,9.24307524536532,null,{"$f":"AW278","v":328.75},{"$f":"AVERAGE(B278,E278,H278,K278,N278,Q278,T278,W278,Z278,AC278,AF278,AI278,AL278,AO278,AR278,AU278,AX278)","v":565.395676470588},{"$f":"AVERAGE(C278,F278,I278,L278,O278,R278,U278,X278,AA278,AD278,AG278,AJ278,AM278,AP278,AS278,AV278,AY278)","v":6.8282122009109},{"$f":"STDEV(B278,E278,H278,K278,N278,Q278,T278,W278,Z278,AC278,AF278,AI278,AL278,AO278,AR278,AU278,AX278)","v":98.6422952393871},{"$f":"STDEV(C278,F278,I278,L278,O278,R278,U278,X278,AA278,AD278,AG278,AJ278,AM278,AP278,AS278,AV278,AY278)","v":2.2259809688688}]
[330,564.4978,6.81374045801527,330,707.768,3.78113413304253,330,646.0696,5.47197382769902,330,592.1794,6.03271537622683,330,672.3105,4.45408942202835,330,437.7745,11.0706652126499,330,583.7628,6.05070883315158,330,703.9129,4.013413304253,330,581.0829,6.54525627044711,330,618.7207,5.64133042529989,330,572.4528,5.84242093784079,330,589.6392,6.40632497273719,330,507.5623,9.9423118865867,330,477.6565,10.6376226826609,330,641.5464,5.12824427480916,330,395.1708,8.45070883315158,330,533.4128,9.2020719738277,null,{"$f":"AW279","v":330},{"$f":"AVERAGE(B279,E279,H279,K279,N279,Q279,T279,W279,Z279,AC279,AF279,AI279,AL279,AO279,AR279,AU279,AX279)","v":577.971758823529},{"$f":"AVERAGE(C279,F279,I279,L279,O279,R279,U279,X279,AA279,AD279,AG279,AJ279,AM279,AP279,AS279,AV279,AY279)","v":6.7932195779075},{"$f":"STDEV(B279,E279,H279,K279,N279,Q279,T279,W279,Z279,AC279,AF279,AI279,AL279,AO279,AR279,AU279,AX279)","v":87.5422663624125},{"$f":"STDEV(C279,F279,I279,L279,O279,R279,U279,X279,AA279,AD279,AG279,AJ279,AM279,AP279,AS279,AV279,AY279)","v":2.26252201293827}]
[331.25,573.9048,6.96968375136314,331.25,705.9458,3.85899672846238,331.25,643.7868,5.4257360959651,331.25,606.1285,5.43827699018539,331.25,672.7662,4.37873500545256,331.25,438.3726,11.1052344601963,331.25,568.372,6.25659760087241,331.25,699.0428,4.04678298800436,331.25,593.2795,6.31603053435115,331.25,623.1134,5.47535441657579,331.25,610.1318,5.33969465648855,331.25,623.2904,6.25441657579062,331.25,506.9123,9.91984732824428,331.25,478.2987,10.5067611777535,331.25,642.8054,4.93904034896401,331.25,408.637,8.23489640130862,331.25,534.7848,9.23271537622683,null,{"$f":"AW280","v":331.25},{"$f":"AVERAGE(B280,E280,H280,K280,N280,Q280,T280,W280,Z280,AC280,AF280,AI280,AL280,AO280,AR280,AU280,AX280)","v":584.092517647059},{"$f":"AVERAGE(C280,F280,I280,L280,O280,R280,U280,X280,AA280,AD280,AG280,AJ280,AM280,AP280,AS280,AV280,AY280)","v":6.68816473154147},{"$f":"STDEV(B280,E280,H280,K280,N280,Q280,T280,W280,Z280,AC280,AF280,AI280,AL280,AO280,AR280,AU280,AX280)","v":86.3107686321081},{"$f":"STDEV(C280,F280,I280,L280,O280,R280,U280,X280,AA280,AD280,AG280,AJ280,AM280,AP280,AS280,AV280,AY280)","v":2.28875531435672}]
[332.5,520.1028,6.39607415485278,332.5,700.0686,3.9824427480916,332.5,645.9575,5.40916030534351,332.5,639.6343,4.88495092693566,332.5,674.6234,4.36772082878953,332.5,436.7028,11.1826608505998,332.5,535.7581,6.74078516902944,332.5,687.2269,4.19258451472192,332.5,580.6091,6.56543075245365,332.5,631.8367,5.26248636859324,332.5,576.7057,5.61275899672846,332.5,607.0771,6.39400218102508,332.5,506.1042,9.90436205016358,332.5,486.7149,10.7545256270447,332.5,674.7424,4.64918211559433,332.5,450.1975,8.55103598691385,332.5,529.92,9.1154852780807,null,{"$f":"AW281","v":332.5},{"$f":"AVERAGE(B281,E281,H281,K281,N281,Q281,T281,W281,Z281,AC281,AF281,AI281,AL281,AO281,AR281,AU281,AX281)","v":581.410705882353},{"$f":"AVERAGE(C281,F281,I281,L281,O281,R281,U281,X281,AA281,AD281,AG281,AJ281,AM281,AP281,AS281,AV281,AY281)","v":6.7038616973507},{"$f":"STDEV(B281,E281,H281,K281,N281,Q281,T281,W281,Z281,AC281,AF281,AI281,AL281,AO281,AR281,AU281,AX281)","v":84.6856450176731},{"$f":"STDEV(C281,F281,I281,L281,O281,R281,U281,X281,AA281,AD281,AG281,AJ281,AM281,AP281,AS281,AV281,AY281)","v":2.34246970231341}]
[333.75,554.4289,5.66019629225736,333.75,696.2684,4.05212649945474,333.75,641.7503,5.47350054525627,333.75,664.3673,4.35834242093784,333.75,682.0188,4.35179934569248,333.75,434.7979,10.6330425299891,333.75,310.9236,6.23642311886587,333.75,684.5344,4.29029443838604,333.75,569.788,6.91941112322792,333.75,637.1593,5.14591057797165,333.75,572.9435,6.21014176663032,333.75,594.8427,6.64830970556161,333.75,506.5245,9.92497273718648,333.75,491.305,10.9666303162486,333.75,673.078,4.64830970556161,333.75,489.2928,9.1164667393675,333.75,527.4114,9.04721919302072,null,{"$f":"AW282","v":333.75},{"$f":"AVERAGE(B282,E282,H282,K282,N282,Q282,T282,W282,Z282,AC282,AF282,AI282,AL282,AO282,AR282,AU282,AX282)","v":572.437341176471},{"$f":"AVERAGE(C282,F282,I282,L282,O282,R282,U282,X282,AA282,AD282,AG282,AJ282,AM282,AP282,AS282,AV282,AY282)","v":6.68724100327154},{"$f":"STDEV(B282,E282,H282,K282,N282,Q282,T282,W282,Z282,AC282,AF282,AI282,AL282,AO282,AR282,AU282,AX282)","v":104.73651374229},{"$f":"STDEV(C282,F282,I282,L282,O282,R282,U282,X282,AA282,AD282,AG282,AJ282,AM282,AP282,AS282,AV282,AY282)","v":2.35783942190187}]
[335,603.3587,5.18429661941112,335,653.2266,4.37491821155943,335,644.1181,5.47895310796074,335,701.3311,3.87818974918212,335,675.6575,4.43227917121047,335,430.4587,10.4410032715376,335,482.9547,5.48255179934569,335,673.0417,4.44569247546347,335,567.8691,7.35921483097056,335,641.3274,5.13555070883315,335,586.7463,6.48833151581243,335,605.4243,6.74100327153762,335,507.565,9.93620501635769,335,486.0539,10.7885496183206,335,642.0902,4.82671755725191,335,496.6628,9.30479825517994,335,533.4351,9.16488549618321,null,{"$f":"AW283","v":335},{"$f":"AVERAGE(B283,E283,H283,K283,N283,Q283,T283,W283,Z283,AC283,AF283,AI283,AL283,AO283,AR283,AU283,AX283)","v":584.195364705883},{"$f":"AVERAGE(C283,F283,I283,L283,O283,R283,U283,X283,AA283,AD283,AG283,AJ283,AM283,AP283,AS283,AV283,AY283)","v":6.67430239271281},{"$f":"STDEV(B283,E283,H283,K283,N283,Q283,T283,W283,Z283,AC283,AF283,AI283,AL283,AO283,AR283,AU283,AX283)","v":81.2672308066029},{"$f":"STDEV(C283,F283,I283,L283,O283,R283,U283,X283,AA283,AD283,AG283,AJ283,AM283,AP283,AS283,AV283,AY283)","v":2.36293095606096}]
[336.25,597.3975,5.32639040348964,336.25,612.5335,4.71155943293348,336.25,647.9072,5.42802617230098,336.25,699.2,3.78920392584515,336.25,669.4617,4.60032715376227,336.25,426.7919,10.9287895310796,336.25,606.3477,4.87764449291167,336.25,662.2683,4.54372955288986,336.25,579.2359,7.61014176663032,336.25,638.4378,5.06117775354417,336.25,596.1423,6.57360959651036,336.25,608.6534,6.70458015267176,336.25,512.2727,10.0969465648855,336.25,485.5186,10.8484187568157,336.25,614.0552,5.22082878953108,336.25,460.374,8.72649945474373,336.25,535.1928,9.19214830970556,null,{"$f":"AW284","v":336.25},{"$f":"AVERAGE(B284,E284,H284,K284,N284,Q284,T284,W284,Z284,AC284,AF284,AI284,AL284,AO284,AR284,AU284,AX284)","v":585.399441176471},{"$f":"AVERAGE(C284,F284,I284,L284,O284,R284,U284,X284,AA284,AD284,AG284,AJ284,AM284,AP284,AS284,AV284,AY284)","v":6.72000128295593},{"$f":"STDEV(B284,E284,H284,K284,N284,Q284,T284,W284,Z284,AC284,AF284,AI284,AL284,AO284,AR284,AU284,AX284)","v":76.6944422254398},{"$f":"STDEV(C284,F284,I284,L284,O284,R284,U284,X284,AA284,AD284,AG284,AJ284,AM284,AP284,AS284,AV284,AY284)","v":2.38446122183753}]
[337.5,615.2132,5.5845147219193,337.5,639.6613,4.65267175572519,337.5,512.3277,5.79127589967285,337.5,709.4442,3.62693565976009,337.5,671.8728,4.57982551799346,337.5,424.3028,10.5730643402399,337.5,489.0322,5.51232279171211,337.5,684.1255,4.33184296619411,337.5,566.1207,7.63565976008724,337.5,654.8417,4.92660850599782,337.5,572.6389,6.57971646673937,337.5,606.3318,6.69727371864776,337.5,513.8066,10.1600872410033,337.5,485.2774,10.8176663031625,337.5,597.6498,5.58844056706652,337.5,437.1307,8.85539803707743,337.5,534.4164,9.17262813522355,null,{"$f":"AW285","v":337.5},{"$f":"AVERAGE(B285,E285,H285,K285,N285,Q285,T285,W285,Z285,AC285,AF285,AI285,AL285,AO285,AR285,AU285,AX285)","v":571.423158823529},{"$f":"AVERAGE(C285,F285,I285,L285,O285,R285,U285,X285,AA285,AD285,AG285,AJ285,AM285,AP285,AS285,AV285,AY285)","v":6.76976072871897},{"$f":"STDEV(B285,E285,H285,K285,N285,Q285,T285,W285,Z285,AC285,AF285,AI285,AL285,AO285,AR285,AU285,AX285)","v":86.3785752616213},{"$f":"STDEV(C285,F285,I285,L285,O285,R285,U285,X285,AA285,AD285,AG285,AJ285,AM285,AP285,AS285,AV285,AY285)","v":2.33311180987001}]
[338.75,624.4173,5.66052344601963,338.75,641.3442,4.60577971646674,338.75,399.0867,6.41472191930207,338.75,722.4068,3.46194111232279,338.75,677.6275,4.52410032715376,338.75,438.3708,10.8179934569248,338.75,419.5798,6.61504907306434,338.75,688.4562,4.25147219193021,338.75,565.6221,7.45321701199564,338.75,652.4353,5.00894220283533,338.75,558.3169,6.87241003271538,338.75,594.634,6.67808069792803,338.75,511.6827,10.0885496183206,338.75,484.04,10.6401308615049,338.75,617.6667,5.72639040348964,338.75,460.4133,9.82388222464558,338.75,533.7398,9.16412213740458,null,{"$f":"AW286","v":338.75},{"$f":"AVERAGE(B286,E286,H286,K286,N286,Q286,T286,W286,Z286,AC286,AF286,AI286,AL286,AO286,AR286,AU286,AX286)","v":564.10824117647},{"$f":"AVERAGE(C286,F286,I286,L286,O286,R286,U286,X286,AA286,AD286,AG286,AJ286,AM286,AP286,AS286,AV286,AY286)","v":6.92984155494259},{"$f":"STDEV(B286,E286,H286,K286,N286,Q286,T286,W286,Z286,AC286,AF286,AI286,AL286,AO286,AR286,AU286,AX286)","v":99.8162702613097},{"$f":"STDEV(C286,F286,I286,L286,O286,R286,U286,X286,AA286,AD286,AG286,AJ286,AM286,AP286,AS286,AV286,AY286)","v":2.3726581044377}]
[340,591.5878,5.87546346782988,340,634.9428,4.61363140676118,340,496.1792,7.01406761177754,340,730.5823,3.33162486368593,340,678.6662,4.55986913849509,340,423.8078,10.7376226826608,340,436.1117,7.54394765539804,340,682.485,4.23315158124318,340,568.003,7.01701199563795,340,645.1953,5.08844056706652,340,566.0958,7.09912758996728,340,602.1087,6.51603053435114,340,512.1831,10.1068702290076,340,486.3119,10.6276990185387,340,613.7417,5.8948745910578,340,443.5575,9.08440567066521,340,536.1648,9.2124318429662,null,{"$f":"AW287","v":340},{"$f":"AVERAGE(B287,E287,H287,K287,N287,Q287,T287,W287,Z287,AC287,AF287,AI287,AL287,AO287,AR287,AU287,AX287)","v":567.513211764706},{"$f":"AVERAGE(C287,F287,I287,L287,O287,R287,U287,X287,AA287,AD287,AG287,AJ287,AM287,AP287,AS287,AV287,AY287)","v":6.97389826159471},{"$f":"STDEV(B287,E287,H287,K287,N287,Q287,T287,W287,Z287,AC287,AF287,AI287,AL287,AO287,AR287,AU287,AX287)","v":92.0838605227043},{"$f":"STDEV(C287,F287,I287,L287,O287,R287,U287,X287,AA287,AD287,AG287,AJ287,AM287,AP287,AS287,AV287,AY287)","v":2.31101261326428}]
[341.25,578.6296,6.23522355507088,341.25,596.9602,4.85234460196292,341.25,454.0904,7.84983642311887,341.25,746.964,3.10763358778626,341.25,675.3934,4.51723009814613,341.25,417.7468,11.4835332606325,341.25,476.0754,8.73118865866958,341.25,691.0637,4.06412213740458,341.25,588.7001,6.54318429661941,341.25,633.8941,5.12508178844057,341.25,572.1582,7.22159214830971,341.25,618.6354,6.45528898582334,341.25,505.3351,9.8721919302072,341.25,486.4952,10.6009814612868,341.25,621.7446,5.95965103598691,341.25,455.2453,8.70676117775354,341.25,533.4885,9.12497273718648,null,{"$f":"AW288","v":341.25},{"$f":"AVERAGE(B288,E288,H288,K288,N288,Q288,T288,W288,Z288,AC288,AF288,AI288,AL288,AO288,AR288,AU288,AX288)","v":567.801176470588},{"$f":"AVERAGE(C288,F288,I288,L288,O288,R288,U288,X288,AA288,AD288,AG288,AJ288,AM288,AP288,AS288,AV288,AY288)","v":7.08534222849445},{"$f":"STDEV(B288,E288,H288,K288,N288,Q288,T288,W288,Z288,AC288,AF288,AI288,AL288,AO288,AR288,AU288,AX288)","v":92.9964796730401},{"$f":"STDEV(C288,F288,I288,L288,O288,R288,U288,X288,AA288,AD288,AG288,AJ288,AM288,AP288,AS288,AV288,AY288)","v":2.40606101394074}]
[342.5,578.33,6.46401308615049,342.5,588.8327,4.98724100327154,342.5,483.8584,9.26935659760087,342.5,732.408,3.25888767720829,342.5,683.7961,4.33925845147219,342.5,409.6213,11.0923664122137,342.5,441.0414,8.40654307524537,342.5,693.1883,3.95114503816794,342.5,601.0647,6.20643402399128,342.5,645.5534,5.05965103598691,342.5,573.6067,7.31668484187568,342.5,606.7491,6.39847328244275,342.5,507.621,9.93805888767721,342.5,487.8545,10.7160305343511,342.5,619.7351,5.85703380588877,342.5,496.1434,9.48233369683751,342.5,533.8028,9.12857142857143,null,{"$f":"AW289","v":342.5},{"$f":"AVERAGE(B289,E289,H289,K289,N289,Q289,T289,W289,Z289,AC289,AF289,AI289,AL289,AO289,AR289,AU289,AX289)","v":569.600405882353},{"$f":"AVERAGE(C289,F289,I289,L289,O289,R289,U289,X289,AA289,AD289,AG289,AJ289,AM289,AP289,AS289,AV289,AY289)","v":7.16894605170312},{"$f":"STDEV(B289,E289,H289,K289,N289,Q289,T289,W289,Z289,AC289,AF289,AI289,AL289,AO289,AR289,AU289,AX289)","v":91.0388345669066},{"$f":"STDEV(C289,F289,I289,L289,O289,R289,U289,X289,AA289,AD289,AG289,AJ289,AM289,AP289,AS289,AV289,AY289)","v":2.46724934439474}]
[343.75,555.2372,6.75092693565976,343.75,626.1914,4.88026172300981,343.75,476.1828,9.40152671755725,343.75,731.4361,3.2629225736096,343.75,678.9807,4.31570338058888,343.75,416.8147,11.0079607415485,343.75,422.4733,9.13565976008724,343.75,706.8999,3.68789531079607,343.75,603.9311,6.18505997818975,343.75,651.2462,5.07437295528899,343.75,575.8894,7.37873500545256,343.75,613.4924,6.33315158124318,343.75,511.2141,10.058560523446,343.75,488.4425,10.8081788440567,343.75,612.4157,5.60948745910578,343.75,491.6034,9.43217011995638,343.75,535.888,9.17600872410033,null,{"$f":"AW290","v":343.75},{"$f":"AVERAGE(B290,E290,H290,K290,N290,Q290,T290,W290,Z290,AC290,AF290,AI290,AL290,AO290,AR290,AU290,AX290)","v":570.490523529412},{"$f":"AVERAGE(C290,F290,I290,L290,O290,R290,U290,X290,AA290,AD290,AG290,AJ290,AM290,AP290,AS290,AV290,AY290)","v":7.20579896080569},{"$f":"STDEV(B290,E290,H290,K290,N290,Q290,T290,W290,Z290,AC290,AF290,AI290,AL290,AO290,AR290,AU290,AX290)","v":94.5309264707027},{"$f":"STDEV(C290,F290,I290,L290,O290,R290,U290,X290,AA290,AD290,AG290,AJ290,AM290,AP290,AS290,AV290,AY290)","v":2.54668880710923}]
[345,525.0867,7.22519083969466,345,603.1003,5.03020719738277,345,482.5632,9.80708833151581,345,707.7384,3.52115594329335,345,593.1783,4.83598691384951,345,429.6587,11.7579062159215,345,442.678,9.43860414394766,345,734.2326,3.33544165757906,345,620.81,6.25376226826609,345,651.1267,5.12431842966194,345,570.1957,7.10687022900763,345,619.9524,6.36870229007634,345,510.8882,10.059760087241,345,485.8192,10.7310796074155,345,637.0837,5.2,345,497.1114,9.78320610687023,345,537.8958,9.22246455834242,null,{"$f":"AW291","v":345},{"$f":"AVERAGE(B291,E291,H291,K291,N291,Q291,T291,W291,Z291,AC291,AF291,AI291,AL291,AO291,AR291,AU291,AX291)","v":567.595252941176},{"$f":"AVERAGE(C291,F291,I291,L291,O291,R291,U291,X291,AA291,AD291,AG291,AJ291,AM291,AP291,AS291,AV291,AY291)","v":7.34127910706267},{"$f":"STDEV(B291,E291,H291,K291,N291,Q291,T291,W291,Z291,AC291,AF291,AI291,AL291,AO291,AR291,AU291,AX291)","v":88.7871333247188},{"$f":"STDEV(C291,F291,I291,L291,O291,R291,U291,X291,AA291,AD291,AG291,AJ291,AM291,AP291,AS291,AV291,AY291)","v":2.64956323425306}]
[346.25,528.1227,7.83838604143948,346.25,591.1536,5.1319520174482,346.25,472.7166,9.78669574700109,346.25,702.5941,3.67328244274809,346.25,403.0312,5.96543075245365,346.25,430.8033,11.8778625954198,346.25,448.3145,9.01766630316249,346.25,713.9796,3.48833151581243,346.25,625.0297,6.17677208287895,346.25,648.953,5.18571428571429,346.25,582.028,6.99803707742639,346.25,612.4522,6.19225736095965,346.25,511.2702,10.0800436205016,346.25,486.1944,10.7118865866957,346.25,654.3558,4.90065430752454,346.25,485.5629,9.68320610687023,346.25,534.6226,9.12420937840785,null,{"$f":"AW292","v":346.25},{"$f":"AVERAGE(B292,E292,H292,K292,N292,Q292,T292,W292,Z292,AC292,AF292,AI292,AL292,AO292,AR292,AU292,AX292)","v":554.775552941176},{"$f":"AVERAGE(C292,F292,I292,L292,O292,R292,U292,X292,AA292,AD292,AG292,AJ292,AM292,AP292,AS292,AV292,AY292)","v":7.40190518955674},{"$f":"STDEV(B292,E292,H292,K292,N292,Q292,T292,W292,Z292,AC292,AF292,AI292,AL292,AO292,AR292,AU292,AX292)","v":95.2878077685251},{"$f":"STDEV(C292,F292,I292,L292,O292,R292,U292,X292,AA292,AD292,AG292,AJ292,AM292,AP292,AS292,AV292,AY292)","v":2.56845755462496}]
[347.5,529.5255,8.08887677208288,347.5,594.5927,5.06935659760087,347.5,457.3944,10.3,347.5,720.8664,3.50436205016358,347.5,565.2394,6.49705561613959,347.5,417.356,11.2081788440567,347.5,450.8547,8.68473282442748,347.5,707.5453,3.52115594329335,347.5,626.7562,6.02758996728462,347.5,651.2055,5.24034896401309,347.5,579.1014,7.01821155943293,347.5,632.117,5.94994547437296,347.5,512.0298,10.1077426390404,347.5,489.7396,10.7581243184297,347.5,669.9206,4.63435114503817,347.5,476.8727,9.45332606324973,347.5,532.0781,9.04711014176663,null,{"$f":"AW293","v":347.5},{"$f":"AVERAGE(B293,E293,H293,K293,N293,Q293,T293,W293,Z293,AC293,AF293,AI293,AL293,AO293,AR293,AU293,AX293)","v":565.482076470588},{"$f":"AVERAGE(C293,F293,I293,L293,O293,R293,U293,X293,AA293,AD293,AG293,AJ293,AM293,AP293,AS293,AV293,AY293)","v":7.35943934825839},{"$f":"STDEV(B293,E293,H293,K293,N293,Q293,T293,W293,Z293,AC293,AF293,AI293,AL293,AO293,AR293,AU293,AX293)","v":92.678196444812},{"$f":"STDEV(C293,F293,I293,L293,O293,R293,U293,X293,AA293,AD293,AG293,AJ293,AM293,AP293,AS293,AV293,AY293)","v":2.5428921317656}]
[348.75,531.8781,8.08735005452563,348.75,586.4929,5.1701199563795,348.75,455.2095,10.5003271537623,348.75,737.2556,3.31864776444929,348.75,541.7018,7.04296619411123,348.75,409.0082,10.6519083969466,348.75,440.4531,8.59869138495093,348.75,716.9351,3.47579062159215,348.75,620.2045,5.76902944383861,348.75,641.966,5.29770992366412,348.75,569.8311,6.80403489640131,348.75,627.2908,5.96335877862595,348.75,512.8085,10.1364231188659,348.75,491.1079,10.7308615049073,348.75,667.1404,4.60163576881134,348.75,477.6065,9.21406761177754,348.75,537.549,9.15507088331516,null,{"$f":"AW294","v":348.75},{"$f":"AVERAGE(B294,E294,H294,K294,N294,Q294,T294,W294,Z294,AC294,AF294,AI294,AL294,AO294,AR294,AU294,AX294)","v":562.614058823529},{"$f":"AVERAGE(C294,F294,I294,L294,O294,R294,U294,X294,AA294,AD294,AG294,AJ294,AM294,AP294,AS294,AV294,AY294)","v":7.32458785040734},{"$f":"STDEV(B294,E294,H294,K294,N294,Q294,T294,W294,Z294,AC294,AF294,AI294,AL294,AO294,AR294,AU294,AX294)","v":95.7024196767776},{"$f":"STDEV(C294,F294,I294,L294,O294,R294,U294,X294,AA294,AD294,AG294,AJ294,AM294,AP294,AS294,AV294,AY294)","v":2.51793157498466}]
[350,541.1301,8.04896401308615,350,603.8489,5.02279171210469,350,450.1608,10.4874591057797,350,721.3718,3.4629225736096,350,505.3239,7.53271537622683,350,417.5639,10.8965103598691,350,431.0604,8.66368593238822,350,713.4101,3.57350054525627,350,640.513,5.4896401308615,350,641.5431,5.3824427480916,350,583.0487,6.55114503816794,350,617.4258,6.14580152671756,350,511.5206,10.0892039258451,350,487.5653,10.5878953107961,350,624.8404,4.9546346782988,350,500.0218,9.6979280261723,350,535.9538,9.11188658669575,null,{"$f":"AW295","v":350},{"$f":"AVERAGE(B295,E295,H295,K295,N295,Q295,T295,W295,Z295,AC295,AF295,AI295,AL295,AO295,AR295,AU295,AX295)","v":560.370729411765},{"$f":"AVERAGE(C295,F295,I295,L295,O295,R295,U295,X295,AA295,AD295,AG295,AJ295,AM295,AP295,AS295,AV295,AY295)","v":7.3940663288216},{"$f":"STDEV(B295,E295,H295,K295,N295,Q295,T295,W295,Z295,AC295,AF295,AI295,AL295,AO295,AR295,AU295,AX295)","v":92.4517012968377},{"$f":"STDEV(C295,F295,I295,L295,O295,R295,U295,X295,AA295,AD295,AG295,AJ295,AM295,AP295,AS295,AV295,AY295)","v":2.51477845739661}]
[351.25,539.6695,7.99803707742639,351.25,524.229,5.30839694656489,351.25,440.8904,10.2221374045802,351.25,707.3352,3.65616139585605,351.25,479.1377,8.31450381679389,351.25,425.5016,11.3242093784079,351.25,447.6831,8.69683751363141,351.25,720.436,3.53511450381679,351.25,643.832,5.49062159214831,351.25,635.5488,5.41657579062159,351.25,597.6971,6.50021810250818,351.25,611.2502,6.35059978189749,351.25,505.4338,9.88157033805889,351.25,486.7279,10.6822246455834,351.25,649.0919,4.98647764449291,351.25,505.3333,9.77153762268266,351.25,534.7602,9.07917121046892,null,{"$f":"AW296","v":351.25},{"$f":"AVERAGE(B296,E296,H296,K296,N296,Q296,T296,W296,Z296,AC296,AF296,AI296,AL296,AO296,AR296,AU296,AX296)","v":556.150452941176},{"$f":"AVERAGE(C296,F296,I296,L296,O296,R296,U296,X296,AA296,AD296,AG296,AJ296,AM296,AP296,AS296,AV296,AY296)","v":7.48319969209058},{"$f":"STDEV(B296,E296,H296,K296,N296,Q296,T296,W296,Z296,AC296,AF296,AI296,AL296,AO296,AR296,AU296,AX296)","v":92.5375830837471},{"$f":"STDEV(C296,F296,I296,L296,O296,R296,U296,X296,AA296,AD296,AG296,AJ296,AM296,AP296,AS296,AV296,AY296)","v":2.50176260318296}]
[352.5,537.3524,7.84569247546347,352.5,552.8081,5.20229007633588,352.5,421.6456,8.94383860414395,352.5,727.9983,3.51090512540894,352.5,474.5253,9.28854961832061,352.5,430.2483,11.4601962922574,352.5,466.7503,8.49291166848419,352.5,688.4735,3.85801526717557,352.5,650.1539,5.50883315158124,352.5,630.7205,5.47055616139586,352.5,597.6115,6.29890948745911,352.5,615.5611,6.28778625954199,352.5,505.7355,9.8979280261723,352.5,489.353,10.8612868047983,352.5,658.2642,4.95081788440567,352.5,505.9867,9.73533260632497,352.5,537.2392,9.12290076335878,null,{"$f":"AW297","v":352.5},{"$f":"AVERAGE(B297,E297,H297,K297,N297,Q297,T297,W297,Z297,AC297,AF297,AI297,AL297,AO297,AR297,AU297,AX297)","v":558.260435294118},{"$f":"AVERAGE(C297,F297,I297,L297,O297,R297,U297,X297,AA297,AD297,AG297,AJ297,AM297,AP297,AS297,AV297,AY297)","v":7.45510295721342},{"$f":"STDEV(B297,E297,H297,K297,N297,Q297,T297,W297,Z297,AC297,AF297,AI297,AL297,AO297,AR297,AU297,AX297)","v":92.1543172628997},{"$f":"STDEV(C297,F297,I297,L297,O297,R297,U297,X297,AA297,AD297,AG297,AJ297,AM297,AP297,AS297,AV297,AY297)","v":2.48327995600738}]
[353.75,527.0948,7.6814612868048,353.75,615.853,4.73893129770992,353.75,444.2128,7.74852780806979,353.75,703.8319,3.82726281352235,353.75,462.3341,10.1124318429662,353.75,429.2477,11.3021810250818,353.75,491.2091,8.45703380588877,353.75,688.1967,3.94874591057797,353.75,654.3946,5.48778625954199,353.75,635.6474,5.47546346782988,353.75,604.2475,6.08756815703381,353.75,625.2764,6.18996728462377,353.75,511.3339,10.0955288985823,353.75,490.0887,10.8681570338059,353.75,636.254,4.89716466739368,353.75,508.6066,9.85616139585605,353.75,534.0577,9.01941112322792,null,{"$f":"AW298","v":353.75},{"$f":"AVERAGE(B298,E298,H298,K298,N298,Q298,T298,W298,Z298,AC298,AF298,AI298,AL298,AO298,AR298,AU298,AX298)","v":562.463935294118},{"$f":"AVERAGE(C298,F298,I298,L298,O298,R298,U298,X298,AA298,AD298,AG298,AJ298,AM298,AP298,AS298,AV298,AY298)","v":7.39963435755982},{"$f":"STDEV(B298,E298,H298,K298,N298,Q298,T298,W298,Z298,AC298,AF298,AI298,AL298,AO298,AR298,AU298,AX298)","v":87.7608339369344},{"$f":"STDEV(C298,F298,I298,L298,O298,R298,U298,X298,AA298,AD298,AG298,AJ298,AM298,AP298,AS298,AV298,AY298)","v":2.50524025647201}]
[355,527.5189,7.77371864776445,355,631.7456,4.53326063249727,355,506.0168,6.98593238822247,355,678.9391,4.20774263904035,355,428.0207,10.2960741548528,355,433.0266,11.564667393675,355,467.331,8.22824427480916,355,699.1238,3.89869138495093,355,648.6705,5.47513631406761,355,635.2867,5.50654307524537,355,600.6276,5.89127589967285,355,605.7083,6.19225736095965,355,509.7919,10.0462377317339,355,487.9673,10.6762268266085,355,657.7537,4.47208287895311,355,513.1911,10.0267175572519,355,534.751,9.01232279171211,null,{"$f":"AW299","v":355},{"$f":"AVERAGE(B299,E299,H299,K299,N299,Q299,T299,W299,Z299,AC299,AF299,AI299,AL299,AO299,AR299,AU299,AX299)","v":562.674741176471},{"$f":"AVERAGE(C299,F299,I299,L299,O299,R299,U299,X299,AA299,AD299,AG299,AJ299,AM299,AP299,AS299,AV299,AY299)","v":7.34041952658926},{"$f":"STDEV(B299,E299,H299,K299,N299,Q299,T299,W299,Z299,AC299,AF299,AI299,AL299,AO299,AR299,AU299,AX299)","v":87.3175279517095},{"$f":"STDEV(C299,F299,I299,L299,O299,R299,U299,X299,AA299,AD299,AG299,AJ299,AM299,AP299,AS299,AV299,AY299)","v":2.55158844744693}]
[356.25,538.2779,7.99934569247546,356.25,633.0746,4.43664122137405,356.25,544.3468,6.15223555070883,356.25,663.9535,4.3886586695747,356.25,428.568,11.6453653217012,356.25,437.2157,11.4462377317339,356.25,447.5129,8.02824427480916,356.25,702.6914,3.9196292257361,356.25,652.3047,5.34874591057797,356.25,627.4537,5.53947655398037,356.25,620.9646,5.60054525627045,356.25,616.7578,6.03315158124318,356.25,511.5511,10.1100327153762,356.25,489.2307,10.6363140676118,356.25,677.6499,4.07513631406761,356.25,507.068,9.8226826608506,356.25,537.2596,9.09520174482006,null,{"$f":"AW300","v":356.25},{"$f":"AVERAGE(B300,E300,H300,K300,N300,Q300,T300,W300,Z300,AC300,AF300,AI300,AL300,AO300,AR300,AU300,AX300)","v":566.816523529412},{"$f":"AVERAGE(C300,F300,I300,L300,O300,R300,U300,X300,AA300,AD300,AG300,AJ300,AM300,AP300,AS300,AV300,AY300)","v":7.31044967605363},{"$f":"STDEV(B300,E300,H300,K300,N300,Q300,T300,W300,Z300,AC300,AF300,AI300,AL300,AO300,AR300,AU300,AX300)","v":88.7278260028635},{"$f":"STDEV(C300,F300,I300,L300,O300,R300,U300,X300,AA300,AD300,AG300,AJ300,AM300,AP300,AS300,AV300,AY300)","v":2.70328089472542}]
[357.5,527.1177,8.15801526717557,357.5,632.9446,4.42529989094875,357.5,610.1343,5.81657579062159,357.5,643.8377,4.3360959651036,357.5,425.4632,11.8571428571429,357.5,444.2885,11.2247546346783,357.5,460.7942,8.20785169029444,357.5,592.6792,4.63347873500545,357.5,653.9661,5.23031624863686,357.5,626.974,5.56510359869139,357.5,620.4331,5.4062159214831,357.5,623.5213,5.84885496183206,357.5,514.0043,10.1945474372955,357.5,489.3745,10.6252998909487,357.5,693.781,3.72529989094875,357.5,496.2451,9.63500545256271,357.5,536.718,9.10218102508179,null,{"$f":"AW301","v":357.5},{"$f":"AVERAGE(B301,E301,H301,K301,N301,Q301,T301,W301,Z301,AC301,AF301,AI301,AL301,AO301,AR301,AU301,AX301)","v":564.251576470588},{"$f":"AVERAGE(C301,F301,I301,L301,O301,R301,U301,X301,AA301,AD301,AG301,AJ301,AM301,AP301,AS301,AV301,AY301)","v":7.29364936814421},{"$f":"STDEV(B301,E301,H301,K301,N301,Q301,T301,W301,Z301,AC301,AF301,AI301,AL301,AO301,AR301,AU301,AX301)","v":82.4037395969574},{"$f":"STDEV(C301,F301,I301,L301,O301,R301,U301,X301,AA301,AD301,AG301,AJ301,AM301,AP301,AS301,AV301,AY301)","v":2.71558889267673}]
[358.75,514.5644,8.15790621592148,358.75,640.5079,4.36761177753544,358.75,585.1626,6.02900763358779,358.75,264.8183,6.06564885496183,358.75,421.8549,12.1443838604144,358.75,442.5277,10.8980370774264,358.75,471.526,8.18745910577972,358.75,193.0955,6.01952017448201,358.75,634.3557,5.35201744820065,358.75,633.6091,5.57764449291167,358.75,636.6866,5.33249727371865,358.75,640.3938,5.6896401308615,358.75,512.2981,10.1243184296619,358.75,486.258,10.5389312977099,358.75,720.4043,3.34351145038168,358.75,486.7961,9.40032715376227,358.75,536.1579,9.08473282442748,null,{"$f":"AW302","v":358.75},{"$f":"AVERAGE(B302,E302,H302,K302,N302,Q302,T302,W302,Z302,AC302,AF302,AI302,AL302,AO302,AR302,AU302,AX302)","v":518.883347058824},{"$f":"AVERAGE(C302,F302,I302,L302,O302,R302,U302,X302,AA302,AD302,AG302,AJ302,AM302,AP302,AS302,AV302,AY302)","v":7.43018795304381},{"$f":"STDEV(B302,E302,H302,K302,N302,Q302,T302,W302,Z302,AC302,AF302,AI302,AL302,AO302,AR302,AU302,AX302)","v":138.194394505426},{"$f":"STDEV(C302,F302,I302,L302,O302,R302,U302,X302,AA302,AD302,AG302,AJ302,AM302,AP302,AS302,AV302,AY302)","v":2.57354719690219}]
[360,519.3935,8.22355507088331,360,633.6502,4.35016357688113,360,539.7795,6.6103598691385,360,576.4684,6.0350054525627,360,424.6474,12.2218102508179,360,430.1822,10.6342420937841,360,467.3014,8.07415485278081,360,542.0593,6.18974918211559,360,599.2362,5.73369683751363,360,630.6102,5.62017448200654,360,615.0864,5.56248636859324,360,634.6759,5.70359869138495,360,510.4429,10.0696837513631,360,487.2683,10.6533260632497,360,732.7064,3.08320610687023,360,489.8583,9.35757906215921,360,536.8643,9.06586695747001,null,{"$f":"AW303","v":360},{"$f":"AVERAGE(B303,E303,H303,K303,N303,Q303,T303,W303,Z303,AC303,AF303,AI303,AL303,AO303,AR303,AU303,AX303)","v":551.190047058823},{"$f":"AVERAGE(C303,F303,I303,L303,O303,R303,U303,X303,AA303,AD303,AG303,AJ303,AM303,AP303,AS303,AV303,AY303)","v":7.48168580409263},{"$f":"STDEV(B303,E303,H303,K303,N303,Q303,T303,W303,Z303,AC303,AF303,AI303,AL303,AO303,AR303,AU303,AX303)","v":82.4190703732313},{"$f":"STDEV(C303,F303,I303,L303,O303,R303,U303,X303,AA303,AD303,AG303,AJ303,AM303,AP303,AS303,AV303,AY303)","v":2.53887622301802}]
[361.25,522.3417,8.3928026172301,361.25,650.3591,4.24383860414395,361.25,539.7693,7.15648854961832,361.25,558.3919,6.06782988004362,361.25,430.1204,12.3932388222465,361.25,426.6571,11.0985823336968,361.25,469.4216,8.08909487459106,361.25,611.0861,5.90436205016358,361.25,616.3901,6.01526717557252,361.25,635.3871,5.6649945474373,361.25,596.5635,5.98636859323882,361.25,629.3638,5.80119956379498,361.25,510.1832,10.0668484187568,361.25,482.3065,10.4436205016358,361.25,735.5603,3.0288985823337,361.25,500.9707,9.51068702290076,361.25,540.726,9.11461286804798,null,{"$f":"AW304","v":361.25},{"$f":"AVERAGE(B304,E304,H304,K304,N304,Q304,T304,W304,Z304,AC304,AF304,AI304,AL304,AO304,AR304,AU304,AX304)","v":556.211670588235},{"$f":"AVERAGE(C304,F304,I304,L304,O304,R304,U304,X304,AA304,AD304,AG304,AJ304,AM304,AP304,AS304,AV304,AY304)","v":7.58698441208545},{"$f":"STDEV(B304,E304,H304,K304,N304,Q304,T304,W304,Z304,AC304,AF304,AI304,AL304,AO304,AR304,AU304,AX304)","v":84.1949839520129},{"$f":"STDEV(C304,F304,I304,L304,O304,R304,U304,X304,AA304,AD304,AG304,AJ304,AM304,AP304,AS304,AV304,AY304)","v":2.57232529947468}]
[362.5,518.4954,8.56979280261723,362.5,676.2528,4.05910577971647,362.5,552.412,7.48713195201745,362.5,546.3724,6.26215921483097,362.5,424.9175,12.2441657579062,362.5,429.1315,11.598800436205,362.5,499.3877,8.42519083969466,362.5,614.7912,5.7030534351145,362.5,628.226,5.94972737186478,362.5,630.3718,5.58178844056707,362.5,593.5639,6.19934569247546,362.5,640.3756,5.79629225736096,362.5,512.5491,10.140239912759,362.5,481.1354,10.2983642311887,362.5,723.7469,3.1979280261723,362.5,515.4408,9.91319520174482,362.5,538.632,9.06041439476554,null,{"$f":"AW305","v":362.5},{"$f":"AVERAGE(B305,E305,H305,K305,N305,Q305,T305,W305,Z305,AC305,AF305,AI305,AL305,AO305,AR305,AU305,AX305)","v":560.341294117647},{"$f":"AVERAGE(C305,F305,I305,L305,O305,R305,U305,X305,AA305,AD305,AG305,AJ305,AM305,AP305,AS305,AV305,AY305)","v":7.67568798511771},{"$f":"STDEV(B305,E305,H305,K305,N305,Q305,T305,W305,Z305,AC305,AF305,AI305,AL305,AO305,AR305,AU305,AX305)","v":83.8333729696702},{"$f":"STDEV(C305,F305,I305,L305,O305,R305,U305,X305,AA305,AD305,AG305,AJ305,AM305,AP305,AS305,AV305,AY305)","v":2.61760036130196}]
[363.75,516.7318,8.39182115594329,363.75,612.5838,4.53380588876772,363.75,546.4186,7.79105779716467,363.75,519.2278,6.16074154852781,363.75,415.3131,12.1805888767721,363.75,424.9429,11.382878953108,363.75,499.5306,8.50425299890949,363.75,627.4141,5.54754634678299,363.75,634.5038,5.80545256270447,363.75,638.8011,5.43086150490731,363.75,579.1922,6.39182115594329,363.75,644.083,5.71952017448201,363.75,513.7907,10.186586695747,363.75,487.3245,10.4845147219193,363.75,740.675,3.01952017448201,363.75,503.1576,9.57066521264994,363.75,535.7514,9.03565976008724,null,{"$f":"AW306","v":363.75},{"$f":"AVERAGE(B306,E306,H306,K306,N306,Q306,T306,W306,Z306,AC306,AF306,AI306,AL306,AO306,AR306,AU306,AX306)","v":555.261294117647},{"$f":"AVERAGE(C306,F306,I306,L306,O306,R306,U306,X306,AA306,AD306,AG306,AJ306,AM306,AP306,AS306,AV306,AY306)","v":7.65513503111169},{"$f":"STDEV(B306,E306,H306,K306,N306,Q306,T306,W306,Z306,AC306,AF306,AI306,AL306,AO306,AR306,AU306,AX306)","v":85.3509172066085},{"$f":"STDEV(C306,F306,I306,L306,O306,R306,U306,X306,AA306,AD306,AG306,AJ306,AM306,AP306,AS306,AV306,AY306)","v":2.58921777310209}]
[365,524.0139,8.19945474372955,365,598.8075,4.73435114503817,365,523.1376,7.88157033805889,365,529.9743,6.30359869138495,365,412.6266,11.9800436205016,365,425.0992,11.425627044711,365,499.549,8.49247546346783,365,588.6905,5.74002181025082,365,637.9809,5.61973827699018,365,635.036,5.46695747001091,365,594.4902,6.39803707742639,365,637.1435,5.73969465648855,365,509.9047,10.0438386041439,365,486.805,10.4540894220284,365,751.896,2.88157033805889,365,489.7192,9.39836423118866,365,538.7199,9.11842966194111,null,{"$f":"AW307","v":365},{"$f":"AVERAGE(B307,E307,H307,K307,N307,Q307,T307,W307,Z307,AC307,AF307,AI307,AL307,AO307,AR307,AU307,AX307)","v":551.976117647059},{"$f":"AVERAGE(C307,F307,I307,L307,O307,R307,U307,X307,AA307,AD307,AG307,AJ307,AM307,AP307,AS307,AV307,AY307)","v":7.63987427031881},{"$f":"STDEV(B307,E307,H307,K307,N307,Q307,T307,W307,Z307,AC307,AF307,AI307,AL307,AO307,AR307,AU307,AX307)","v":85.6216163505764},{"$f":"STDEV(C307,F307,I307,L307,O307,R307,U307,X307,AA307,AD307,AG307,AJ307,AM307,AP307,AS307,AV307,AY307)","v":2.54556828553651}]
[366.25,526.6889,8.24809160305344,366.25,670.1121,4.3711014176663,366.25,502.791,8.24852780806979,366.25,475.5067,6.27611777535442,366.25,418.6089,11.9267175572519,366.25,427.6308,11.7199563794984,366.25,485.4812,8.29869138495093,366.25,547.8482,6.33064340239913,366.25,621.1504,5.68255179934569,366.25,628.6111,5.48691384950927,366.25,608.2916,6.34482006543075,366.25,633.8745,5.82660850599782,366.25,510.6625,10.0776444929117,366.25,488.2358,10.5322791712105,366.25,751.0583,2.91417666303162,366.25,495.1588,9.66237731733915,366.25,541.2067,9.15070883315158,null,{"$f":"AW308","v":366.25},{"$f":"AVERAGE(B308,E308,H308,K308,N308,Q308,T308,W308,Z308,AC308,AF308,AI308,AL308,AO308,AR308,AU308,AX308)","v":548.995147058823},{"$f":"AVERAGE(C308,F308,I308,L308,O308,R308,U308,X308,AA308,AD308,AG308,AJ308,AM308,AP308,AS308,AV308,AY308)","v":7.71164282506896},{"$f":"STDEV(B308,E308,H308,K308,N308,Q308,T308,W308,Z308,AC308,AF308,AI308,AL308,AO308,AR308,AU308,AX308)","v":90.0287278917688},{"$f":"STDEV(C308,F308,I308,L308,O308,R308,U308,X308,AA308,AD308,AG308,AJ308,AM308,AP308,AS308,AV308,AY308)","v":2.58378705767869}]
[367.5,525.6719,8.22224645583424,367.5,676.3911,4.42977099236641,367.5,499.9228,8.41166848418757,367.5,442.0787,6.67230098146129,367.5,419.2734,12.4788440567067,367.5,424.1888,11.7440567066521,367.5,472.6803,7.97491821155943,367.5,531.3131,7.03675027262814,367.5,607.4018,5.97829880043621,367.5,636.8217,5.36793893129771,367.5,613.4907,6.24667393675027,367.5,635.3773,5.77197382769902,367.5,511.3239,10.1017448200654,367.5,489.767,10.6169029443839,367.5,755.1002,2.90054525627045,367.5,498.5444,9.67928026172301,367.5,543.4452,9.1567066521265,null,{"$f":"AW309","v":367.5},{"$f":"AVERAGE(B309,E309,H309,K309,N309,Q309,T309,W309,Z309,AC309,AF309,AI309,AL309,AO309,AR309,AU309,AX309)","v":546.046605882353},{"$f":"AVERAGE(C309,F309,I309,L309,O309,R309,U309,X309,AA309,AD309,AG309,AJ309,AM309,AP309,AS309,AV309,AY309)","v":7.81121303483226},{"$f":"STDEV(B309,E309,H309,K309,N309,Q309,T309,W309,Z309,AC309,AF309,AI309,AL309,AO309,AR309,AU309,AX309)","v":94.1192584768685},{"$f":"STDEV(C309,F309,I309,L309,O309,R309,U309,X309,AA309,AD309,AG309,AJ309,AM309,AP309,AS309,AV309,AY309)","v":2.6173693484162}]
[368.75,522.8454,8.19912758996728,368.75,688.0263,4.38157033805889,368.75,487.8873,8.33086150490731,368.75,529.9458,7.29836423118866,368.75,414.4636,12.0642311886587,368.75,428.152,11.6335877862595,368.75,476.5569,7.84405670665213,368.75,535.8522,7.60567066521265,368.75,615.2319,6.25517993456925,368.75,636.631,5.29847328244275,368.75,612.7971,6.11483097055616,368.75,629.5781,5.76663031624864,368.75,507.2367,9.94961832061069,368.75,489.6067,10.618320610687,368.75,758.7134,2.87350054525627,368.75,500.0121,9.52900763358779,368.75,536.9542,8.99040348964013,null,{"$f":"AW310","v":368.75},{"$f":"AVERAGE(B310,E310,H310,K310,N310,Q310,T310,W310,Z310,AC310,AF310,AI310,AL310,AO310,AR310,AU310,AX310)","v":551.205335294118},{"$f":"AVERAGE(C310,F310,I310,L310,O310,R310,U310,X310,AA310,AD310,AG310,AJ310,AM310,AP310,AS310,AV310,AY310)","v":7.80902559497081},{"$f":"STDEV(B310,E310,H310,K310,N310,Q310,T310,W310,Z310,AC310,AF310,AI310,AL310,AO310,AR310,AU310,AX310)","v":92.3910810364354},{"$f":"STDEV(C310,F310,I310,L310,O310,R310,U310,X310,AA310,AD310,AG310,AJ310,AM310,AP310,AS310,AV310,AY310)","v":2.5268063609028}]
[370,512.3653,7.96215921483097,370,689.9265,4.36117775354417,370,481.5456,8.49007633587786,370,526.133,7.33805888767721,370,418.8646,11.8452562704471,370,432.1655,11.1197382769902,370,482.2947,8.16543075245365,370,525.8788,7.86695747001091,370,619.814,6.4092693565976,370,649.0843,5.16139585605234,370,589.2113,6.08287895310796,370,618.051,6.00741548527808,370,506.8271,9.94787350054525,370,494.0425,10.7949836423119,370,744.2279,3.05310796074155,370,509.7138,9.77001090512541,370,536.3814,8.99247546346783,null,{"$f":"AW311","v":370},{"$f":"AVERAGE(B311,E311,H311,K311,N311,Q311,T311,W311,Z311,AC311,AF311,AI311,AL311,AO311,AR311,AU311,AX311)","v":549.207488235294},{"$f":"AVERAGE(C311,F311,I311,L311,O311,R311,U311,X311,AA311,AD311,AG311,AJ311,AM311,AP311,AS311,AV311,AY311)","v":7.84519212265059},{"$f":"STDEV(B311,E311,H311,K311,N311,Q311,T311,W311,Z311,AC311,AF311,AI311,AL311,AO311,AR311,AU311,AX311)","v":89.3994826498725},{"$f":"STDEV(C311,F311,I311,L311,O311,R311,U311,X311,AA311,AD311,AG311,AJ311,AM311,AP311,AS311,AV311,AY311)","v":2.45594804356224}]
[371.25,517.5845,7.92039258451472,371.25,686.2281,4.35430752453653,371.25,484.275,8.67230098146129,371.25,507.3476,7.15932388222465,371.25,420.1816,12.0514721919302,371.25,442.1449,10.9372955288986,371.25,480.1995,7.97164667393675,371.25,507.2396,8.16488549618321,371.25,616.919,6.46095965103599,371.25,615.2286,5.35986913849509,371.25,568.3828,6.39225736095965,371.25,614.4411,6.12399127589967,371.25,505.8969,9.91570338058888,371.25,490.9991,10.5942202835333,371.25,731.1927,3.18745910577972,371.25,505.9185,9.6937840785169,371.25,539.255,9.07917121046892,null,{"$f":"AW312","v":371.25},{"$f":"AVERAGE(B312,E312,H312,K312,N312,Q312,T312,W312,Z312,AC312,AF312,AI312,AL312,AO312,AR312,AU312,AX312)","v":543.143205882353},{"$f":"AVERAGE(C312,F312,I312,L312,O312,R312,U312,X312,AA312,AD312,AG312,AJ312,AM312,AP312,AS312,AV312,AY312)","v":7.884649432292},{"$f":"STDEV(B312,E312,H312,K312,N312,Q312,T312,W312,Z312,AC312,AF312,AI312,AL312,AO312,AR312,AU312,AX312)","v":84.2888714569758},{"$f":"STDEV(C312,F312,I312,L312,O312,R312,U312,X312,AA312,AD312,AG312,AJ312,AM312,AP312,AS312,AV312,AY312)","v":2.40230625728205}]
[372.5,530.5403,8.27001090512541,372.5,689.8479,4.28931297709924,372.5,490.9526,8.94994547437296,372.5,502.9373,7.26423118865867,372.5,414.9736,11.9531079607415,372.5,442.1229,10.5153762268266,372.5,503.9775,7.72431842966194,372.5,496.6901,8.72922573609596,372.5,616.3441,6.42617230098146,372.5,623.3229,5.56106870229008,372.5,605.4564,6.48418756815703,372.5,608.17,6.20861504907306,372.5,501.6289,9.76684841875682,372.5,489.244,10.5007633587786,372.5,750.1325,2.96095965103599,372.5,499.6777,9.58789531079607,372.5,539.3411,9.08124318429662,null,{"$f":"AW313","v":372.5},{"$f":"AVERAGE(B313,E313,H313,K313,N313,Q313,T313,W313,Z313,AC313,AF313,AI313,AL313,AO313,AR313,AU313,AX313)","v":547.374105882353},{"$f":"AVERAGE(C313,F313,I313,L313,O313,R313,U313,X313,AA313,AD313,AG313,AJ313,AM313,AP313,AS313,AV313,AY313)","v":7.89842837898518},{"$f":"STDEV(B313,E313,H313,K313,N313,Q313,T313,W313,Z313,AC313,AF313,AI313,AL313,AO313,AR313,AU313,AX313)","v":88.5003418241031},{"$f":"STDEV(C313,F313,I313,L313,O313,R313,U313,X313,AA313,AD313,AG313,AJ313,AM313,AP313,AS313,AV313,AY313)","v":2.37253141306077}]
[373.75,511.6324,8.35539803707743,373.75,686.1025,4.31264994547437,373.75,477.2709,9.11842966194111,373.75,506.0271,7.48571428571429,373.75,408.5201,11.9323882224646,373.75,457.6651,10.4997818974918,373.75,513.7078,7.79236641221374,373.75,479.1912,9.03620501635769,373.75,606.9456,6.30577971646674,373.75,625.5654,5.69607415485278,373.75,612.0696,6.39651035986914,373.75,615.136,6.20185387131952,373.75,505.5484,9.89149400218102,373.75,494.7824,10.7478735005453,373.75,731.2839,3.20981461286805,373.75,503.51,9.7412213740458,373.75,541.4451,9.10785169029444,null,{"$f":"AW314","v":373.75},{"$f":"AVERAGE(B314,E314,H314,K314,N314,Q314,T314,W314,Z314,AC314,AF314,AI314,AL314,AO314,AR314,AU314,AX314)","v":545.670794117647},{"$f":"AVERAGE(C314,F314,I314,L314,O314,R314,U314,X314,AA314,AD314,AG314,AJ314,AM314,AP314,AS314,AV314,AY314)","v":7.99008275065752},{"$f":"STDEV(B314,E314,H314,K314,N314,Q314,T314,W314,Z314,AC314,AF314,AI314,AL314,AO314,AR314,AU314,AX314)","v":86.2211343867577},{"$f":"STDEV(C314,F314,I314,L314,O314,R314,U314,X314,AA314,AD314,AG314,AJ314,AM314,AP314,AS314,AV314,AY314)","v":2.37674366173272}]
[375,502.3563,8.36652126499455,375,676.6281,4.36979280261723,375,470.2796,9.53882224645583,375,516.1864,7.80796074154853,375,412.9341,12.5369683751363,375,467.7481,10.3750272628135,375,509.089,7.86717557251908,375,475.6929,9.42377317339149,375,612.1347,5.97775354416576,375,621.1573,5.86270447110142,375,599.1322,6.38735005452563,375,590.6779,6.35725190839695,375,507.4315,9.96270447110142,375,494.6712,10.7788440567067,375,730.7052,3.30654307524536,375,511.2485,9.89727371864776,375,537.0069,8.96510359869139,null,{"$f":"AW315","v":375},{"$f":"AVERAGE(B315,E315,H315,K315,N315,Q315,T315,W315,Z315,AC315,AF315,AI315,AL315,AO315,AR315,AU315,AX315)","v":543.239994117647},{"$f":"AVERAGE(C315,F315,I315,L315,O315,R315,U315,X315,AA315,AD315,AG315,AJ315,AM315,AP315,AS315,AV315,AY315)","v":8.10479825517993},{"$f":"STDEV(B315,E315,H315,K315,N315,Q315,T315,W315,Z315,AC315,AF315,AI315,AL315,AO315,AR315,AU315,AX315)","v":82.902464897564},{"$f":"STDEV(C315,F315,I315,L315,O315,R315,U315,X315,AA315,AD315,AG315,AJ315,AM315,AP315,AS315,AV315,AY315)","v":2.44809959674408}]
[376.25,515.0198,8.35747001090513,376.25,665.8139,4.54220283533261,376.25,462.6137,9.43784078516903,376.25,534.7728,8.14296619411123,376.25,415.2288,12.5148309705562,376.25,466.5466,10.4090512540894,376.25,512.168,7.5164667393675,376.25,475.4252,9.31864776444929,376.25,624.6011,5.73369683751363,376.25,617.1477,5.95627044711014,376.25,597.0601,6.33805888767721,376.25,606.9409,6.63129770992366,376.25,508.8225,9.99890948745911,376.25,489.7631,10.5737186477644,376.25,736.967,3.24362050163577,376.25,517.8231,10.032933478735,376.25,531.5344,8.83042529989095,null,{"$f":"AW316","v":376.25},{"$f":"AVERAGE(B316,E316,H316,K316,N316,Q316,T316,W316,Z316,AC316,AF316,AI316,AL316,AO316,AR316,AU316,AX316)","v":545.779335294118},{"$f":"AVERAGE(C316,F316,I316,L316,O316,R316,U316,X316,AA316,AD316,AG316,AJ316,AM316,AP316,AS316,AV316,AY316)","v":8.09284752068767},{"$f":"STDEV(B316,E316,H316,K316,N316,Q316,T316,W316,Z316,AC316,AF316,AI316,AL316,AO316,AR316,AU316,AX316)","v":83.4829300921972},{"$f":"STDEV(C316,F316,I316,L316,O316,R316,U316,X316,AA316,AD316,AG316,AJ316,AM316,AP316,AS316,AV316,AY316)","v":2.42640262793866}]
[377.5,513.6209,8.31810250817884,377.5,680.6552,4.51308615049073,377.5,452.0726,9.16521264994547,377.5,530.89,8.18974918211559,377.5,416.1515,12.1147219193021,377.5,462.0613,10.3279171210469,377.5,530.0086,7.46281352235551,377.5,487.2674,9.25288985823337,377.5,630.1945,5.42726281352236,377.5,613.9358,6.07971646673937,377.5,598.2987,6.10141766630316,377.5,585.7371,6.87393675027263,377.5,509.0244,9.99967284623773,377.5,491.3214,10.5913849509269,377.5,715.1834,3.37470010905125,377.5,517.645,10.0392584514722,377.5,526.5762,8.74078516902944,null,{"$f":"AW317","v":377.5},{"$f":"AVERAGE(B317,E317,H317,K317,N317,Q317,T317,W317,Z317,AC317,AF317,AI317,AL317,AO317,AR317,AU317,AX317)","v":544.743764705882},{"$f":"AVERAGE(C317,F317,I317,L317,O317,R317,U317,X317,AA317,AD317,AG317,AJ317,AM317,AP317,AS317,AV317,AY317)","v":8.03368400795433},{"$f":"STDEV(B317,E317,H317,K317,N317,Q317,T317,W317,Z317,AC317,AF317,AI317,AL317,AO317,AR317,AU317,AX317)","v":81.3922930744363},{"$f":"STDEV(C317,F317,I317,L317,O317,R317,U317,X317,AA317,AD317,AG317,AJ317,AM317,AP317,AS317,AV317,AY317)","v":2.36955209638309}]
[378.75,511.0899,8.08167938931298,null,null,null,378.75,452.0396,9.05485278080698,378.75,524.862,8.57208287895311,378.75,414.3658,11.3552889858233,378.75,460.5459,10.158560523446,378.75,525.8347,7.42791712104689,378.75,495.1144,9.36761177753544,378.75,646.3452,5.03740458015267,378.75,606.6474,6.1082878953108,378.75,624.7978,5.82998909487459,378.75,591.8957,7.17164667393675,378.75,508.9161,10.0021810250818,378.75,490.0539,10.5107960741549,378.75,603.9489,4.25332606324973,378.75,513.0681,9.959760087241,378.75,528.812,8.79389312977099,null,{"$f":"AW318","v":378.75},{"$f":"AVERAGE(B318,E318,H318,K318,N318,Q318,T318,W318,Z318,AC318,AF318,AI318,AL318,AO318,AR318,AU318,AX318)","v":531.1460875},{"$f":"AVERAGE(C318,F318,I318,L318,O318,R318,U318,X318,AA318,AD318,AG318,AJ318,AM318,AP318,AS318,AV318,AY318)","v":8.23032988004362},{"$f":"STDEV(B318,E318,H318,K318,N318,Q318,T318,W318,Z318,AC318,AF318,AI318,AL318,AO318,AR318,AU318,AX318)","v":66.2801055357828},{"$f":"STDEV(C318,F318,I318,L318,O318,R318,U318,X318,AA318,AD318,AG318,AJ318,AM318,AP318,AS318,AV318,AY318)","v":2.08622152423319}]
[380,520.6861,8.07033805888768,null,null,null,380,310.2138,6.773173391494,380,520.9068,8.64416575790622,380,419.721,10.6167938931298,380,463.6928,10.4067611777535,380,531.146,7.52748091603054,380,493.1628,9.31363140676118,380,642.8657,4.98713195201745,380,613.0198,5.86357688113413,380,627.3669,5.67677208287895,380,593.0133,7.13456924754635,380,513.5717,10.1782988004362,380,493.1901,10.6143947655398,380,623.7071,4.14372955288986,380,511.1734,9.95583424209378,380,536.02,8.9391494002181,null,{"$f":"AW319","v":380},{"$f":"AVERAGE(B319,E319,H319,K319,N319,Q319,T319,W319,Z319,AC319,AF319,AI319,AL319,AO319,AR319,AU319,AX319)","v":525.84108125},{"$f":"AVERAGE(C319,F319,I319,L319,O319,R319,U319,X319,AA319,AD319,AG319,AJ319,AM319,AP319,AS319,AV319,AY319)","v":8.05286259541985},{"$f":"STDEV(B319,E319,H319,K319,N319,Q319,T319,W319,Z319,AC319,AF319,AI319,AL319,AO319,AR319,AU319,AX319)","v":85.6323772638069},{"$f":"STDEV(C319,F319,I319,L319,O319,R319,U319,X319,AA319,AD319,AG319,AJ319,AM319,AP319,AS319,AV319,AY319)","v":2.11999203121738}]
[381.25,519.524,8.15190839694657,null,null,null,381.25,392.3163,6.29770992366412,381.25,517.2313,8.49814612868048,381.25,430.4482,11.1286804798255,381.25,425.8211,8.75408942202835,381.25,521.0717,7.66357688113413,381.25,485.2162,9.11352235550709,381.25,599.1694,5.47099236641221,381.25,613.9825,5.82213740458015,381.25,637.6953,5.51308615049073,381.25,512.2395,6.68854961832061,381.25,509.3176,10.0227917121047,381.25,498.0388,10.7644492911668,381.25,443.1112,5.23576881134133,381.25,507.8771,9.77350054525627,381.25,541.3644,9.02333696837514,null,{"$f":"AW320","v":381.25},{"$f":"AVERAGE(B320,E320,H320,K320,N320,Q320,T320,W320,Z320,AC320,AF320,AI320,AL320,AO320,AR320,AU320,AX320)","v":509.6515375},{"$f":"AVERAGE(C320,F320,I320,L320,O320,R320,U320,X320,AA320,AD320,AG320,AJ320,AM320,AP320,AS320,AV320,AY320)","v":7.99514040348964},{"$f":"STDEV(B320,E320,H320,K320,N320,Q320,T320,W320,Z320,AC320,AF320,AI320,AL320,AO320,AR320,AU320,AX320)","v":67.7359732651701},{"$f":"STDEV(C320,F320,I320,L320,O320,R320,U320,X320,AA320,AD320,AG320,AJ320,AM320,AP320,AS320,AV320,AY320)","v":1.95772001776003}]
[382.5,518.4134,8.21603053435114,null,null,null,382.5,515.4505,5.77971646673937,382.5,497.6576,8.56434023991276,382.5,426.631,11.303707742639,382.5,444.767,7.98113413304253,382.5,517.912,7.43871319520174,382.5,487.596,8.74830970556161,382.5,599.369,5.91821155943293,382.5,615.1915,5.72617230098146,382.5,619.6359,5.70065430752454,382.5,475.506,7.04013086150491,382.5,505.3738,9.87949836423119,382.5,496.8994,10.7563794983642,382.5,581.3988,4.86215921483097,382.5,510.9257,9.75212649945474,382.5,542.1955,9.01570338058888,null,{"$f":"AW321","v":382.5},{"$f":"AVERAGE(B321,E321,H321,K321,N321,Q321,T321,W321,Z321,AC321,AF321,AI321,AL321,AO321,AR321,AU321,AX321)","v":522.18269375},{"$f":"AVERAGE(C321,F321,I321,L321,O321,R321,U321,X321,AA321,AD321,AG321,AJ321,AM321,AP321,AS321,AV321,AY321)","v":7.91768675027263},{"$f":"STDEV(B321,E321,H321,K321,N321,Q321,T321,W321,Z321,AC321,AF321,AI321,AL321,AO321,AR321,AU321,AX321)","v":56.7089485781033},{"$f":"STDEV(C321,F321,I321,L321,O321,R321,U321,X321,AA321,AD321,AG321,AJ321,AM321,AP321,AS321,AV321,AY321)","v":1.9624222098318}]
[383.75,515.3499,8.27764449291167,null,null,null,383.75,568.9894,5.40534351145038,383.75,496.2422,9.2608505997819,383.75,406.0611,10.4788440567067,383.75,459.112,7.65714285714286,383.75,526.888,7.42671755725191,383.75,513.4147,8.77306434023991,383.75,611.8781,6.12082878953108,383.75,642.5879,5.47448200654308,383.75,613.8782,5.89247546346783,383.75,560.5265,7.75038167938931,383.75,509.5258,10.0046892039258,383.75,493.2453,10.695092693566,383.75,541.8524,5.26979280261723,383.75,512.4422,9.7669574700109,383.75,534.2687,8.84285714285714,null,{"$f":"AW322","v":383.75},{"$f":"AVERAGE(B322,E322,H322,K322,N322,Q322,T322,W322,Z322,AC322,AF322,AI322,AL322,AO322,AR322,AU322,AX322)","v":531.6414},{"$f":"AVERAGE(C322,F322,I322,L322,O322,R322,U322,X322,AA322,AD322,AG322,AJ322,AM322,AP322,AS322,AV322,AY322)","v":7.94357279171211},{"$f":"STDEV(B322,E322,H322,K322,N322,Q322,T322,W322,Z322,AC322,AF322,AI322,AL322,AO322,AR322,AU322,AX322)","v":59.4903652617688},{"$f":"STDEV(C322,F322,I322,L322,O322,R322,U322,X322,AA322,AD322,AG322,AJ322,AM322,AP322,AS322,AV322,AY322)","v":1.87116727943458}]
[385,505.0065,8.26052344601963,null,null,null,385,529.7965,5.77077426390404,385,493.8069,9.39978189749182,385,402.3281,10.7935659760087,385,333.8959,6.86194111232279,385,504.7897,7.6041439476554,385,505.6403,8.86717557251908,385,613.6786,6.28102508178844,385,644.8465,5.41199563794984,385,600.3375,6.13740458015267,385,509.8809,6.87328244274809,385,511.8641,10.0886586695747,385,491.5437,10.6882224645583,385,581.6618,5.24056706652126,385,510.9898,9.74852780806979,385,530.3294,8.80141766630316,null,{"$f":"AW323","v":385},{"$f":"AVERAGE(B323,E323,H323,K323,N323,Q323,T323,W323,Z323,AC323,AF323,AI323,AL323,AO323,AR323,AU323,AX323)","v":516.8997625},{"$f":"AVERAGE(C323,F323,I323,L323,O323,R323,U323,X323,AA323,AD323,AG323,AJ323,AM323,AP323,AS323,AV323,AY323)","v":7.92681297709924},{"$f":"STDEV(B323,E323,H323,K323,N323,Q323,T323,W323,Z323,AC323,AF323,AI323,AL323,AO323,AR323,AU323,AX323)","v":75.523456883813},{"$f":"STDEV(C323,F323,I323,L323,O323,R323,U323,X323,AA323,AD323,AG323,AJ323,AM323,AP323,AS323,AV323,AY323)","v":1.90111217603011}]
[386.25,507.7007,8.15485278080698,null,null,null,386.25,559.0452,6.38964013086151,386.25,496.7218,9.38331515812432,386.25,402.8987,11.5145038167939,386.25,204.7363,5.66782988004362,386.25,519.6393,7.87480916030534,386.25,483.1646,9.04100327153762,386.25,617.1128,6.33718647764449,386.25,640.8233,5.41221374045802,386.25,612.6721,6.22115594329335,386.25,585.1215,6.12159214830971,386.25,510.0805,10.024427480916,386.25,493.3837,10.7823336968375,386.25,431.1001,5.78276990185387,386.25,512.8552,9.8856052344602,386.25,531.4372,8.84242093784078,null,{"$f":"AW324","v":386.25},{"$f":"AVERAGE(B324,E324,H324,K324,N324,Q324,T324,W324,Z324,AC324,AF324,AI324,AL324,AO324,AR324,AU324,AX324)","v":506.7808125},{"$f":"AVERAGE(C324,F324,I324,L324,O324,R324,U324,X324,AA324,AD324,AG324,AJ324,AM324,AP324,AS324,AV324,AY324)","v":7.96472873500545},{"$f":"STDEV(B324,E324,H324,K324,N324,Q324,T324,W324,Z324,AC324,AF324,AI324,AL324,AO324,AR324,AU324,AX324)","v":103.160904606819},{"$f":"STDEV(C324,F324,I324,L324,O324,R324,U324,X324,AA324,AD324,AG324,AJ324,AM324,AP324,AS324,AV324,AY324)","v":2.00958162926609}]
[387.5,524.7573,8.10239912758997,null,null,null,387.5,562.8619,6.74067611777535,387.5,493.5274,9.38691384950927,387.5,397.7302,11.8164667393675,387.5,325.7142,9.96815703380589,387.5,526.3302,7.79029443838604,387.5,475.9611,9.23598691384951,387.5,615.4601,6.4164667393675,387.5,630.4267,5.49334787350055,387.5,609.5742,6.31046892039258,387.5,617.0249,5.66063249727372,387.5,508.8829,9.98200654307524,387.5,492.7462,10.6376226826609,387.5,430.7121,6.08745910577972,387.5,517.2752,10.1224645583424,387.5,530.4018,8.78909487459106,null,{"$f":"AW325","v":387.5},{"$f":"AVERAGE(B325,E325,H325,K325,N325,Q325,T325,W325,Z325,AC325,AF325,AI325,AL325,AO325,AR325,AU325,AX325)","v":516.21165},{"$f":"AVERAGE(C325,F325,I325,L325,O325,R325,U325,X325,AA325,AD325,AG325,AJ325,AM325,AP325,AS325,AV325,AY325)","v":8.2837786259542},{"$f":"STDEV(B325,E325,H325,K325,N325,Q325,T325,W325,Z325,AC325,AF325,AI325,AL325,AO325,AR325,AU325,AX325)","v":83.5486626643898},{"$f":"STDEV(C325,F325,I325,L325,O325,R325,U325,X325,AA325,AD325,AG325,AJ325,AM325,AP325,AS325,AV325,AY325)","v":1.98378272444524}]
[388.75,531.2148,8.05757906215922,null,null,null,388.75,570.1622,6.75801526717557,388.75,478.685,9.36074154852781,388.75,400.1902,12.2569247546347,388.75,343.3195,9.54165757906216,388.75,515.7761,8.00959651035987,388.75,452.3075,9.32617230098146,388.75,612.7195,6.4360959651036,388.75,627.5732,5.51581243184297,388.75,599.1654,6.44929116684842,388.75,644.465,5.16488549618321,388.75,511.2162,10.0586695747001,388.75,493.1714,10.4885496183206,388.75,246.1171,6.23925845147219,388.75,null,null,388.75,536.8907,8.86368593238822,null,{"$f":"AW326","v":388.75},{"$f":"AVERAGE(B326,E326,H326,K326,N326,Q326,T326,W326,Z326,AC326,AF326,AI326,AL326,AO326,AR326,AU326,AX326)","v":504.198253333333},{"$f":"AVERAGE(C326,F326,I326,L326,O326,R326,U326,X326,AA326,AD326,AG326,AJ326,AM326,AP326,AS326,AV326,AY326)","v":8.16846237731734},{"$f":"STDEV(B326,E326,H326,K326,N326,Q326,T326,W326,Z326,AC326,AF326,AI326,AL326,AO326,AR326,AU326,AX326)","v":109.803618809354},{"$f":"STDEV(C326,F326,I326,L326,O326,R326,U326,X326,AA326,AD326,AG326,AJ326,AM326,AP326,AS326,AV326,AY326)","v":2.04529820688407}]
[390,530.2189,8.13871319520174,null,null,null,390,579.1838,6.47993456924755,390,447.122,9.36870229007634,390,398.9499,12.1960741548528,390,353.9945,9.67230098146129,390,516.7555,8.00959651035987,390,445.146,10.0517993456925,390,608.1394,6.22235550708833,390,644.8302,5.34798255179935,390,589.9852,6.60959651035987,390,668.1087,4.86477644492912,390,513.185,10.1237731733915,390,494.708,10.4890948745911,390,469.4724,7.3298800436205,390,null,null,390,538.14,8.85496183206107,null,{"$f":"AW327","v":390},{"$f":"AVERAGE(B327,E327,H327,K327,N327,Q327,T327,W327,Z327,AC327,AF327,AI327,AL327,AO327,AR327,AU327,AX327)","v":519.862633333333},{"$f":"AVERAGE(C327,F327,I327,L327,O327,R327,U327,X327,AA327,AD327,AG327,AJ327,AM327,AP327,AS327,AV327,AY327)","v":8.25063613231553},{"$f":"STDEV(B327,E327,H327,K327,N327,Q327,T327,W327,Z327,AC327,AF327,AI327,AL327,AO327,AR327,AU327,AX327)","v":88.8402033050808},{"$f":"STDEV(C327,F327,I327,L327,O327,R327,U327,X327,AA327,AD327,AG327,AJ327,AM327,AP327,AS327,AV327,AY327)","v":2.09960203821722}]
[391.25,522.079,8.14394765539804,null,null,null,391.25,601.9372,6.24100327153762,null,null,null,391.25,401.6025,12.2276990185387,391.25,351.0049,9.32955288985823,391.25,509.7821,7.61003271537623,391.25,441.6779,10.3203925845147,391.25,616.9202,5.91995637949836,391.25,651.4472,5.31515812431843,391.25,591.7447,6.74569247546347,391.25,664.5559,4.69214830970556,391.25,513.1906,10.1107960741549,391.25,492.2518,10.4737186477644,391.25,542.8836,8.0917121046892,391.25,null,null,391.25,539.7084,8.79727371864776,null,{"$f":"AW328","v":391.25},{"$f":"AVERAGE(B328,E328,H328,K328,N328,Q328,T328,W328,Z328,AC328,AF328,AI328,AL328,AO328,AR328,AU328,AX328)","v":531.484714285714},{"$f":"AVERAGE(C328,F328,I328,L328,O328,R328,U328,X328,AA328,AD328,AG328,AJ328,AM328,AP328,AS328,AV328,AY328)","v":8.14422028353326},{"$f":"STDEV(B328,E328,H328,K328,N328,Q328,T328,W328,Z328,AC328,AF328,AI328,AL328,AO328,AR328,AU328,AX328)","v":91.202027154713},{"$f":"STDEV(C328,F328,I328,L328,O328,R328,U328,X328,AA328,AD328,AG328,AJ328,AM328,AP328,AS328,AV328,AY328)","v":2.20610990211219}]
[392.5,521.4784,8.05866957470011,null,null,null,392.5,579.1697,6.26150490730643,null,null,null,392.5,400.6882,11.675572519084,392.5,374.8444,9.69302071973828,392.5,515.812,7.27622682660851,392.5,423.1022,9.78920392584515,392.5,606.7606,5.64623773173391,392.5,640.7162,5.35845147219193,392.5,595.177,6.7495092693566,392.5,687.1537,4.38778625954198,392.5,511.6386,10.0544165757906,392.5,488.5267,10.4213740458015,392.5,498.5659,7.43805888767721,392.5,null,null,392.5,null,null,null,{"$f":"AW329","v":392.5},{"$f":"AVERAGE(B329,E329,H329,K329,N329,Q329,T329,W329,Z329,AC329,AF329,AI329,AL329,AO329,AR329,AU329,AX329)","v":526.433353846154},{"$f":"AVERAGE(C329,F329,I329,L329,O329,R329,U329,X329,AA329,AD329,AG329,AJ329,AM329,AP329,AS329,AV329,AY329)","v":7.90846405502894},{"$f":"STDEV(B329,E329,H329,K329,N329,Q329,T329,W329,Z329,AC329,AF329,AI329,AL329,AO329,AR329,AU329,AX329)","v":93.4919858486153},{"$f":"STDEV(C329,F329,I329,L329,O329,R329,U329,X329,AA329,AD329,AG329,AJ329,AM329,AP329,AS329,AV329,AY329)","v":2.24624467141757}]
[393.75,524.1865,7.69836423118866,null,null,null,393.75,571.9275,6.4309705561614,null,null,null,393.75,409.2603,11.1494002181025,393.75,361.758,9.55299890948746,393.75,548.5803,7.37044711014177,393.75,421.0754,9.78167938931298,393.75,605.2173,5.54492911668484,393.75,644.8908,5.25517993456925,393.75,598.4251,6.69116684841876,393.75,692.8608,4.31613958560523,393.75,511.9329,10.0651035986914,393.75,489.7509,10.5477644492912,393.75,454.1889,6.8381679389313,393.75,null,null,393.75,null,null,null,{"$f":"AW330","v":393.75},{"$f":"AVERAGE(B330,E330,H330,K330,N330,Q330,T330,W330,Z330,AC330,AF330,AI330,AL330,AO330,AR330,AU330,AX330)","v":525.696515384615},{"$f":"AVERAGE(C330,F330,I330,L330,O330,R330,U330,X330,AA330,AD330,AG330,AJ330,AM330,AP330,AS330,AV330,AY330)","v":7.78787014512205},{"$f":"STDEV(B330,E330,H330,K330,N330,Q330,T330,W330,Z330,AC330,AF330,AI330,AL330,AO330,AR330,AU330,AX330)","v":97.6392594029151},{"$f":"STDEV(C330,F330,I330,L330,O330,R330,U330,X330,AA330,AD330,AG330,AJ330,AM330,AP330,AS330,AV330,AY330)","v":2.2139705563589}]
[395,543.9148,7.53936750272628,null,null,null,395,576.8913,6.51101417666303,null,null,null,395,349.3111,7.6330425299891,395,348.4319,9.42104689203926,395,545.987,7.42006543075245,395,434.6943,9.86237731733915,395,578.9675,5.24612868047983,395,657.3185,5.1495092693566,395,602.7032,6.57677208287895,395,672.8573,4.53020719738277,395,512.6044,10.0894220283533,395,491.2059,10.5440567066521,395,552.4263,7.21264994547437,395,null,null,395,null,null,null,{"$f":"AW331","v":395},{"$f":"AVERAGE(B331,E331,H331,K331,N331,Q331,T331,W331,Z331,AC331,AF331,AI331,AL331,AO331,AR331,AU331,AX331)","v":528.254884615385},{"$f":"AVERAGE(C331,F331,I331,L331,O331,R331,U331,X331,AA331,AD331,AG331,AJ331,AM331,AP331,AS331,AV331,AY331)","v":7.51812767385287},{"$f":"STDEV(B331,E331,H331,K331,N331,Q331,T331,W331,Z331,AC331,AF331,AI331,AL331,AO331,AR331,AU331,AX331)","v":101.619940314699},{"$f":"STDEV(C331,F331,I331,L331,O331,R331,U331,X331,AA331,AD331,AG331,AJ331,AM331,AP331,AS331,AV331,AY331)","v":1.97064768968006}]
[396.25,549.5516,7.35801526717557,null,null,null,396.25,584.2466,6.43489640130862,null,null,null,396.25,353.3592,6.34787350054526,396.25,366.9358,10.1949836423119,396.25,545.7295,7.48800436205016,396.25,447.8449,9.86532170119956,396.25,667.0583,4.42966194111232,396.25,642.3462,5.17251908396947,396.25,604.972,6.46717557251908,396.25,662.4269,4.74296619411123,396.25,513.993,10.1270447110142,396.25,491.0329,10.4303162486369,396.25,579.1153,7.41842966194111,null,null,null,396.25,null,null,null,{"$f":"AW332","v":396.25},{"$f":"AVERAGE(B332,E332,H332,K332,N332,Q332,T332,W332,Z332,AC332,AF332,AI332,AL332,AO332,AR332,AU332,AX332)","v":539.124015384615},{"$f":"AVERAGE(C332,F332,I332,L332,O332,R332,U332,X332,AA332,AD332,AG332,AJ332,AM332,AP332,AS332,AV332,AY332)","v":7.42132371445349},{"$f":"STDEV(B332,E332,H332,K332,N332,Q332,T332,W332,Z332,AC332,AF332,AI332,AL332,AO332,AR332,AU332,AX332)","v":102.381160708199},{"$f":"STDEV(C332,F332,I332,L332,O332,R332,U332,X332,AA332,AD332,AG332,AJ332,AM332,AP332,AS332,AV332,AY332)","v":2.12654325729914}]
[397.5,567.9683,7.2319520174482,null,null,null,397.5,586.6762,6.32388222464558,null,null,null,397.5,476.8911,5.44656488549618,397.5,365.4598,10.7777535441658,null,null,null,397.5,441.5435,9.5113413304253,397.5,660.751,4.49705561613959,397.5,652.7229,5.04820065430752,397.5,599.4203,6.39105779716467,397.5,651.9137,4.96357688113413,397.5,514.4598,10.1376226826609,397.5,489.8497,10.2362050163577,397.5,null,null,null,null,null,397.5,null,null,null,{"$f":"AW333","v":397.5},{"$f":"AVERAGE(B333,E333,H333,K333,N333,Q333,T333,W333,Z333,AC333,AF333,AI333,AL333,AO333,AR333,AU333,AX333)","v":546.150572727273},{"$f":"AVERAGE(C333,F333,I333,L333,O333,R333,U333,X333,AA333,AD333,AG333,AJ333,AM333,AP333,AS333,AV333,AY333)","v":7.32411024090414},{"$f":"STDEV(B333,E333,H333,K333,N333,Q333,T333,W333,Z333,AC333,AF333,AI333,AL333,AO333,AR333,AU333,AX333)","v":96.5378290705472},{"$f":"STDEV(C333,F333,I333,L333,O333,R333,U333,X333,AA333,AD333,AG333,AJ333,AM333,AP333,AS333,AV333,AY333)","v":2.39283540666025}]
[398.75,567.7744,7.01221374045802,null,null,null,398.75,575.556,6.37797164667394,null,null,null,398.75,633.1962,4.08386041439477,398.75,366.1833,11.1453653217012,null,null,null,398.75,444.5688,8.80501635768811,398.75,659.0605,4.62519083969466,398.75,661.0503,5.03042529989095,398.75,610.9766,6.18429661941112,398.75,655.2613,5.10752453653217,398.75,510.5892,9.99160305343511,398.75,495.1103,10.3258451472192,398.75,null,null,null,null,null,null,null,null,null,{"$f":"AK334","v":398.75},{"$f":"AVERAGE(B334,E334,H334,K334,N334,Q334,T334,W334,Z334,AC334,AF334,AI334,AL334,AO334,AR334,AU334,AX334)","v":561.756990909091},{"$f":"AVERAGE(C334,F334,I334,L334,O334,R334,U334,X334,AA334,AD334,AG334,AJ334,AM334,AP334,AS334,AV334,AY334)","v":7.15357390700902},{"$f":"STDEV(B334,E334,H334,K334,N334,Q334,T334,W334,Z334,AC334,AF334,AI334,AL334,AO334,AR334,AU334,AX334)","v":97.3986689892881},{"$f":"STDEV(C334,F334,I334,L334,O334,R334,U334,X334,AA334,AD334,AG334,AJ334,AM334,AP334,AS334,AV334,AY334)","v":2.50699730839658}]
[400,562.8032,6.92529989094875,null,null,null,400,589.7359,6.51712104689204,null,null,null,400,739.3538,2.94798255179935,null,null,null,null,null,null,null,null,null,400,679.4102,4.50032715376227,400,649.8341,5.14580152671756,400,607.5345,5.99781897491821,400,653.6803,5.27568157033806,400,510.9347,10.029225736096,400,null,null,400,null,null,null,null,null,null,null,null,null,{"$f":"AK335","v":400},{"$f":"AVERAGE(B335,E335,H335,K335,N335,Q335,T335,W335,Z335,AC335,AF335,AI335,AL335,AO335,AR335,AU335,AX335)","v":624.1608375},{"$f":"AVERAGE(C335,F335,I335,L335,O335,R335,U335,X335,AA335,AD335,AG335,AJ335,AM335,AP335,AS335,AV335,AY335)","v":5.91740730643403},{"$f":"STDEV(B335,E335,H335,K335,N335,Q335,T335,W335,Z335,AC335,AF335,AI335,AL335,AO335,AR335,AU335,AX335)","v":71.6129029207514},{"$f":"STDEV(C335,F335,I335,L335,O335,R335,U335,X335,AA335,AD335,AG335,AJ335,AM335,AP335,AS335,AV335,AY335)","v":2.07439518894899}]
[401.25,563.6301,6.97033805888768,null,null,null,401.25,588.3342,6.45725190839695,null,null,null,401.25,758.3215,2.65016357688113,null,null,null,null,null,null,null,null,null,null,null,null,401.25,614.1449,5.42333696837514,401.25,620.3636,5.68102508178844,null,null,null,401.25,510.2169,10.0101417666303,401.25,null,null,401.25,null,null,null,null,null,null,null,null,null,{"$f":"AK336","v":401.25},{"$f":"AVERAGE(B336,E336,H336,K336,N336,Q336,T336,W336,Z336,AC336,AF336,AI336,AL336,AO336,AR336,AU336,AX336)","v":609.168533333333},{"$f":"AVERAGE(C336,F336,I336,L336,O336,R336,U336,X336,AA336,AD336,AG336,AJ336,AM336,AP336,AS336,AV336,AY336)","v":6.19870956015994},{"$f":"STDEV(B336,E336,H336,K336,N336,Q336,T336,W336,Z336,AC336,AF336,AI336,AL336,AO336,AR336,AU336,AX336)","v":83.3017950629797},{"$f":"STDEV(C336,F336,I336,L336,O336,R336,U336,X336,AA336,AD336,AG336,AJ336,AM336,AP336,AS336,AV336,AY336)","v":2.39376893709825}]
[null,null,null,null,null,null,402.5,591.4218,6.34820065430752,null,null,null,null,null,null,null,null,null,null,null,null,null,null,null,null,null,null,402.5,599.8428,5.77949836423119,null,null,null,null,null,null,402.5,507.4474,9.90141766630316,402.5,null,null,402.5,null,null,null,null,null,null,null,null,null,{"$f":"AK337","v":402.5},{"$f":"AVERAGE(B337,E337,H337,K337,N337,Q337,T337,W337,Z337,AC337,AF337,AI337,AL337,AO337,AR337,AU337,AX337)","v":566.237333333333},{"$f":"AVERAGE(C337,F337,I337,L337,O337,R337,U337,X337,AA337,AD337,AG337,AJ337,AM337,AP337,AS337,AV337,AY337)","v":7.34303889494729},{"$f":"STDEV(B337,E337,H337,K337,N337,Q337,T337,W337,Z337,AC337,AF337,AI337,AL337,AO337,AR337,AU337,AX337)","v":51.0873810862656},{"$f":"STDEV(C337,F337,I337,L337,O337,R337,U337,X337,AA337,AD337,AG337,AJ337,AM337,AP337,AS337,AV337,AY337)","v":2.23379319252651}]
[null,null,null,null,null,null,null,null,null,null,null,null,null,null,null,null,null,null,null,null,null,null,null,null,null,null,null,403.75,625.1945,5.72486368593239,null,null,null,null,null,null,403.75,509.1466,9.95376226826608,null,null,null,403.75,null,null,null,null,null,null,null,null,null,{"$f":"AK338","v":403.75},{"$f":"AVERAGE(B338,E338,H338,K338,N338,Q338,T338,W338,Z338,AC338,AF338,AI338,AL338,AO338,AR338,AU338,AX338)","v":567.17055},{"$f":"AVERAGE(C338,F338,I338,L338,O338,R338,U338,X338,AA338,AD338,AG338,AJ338,AM338,AP338,AS338,AV338,AY338)","v":7.83931297709924},{"$f":"STDEV(B338,E338,H338,K338,N338,Q338,T338,W338,Z338,AC338,AF338,AI338,AL338,AO338,AR338,AU338,AX338)","v":82.0582570324583},{"$f":"STDEV(C338,F338,I338,L338,O338,R338,U338,X338,AA338,AD338,AG338,AJ338,AM338,AP338,AS338,AV338,AY338)","v":2.99028286451833}]
[null,null,null,null,null,null,null,null,null,null,null,null,null,null,null,null,null,null,null,null,null,null,null,null,null,null,null,405,629.4924,5.55070883315158,null,null,null,null,null,null,405,511.4603,10.0352235550709,null,null,null,405,null,null,null,null,null,null,null,null,null,{"$f":"AK339","v":405},{"$f":"AVERAGE(B339,E339,H339,K339,N339,Q339,T339,W339,Z339,AC339,AF339,AI339,AL339,AO339,AR339,AU339,AX339)","v":570.47635},{"$f":"AVERAGE(C339,F339,I339,L339,O339,R339,U339,X339,AA339,AD339,AG339,AJ339,AM339,AP339,AS339,AV339,AY339)","v":7.79296619411123},{"$f":"STDEV(B339,E339,H339,K339,N339,Q339,T339,W339,Z339,AC339,AF339,AI339,AL339,AO339,AR339,AU339,AX339)","v":83.4612983076887},{"$f":"STDEV(C339,F339,I339,L339,O339,R339,U339,X339,AA339,AD339,AG339,AJ339,AM339,AP339,AS339,AV339,AY339)","v":3.17103077020004}]
[null,null,null,null,null,null,null,null,null,null,null,null,null,null,null,null,null,null,null,null,null,null,null,null,null,null,null,406.25,646.3596,5.35539803707743,null,null,null,null,null,null,406.25,512.008,10.0419847328244,null,null,null,null,null,null,null,null,null,null,null,null,null,{"$f":"AK340","v":406.25},{"$f":"AVERAGE(B340,E340,H340,K340,N340,Q340,T340,W340,Z340,AC340,AF340,AI340,AL340,AO340,AR340,AU340,AX340)","v":579.1838},{"$f":"AVERAGE(C340,F340,I340,L340,O340,R340,U340,X340,AA340,AD340,AG340,AJ340,AM340,AP340,AS340,AV340,AY340)","v":7.69869138495093},{"$f":"STDEV(B340,E340,H340,K340,N340,Q340,T340,W340,Z340,AC340,AF340,AI340,AL340,AO340,AR340,AU340,AX340)","v":95.0009274232625},{"$f":"STDEV(C340,F340,I340,L340,O340,R340,U340,X340,AA340,AD340,AG340,AJ340,AM340,AP340,AS340,AV340,AY340)","v":3.31391723318136}]
[null,null,null,null,null,null,null,null,null,null,null,null,null,null,null,null,null,null,null,null,null,null,null,null,null,null,null,null,null,null,null,null,null,null,null,null,407.5,508.5203,9.91973827699018,null,null,null,null,null,null,null,null,null,null,null,null,null,{"$f":"AK341","v":407.5},{"$f":"AVERAGE(B341,E341,H341,K341,N341,Q341,T341,W341,Z341,AC341,AF341,AI341,AL341,AO341,AR341,AU341,AX341)","v":508.5203},{"$f":"AVERAGE(C341,F341,I341,L341,O341,R341,U341,X341,AA341,AD341,AG341,AJ341,AM341,AP341,AS341,AV341,AY341)","v":9.91973827699018},{"$f":"STDEV(B341,E341,H341,K341,N341,Q341,T341,W341,Z341,AC341,AF341,AI341,AL341,AO341,AR341,AU341,AX341)","v":{"$error":"#DIV/0!"}},{"$f":"STDEV(C341,F341,I341,L341,O341,R341,U341,X341,AA341,AD341,AG341,AJ341,AM341,AP341,AS341,AV341,AY341)","v":{"$error":"#DIV/0!"}}]

{"sheet":"Albedo details","index":3,"n_rows":11,"n_cols":2,"rows_kept":11,"cut":false,"hidden":false,"merged":[[0,1,0,5],[1,1,1,2],[2,1,2,2],[3,1,3,2],[4,1,4,2],[5,1,5,2],[6,1,6,2],[7,1,7,2],[8,1,8,2],[9,1,9,2],[10,1,10,5]]}
[{"$f":"'Global data DD.MM.YY'!A1","v":"Snow Pits Dome Fuji 2018/2019"},"SSA data, exported from the ICE Cube software"]
[{"$f":"'Global data DD.MM.YY'!A2","v":"Potential use of the pit\nSP: Snow Physic\nR: Radar\nST: Satellite\nMB: Mass Balance"},{"$f":"'Global data DD.MM.YY'!B2","v":"SP"}]
[{"$f":"'Global data DD.MM.YY'!A3","v":"Closest Point on Japanese Traverse"},{"$f":"'Global data DD.MM.YY'!B3","v":"MD364"}]
[{"$f":"'Global data DD.MM.YY'!A4","v":"South position (decimal)"},{"$f":"'Global data DD.MM.YY'!B4","v":74.00731}]
[{"$f":"'Global data DD.MM.YY'!A5","v":"East position (decimal)"},{"$f":"'Global data DD.MM.YY'!B5","v":42.99695}]
[{"$f":"'Global data DD.MM.YY'!A6","v":"Altitude (m a.s.l.)"},{"$f":"'Global data DD.MM.YY'!B6","v":3300}]
[{"$f":"'Global data DD.MM.YY'!A7","v":"Date (DD.MM.YY)"},{"$f":"'Global data DD.MM.YY'!B7","v":"30.11.18"}]
[{"$f":"'Global data DD.MM.YY'!A8","v":"Time UTC start"},{"$f":"'Global data DD.MM.YY'!B8","v":"17:00:00"}]
[{"$f":"'Global data DD.MM.YY'!A9","v":"Time UTC end"},{"$f":"'Global data DD.MM.YY'!B9","v":"18:30:00"}]
[{"$f":"'Global data DD.MM.YY'!A10","v":"Observer(s)"},{"$f":"'Global data DD.MM.YY'!B10","v":"JCG"}]
[{"$f":"'Global data DD.MM.YY'!A11","v":"General comments (weather, clouds, other remarks)"},"no cloud, blue sky, but albedo was just a test and was measured close to a truck, so shadow effects are just too strong"]

{"sheet":"Snow surface variability details","index":4,"n_rows":11,"n_cols":2,"rows_kept":11,"cut":false,"hidden":false,"merged":[[0,1,0,5],[1,1,1,2],[2,1,2,2],[3,1,3,2],[4,1,4,2],[5,1,5,2],[6,1,6,2],[7,1,7,2],[8,1,8,2],[9,1,9,2],[10,1,10,5]]}
[{"$f":"'Global data DD.MM.YY'!A1","v":"Snow Pits Dome Fuji 2018/2019"},"SSA data, exported from the ICE Cube software"]
[{"$f":"'Global data DD.MM.YY'!A2","v":"Potential use of the pit\nSP: Snow Physic\nR: Radar\nST: Satellite\nMB: Mass Balance"},{"$f":"'Global data DD.MM.YY'!B2","v":"SP"}]
[{"$f":"'Global data DD.MM.YY'!A3","v":"Closest Point on Japanese Traverse"},{"$f":"'Global data DD.MM.YY'!B3","v":"MD364"}]
[{"$f":"'Global data DD.MM.YY'!A4","v":"South position (decimal)"},{"$f":"'Global data DD.MM.YY'!B4","v":74.00731}]
[{"$f":"'Global data DD.MM.YY'!A5","v":"East position (decimal)"},{"$f":"'Global data DD.MM.YY'!B5","v":42.99695}]
[{"$f":"'Global data DD.MM.YY'!A6","v":"Altitude (m a.s.l.)"},{"$f":"'Global data DD.MM.YY'!B6","v":3300}]
[{"$f":"'Global data DD.MM.YY'!A7","v":"Date (DD.MM.YY)"},{"$f":"'Global data DD.MM.YY'!B7","v":"30.11.18"}]
[{"$f":"'Global data DD.MM.YY'!A8","v":"Time UTC start"},{"$f":"'Global data DD.MM.YY'!B8","v":"17:00:00"}]
[{"$f":"'Global data DD.MM.YY'!A9","v":"Time UTC end"},{"$f":"'Global data DD.MM.YY'!B9","v":"18:30:00"}]
[{"$f":"'Global data DD.MM.YY'!A10","v":"Observer(s)"},{"$f":"'Global data DD.MM.YY'!B10","v":"JCG"}]
[{"$f":"'Global data DD.MM.YY'!A11","v":"General comments (weather, clouds, other remarks)"}]