{"text_format":"1","workbook":"xlsx","n_sheets":5,"sheets":["Global data DD.MM.YY","SSA Data details","SMP Data details","Albedo details","Snow surface variability details"],"not_rendered":{"charts":0,"images":0,"macros":1,"external_links":0,"defined_names":35,"comments":0,"pivot_tables":0},"unopened":[],"bounds":{"document_bytes":16777216,"sheet_cells":100000,"rows_first":2000,"rows_last":500,"rows_between":2000,"halvings":0,"cell_chars":16384,"cell_head_chars":4096},"cells_cut":0,"cells_raw":0,"read":"whole","date_system":"1900"}

{"sheet":"Global data DD.MM.YY","index":0,"n_rows":35,"n_cols":21,"rows_kept":35,"cut":false,"hidden":false,"merged":[[0,1,0,5],[1,1,1,2],[2,1,2,2],[2,3,2,4],[2,7,2,9],[3,1,3,2],[3,3,3,4],[3,7,3,9],[4,1,4,2],[4,3,4,4],[4,7,4,9],[5,1,5,2],[5,3,5,4],[5,7,5,9],[6,1,6,2],[6,3,6,4],[6,7,6,9],[7,1,7,2],[7,3,7,4],[7,7,7,9],[8,1,8,2],[8,3,8,4],[9,1,9,2],[10,1,10,5],[16,1,16,6],[20,20,20,44],[21,20,21,44],[22,20,22,44],[23,20,23,44],[24,20,24,44],[25,20,25,44],[26,20,26,44],[27,20,27,44],[28,20,28,44],[29,20,29,44],[30,20,30,44],[31,20,31,44],[32,20,32,44],[33,20,33,44],[34,20,34,44],[35,17,35,42],[36,17,36,42],[37,17,37,42],[38,17,38,42],[39,17,39,42],[40,17,40,42],[41,17,41,42],[42,17,42,42],[43,17,43,42],[44,17,44,42],[45,17,45,42],[46,17,46,42],[47,17,47,42],[48,17,48,42],[49,17,49,42]]}
["Snow Pits Dome Fuji 2018/2019","Snow Stratigraphy, density and temp data"]
["Potential use of the pit\nSP: Snow Physic\nR: Radar\nST: Satellite\nMB: Mass Balance","SP"]
["Closest Point on Japanese Traverse","MD302",null,"Data recorded",null,"YES","NO","Where is it"]
["South position (decimal)",73.456443,null,"Snow Stratigraphy",null,"X",null,"on this sheet"]
["East position (decimal)",43.209434,null,"Snow SSA",null,"X",null,"here and sheet SSA for details"]
["Altitude (m a.s.l.)",null,null,"Snow Albedo",null,"X",null,"on albedo, just a test, useless"]
["Date (DD.MM.YY)","28.11.18",null,"SMP",null,"X",null,"on smp, test also, 5 profiles"]
["Time UTC start","18:00:00",null,"Surface snow SSA, density, temp\nVariability",null,"X",null,"on snow surface variability sheet"]
["Time UTC end","19:30:00"]
["Observer(s)","JCG"]
["General comments (weather, clouds, other remarks)","Clear blue sky, wind picking in the afternoon and 8-10 m sec, not much blowing snow as the surface is very hard. No cloud at all during the day. The pit was dug with PB and then refresh with shovel."]
[]
["Temperatures:"]
["Air temp 1m [-°C]",28.3]
["Air/snow temp [-°C] (informative)",35.1]
["Snow bottom pit temp [-°C]",37.6]
["General comments on snow pit (surface, sastrugi, others)","a lot of sastrugi in the area, about 20 to 50 cm high, very hard layer on top and at about 30 cm depth. A few layer of snow snow below hadr layers, but most of the snow is P or K. 5cm sastrugi on top, windpack type, density 420 and K hardness, no SSA"]
[null,null,null,"Cutter 100 cc weight",141,"Cutter 36 cc weight",111]
["Total Thickness [cm]",null,null,"Cutter 250 cc weight"]
["Snow Thickness:","[All distances measured from snow/atmosphere interface, 0 is at the top]"]
["Layer, from top to bottom","Top [cm]","Bottom [cm]","Height top from surface (air snow =0)","Height bottom from surface (air snow = 0)","Depth cm of density measurement","Original weight (cutter + snow)","Density snow kg.m-3","Depth cm of temperature","Temperature  [-°C]","Snow Type 1","% observation visual","Diameter min [mm]","Diameter max [mm]","Snow Type 2","% observation visual","Diameter min [mm]","Diameter max [mm]","SSA m2 kg-1","Hardness (hand test)","Comments"]
[1,70,67,{"$f":"0","v":0},{"$f":"(B22-C22)","v":3},null,null,410,70,31.2,"mixed",null,0.2,0.2,null,null,null,null,{"$f":"'SSA Data details'!E22","v":51.7},"K"]
[2,67,60,{"$f":"E22","v":3},{"$f":"$B$22-C23","v":10},null,null,340,67,31.6,"windpack",null,0.1,0.1,null,null,null,null,{"$f":"'SSA Data details'!E23","v":33.2},"P"]
[3,60,52,{"$f":"E23","v":10},{"$f":"$B$22-C24","v":18},null,null,400,60,34.8,"windpack",null,0.1,0.2,null,null,null,null,{"$f":"'SSA Data details'!E24","v":36.6},"K"]
[5,52,40,{"$f":"E24","v":18},{"$f":"$B$22-C25","v":30},null,null,410,52,34.9,"mixed",null,0.2,0.3,null,null,null,null,{"$f":"'SSA Data details'!E25","v":23.8},"K"]
[6,40,38,{"$f":"E25","v":30},{"$f":"$B$22-C26","v":32},null,null,{"$f":"100*(11/(100/36))","v":396},40,36.5,"facets",null,1,2,null,null,null,null,null,"1f"]
[7,38,31,{"$f":"E26","v":32},{"$f":"$B$22-C27","v":39},null,null,460,38,36.7,"mixed",null,1,1,null,null,null,null,null,"P"]
[8,31,25,{"$f":"E27","v":39},{"$f":"$B$22-C28","v":45},null,null,340,31,37,"factes/DH",null,1,2,null,null,null,null,null,"K"]
[9,25,20,{"$f":"E28","v":45},{"$f":"$B$22-C29","v":50},null,null,360,25,37.2,"facets",null,1,1,null,null,null,null,null,"P"]
[10,null,null,null,null,null,null,null,20,37.6]
[11]
[12]
[13]
[14]
[15]

{"sheet":"SSA Data details","index":1,"n_rows":25,"n_cols":7,"rows_kept":25,"cut":false,"hidden":false,"merged":[[0,1,0,5],[1,1,1,2],[2,1,2,2],[3,1,3,2],[4,1,4,2],[5,1,5,2],[6,1,6,2],[7,1,7,2],[8,1,8,2],[9,1,9,2],[10,1,10,5]]}
[{"$f":"'Global data DD.MM.YY'!A1","v":"Snow Pits Dome Fuji 2018/2019"},"SSA data, exported from the ICE Cube software"]
[{"$f":"'Global data DD.MM.YY'!A2","v":"Potential use of the pit\nSP: Snow Physic\nR: Radar\nST: Satellite\nMB: Mass Balance"},{"$f":"'Global data DD.MM.YY'!B2","v":"SP"}]
[{"$f":"'Global data DD.MM.YY'!A3","v":"Closest Point on Japanese Traverse"},{"$f":"'Global data DD.MM.YY'!B3","v":"MD302"}]
[{"$f":"'Global data DD.MM.YY'!A4","v":"South position (decimal)"},{"$f":"'Global data DD.MM.YY'!B4","v":73.456443}]
[{"$f":"'Global data DD.MM.YY'!A5","v":"East position (decimal)"},{"$f":"'Global data DD.MM.YY'!B5","v":43.209434}]
[{"$f":"'Global data DD.MM.YY'!A6","v":"Altitude (m a.s.l.)"},{"$f":"'Global data DD.MM.YY'!B6","v":0}]
[{"$f":"'Global data DD.MM.YY'!A7","v":"Date (DD.MM.YY)"},{"$f":"'Global data DD.MM.YY'!B7","v":"28.11.18"}]
[{"$f":"'Global data DD.MM.YY'!A8","v":"Time UTC start"},{"$f":"'Global data DD.MM.YY'!B8","v":"18:00:00"}]
[{"$f":"'Global data DD.MM.YY'!A9","v":"Time UTC end"},{"$f":"'Global data DD.MM.YY'!B9","v":"19:30:00"}]
[{"$f":"'Global data DD.MM.YY'!A10","v":"Observer(s)"},{"$f":"'Global data DD.MM.YY'!B10","v":"JCG"}]
[{"$f":"'Global data DD.MM.YY'!A11","v":"General comments (weather, clouds, other remarks)"},"Windy 8-10 m sec, clear sky, no clouds at all"]
[]
["Sample number","Series","Sample signal","Reflectance","Specific surface area (SSA), m2.kg-1","Comment","SMP data"]
[1,"Surface random over pit, top snow layer",518.7,50.31,49.2,null,{"$f":"AVERAGE('SMP Data details'!Q15:Q23)","v":6.96102023506604}]
[2,"Surface random over pit, top snow layer",475.5,47.02,41.1]
[3,"Surface random over pit, top snow layer",545.5,52.27,54.8]
[4,"Sur albedo spot 1, top 1 cm",300.5,31.74,17.9,"smp data fuji 01",{"$f":"AVERAGE('SMP Data details'!C15:C23)","v":4.90667636011148}]
[5,"Sur albedo spot 1, 1-2 cm",343.3,35.8,22.3,"smp data fuji 01",{"$f":"AVERAGE('SMP Data details'!C24:C31)","v":5.0898173391494}]
[6,"Sur albedo spot 1, 2-3 cm",332.3,34.78,21.1,"smp data fuji 01",{"$f":"AVERAGE('SMP Data details'!C32:C39)","v":6.42505452562705}]
[7,"Sur albedo spot 1, 3-4 cm",342,35.68,22.1,"smp data fuji 01",{"$f":"AVERAGE('SMP Data details'!C40:C47)","v":7.11220010905126}]
[8,"Sur albedo spot 1, 4-5 cm",346.1,36.06,22.6,"smp data fuji 01",{"$f":"AVERAGE('SMP Data details'!C48:C55)","v":7.10032715376227}]
[9,"Snow pit 70-67 cm",530.9,51.21,51.7,"smp data fuji 02, 04, 05, 06",{"$f":"AVERAGE('SMP Data details'!Q15:Q39)","v":6.97434242093784}]
[10,"Snow pit 67-60 cm",427,43.12,33.2,"smp data fuji 02, 04, 05, 06",{"$f":"AVERAGE('SMP Data details'!Q39:Q95)","v":7.47048537373969}]
[11,"Snow pit 60-52 cm",449,44.92,36.6,"smp data fuji 02, 04, 05, 06",{"$f":"AVERAGE('SMP Data details'!Q95:Q159)","v":9.58409277745156}]
[12,"Snow pit 52-40 cm",357,37.05,23.8,"smp data fuji 02, 04, 05, 06"]

{"sheet":"SMP Data details","index":2,"n_rows":174,"n_cols":17,"rows_kept":174,"cut":false,"hidden":false,"merged":[[0,1,0,5],[1,1,1,2],[2,1,2,2],[3,1,3,2],[4,1,4,2],[5,1,5,2],[6,1,6,2],[7,1,7,2],[8,1,8,2],[9,1,9,2],[10,1,10,5]]}
[{"$f":"'Global data DD.MM.YY'!A1","v":"Snow Pits Dome Fuji 2018/2019"},"SSA data, exported from the ICE Cube software"]
[{"$f":"'Global data DD.MM.YY'!A2","v":"Potential use of the pit\nSP: Snow Physic\nR: Radar\nST: Satellite\nMB: Mass Balance"},{"$f":"'Global data DD.MM.YY'!B2","v":"SP"}]
[{"$f":"'Global data DD.MM.YY'!A3","v":"Closest Point on Japanese Traverse"},{"$f":"'Global data DD.MM.YY'!B3","v":"MD302"}]
[{"$f":"'Global data DD.MM.YY'!A4","v":"South position (decimal)"},{"$f":"'Global data DD.MM.YY'!B4","v":73.456443}]
[{"$f":"'Global data DD.MM.YY'!A5","v":"East position (decimal)"},{"$f":"'Global data DD.MM.YY'!B5","v":43.209434}]
[{"$f":"'Global data DD.MM.YY'!A6","v":"Altitude (m a.s.l.)"},{"$f":"'Global data DD.MM.YY'!B6","v":0}]
[{"$f":"'Global data DD.MM.YY'!A7","v":"Date (DD.MM.YY)"},{"$f":"'Global data DD.MM.YY'!B7","v":"28.11.18"}]
[{"$f":"'Global data DD.MM.YY'!A8","v":"Time UTC start"},{"$f":"'Global data DD.MM.YY'!B8","v":"18:00:00"}]
[{"$f":"'Global data DD.MM.YY'!A9","v":"Time UTC end"},{"$f":"'Global data DD.MM.YY'!B9","v":"19:30:00"}]
[{"$f":"'Global data DD.MM.YY'!A10","v":"Observer(s)"},{"$f":"'Global data DD.MM.YY'!B10","v":"JCG"}]
[{"$f":"'Global data DD.MM.YY'!A11","v":"General comments (weather, clouds, other remarks)"}]
["Name and info ","Long","Lat","Name and info ","Long","Lat","Name and info ","Long","Lat","Name and info ","Long","Lat","Name and info ","Long","Lat","Average density Fuji 2-4-5-6","Average SSA Fuji 2-4-5-6"]
["Fuji 01, close to albedo spot 1","Non registered","Non registered","Fuji 02, close to SSA jc pit","Non registered","Non registered","Fuji 04, close to SSA jc pit","Non registered","Non registered","Fuji 05, close to SSA jc pit","Non registered","Non registered","Fuji 06, close to SSA jc pit","Non registered","Non registered"]
["distance [mm]","P2015_density [kg/m^3]","P2015_ssa [m^2/m^3]","distance [mm]","P2015_density [kg/m^3]","SSA m2 kg-1","distance [mm]","P2015_density [kg/m^3]","SSA m2 kg-1","distance [mm]","P2015_density [kg/m^3]","ssa m2 kg-1","distance [mm]","P2015_density [kg/m^3]","ssa m2 kg-1"]
[0,468.9997,6.76553980370774,0,415.9078,9.6618320610687,0,298.5713,3.82442748091603,0,443.7577,9.12410032715376,0,310.5057,7.72333696837514,{"$f":"AVERAGE(E15,H15,K15,N15)","v":367.185625},{"$f":"AVERAGE(F15,I15,L15,O15)","v":7.58342420937841}]
[1.25,394.7728,6.13293347873501,1.25,425.2999,7.82737186477644,1.25,195.1834,6.07044711014177,1.25,446.4067,7.65736095965104,1.25,374.2761,8.00490730643402,{"$f":"AVERAGE(E16,H16,K16,N16)","v":360.291525},{"$f":"AVERAGE(F16,I16,L16,O16)","v":7.39002181025082}]
[2.5,558.1365,5.06684841875682,2.5,507.055,7.22617230098146,2.5,471.8743,7.30861504907306,2.5,527.1803,7.09356597600872,2.5,486.7209,7.82519083969466,{"$f":"AVERAGE(E17,H17,K17,N17)","v":498.207625},{"$f":"AVERAGE(F17,I17,L17,O17)","v":7.36338604143948}]
[3.75,573.8091,4.82595419847328,3.75,579.4605,7.06357688113413,3.75,559.8208,7.1474372955289,3.75,581.2902,7.09116684841876,3.75,540.2552,7.37535441657579,{"$f":"AVERAGE(E18,H18,K18,N18)","v":565.206675},{"$f":"AVERAGE(F18,I18,L18,O18)","v":7.1693838604144}]
[5,581.9064,4.94601962922574,5,590.8664,6.75997818974918,5,587.0304,7.04492911668484,5,584.675,6.95845147219193,5,579.0013,7.08233369683751,{"$f":"AVERAGE(E19,H19,K19,N19)","v":585.393275},{"$f":"AVERAGE(F19,I19,L19,O19)","v":6.96142311886587}]
[6.25,646.6387,4.55496183206107,6.25,608.5495,6.486586695747,6.25,591.8167,6.71526717557252,6.25,595.8081,6.73620501635769,6.25,593.2223,6.87622682660851,{"$f":"AVERAGE(E20,H20,K20,N20)","v":597.34915},{"$f":"AVERAGE(F20,I20,L20,O20)","v":6.70357142857143}]
[7.5,675.7776,4.14601962922574,7.5,620.2349,6.36913849509269,7.5,605.3083,6.44700109051254,7.5,606.7933,6.63587786259542,7.5,596.8737,6.67175572519084,{"$f":"AVERAGE(E21,H21,K21,N21)","v":607.30255},{"$f":"AVERAGE(F21,I21,L21,O21)","v":6.53094329334787}]
[8.75,707.3158,3.77764449291167,8.75,625.8428,6.32846237731734,8.75,614.0725,6.34220283533261,8.75,611.835,6.54700109051254,8.75,599.8243,6.55496183206107,{"$f":"AVERAGE(E22,H22,K22,N22)","v":612.89365},{"$f":"AVERAGE(F22,I22,L22,O22)","v":6.44315703380589}]
[10,695.3819,3.94416575790622,10,625.9946,6.27928026172301,10,607.8092,6.44143947655398,10,595.5978,6.653653217012,10,608.1053,6.64111232279171,{"$f":"AVERAGE(E23,H23,K23,N23)","v":609.376725},{"$f":"AVERAGE(F23,I23,L23,O23)","v":6.50387131952017}]
[11.25,679.3879,4.19738276990185,11.25,625.6995,6.2370774263904,11.25,611.027,6.39476553980371,11.25,606.3309,6.84045801526718,11.25,602.5169,6.75354416575791,{"$f":"AVERAGE(E24,H24,K24,N24)","v":611.393575},{"$f":"AVERAGE(F24,I24,L24,O24)","v":6.5564612868048}]
[12.5,656.7226,4.51352235550709,12.5,619.0735,6.34078516902944,12.5,622.4195,6.34634678298801,12.5,602.3509,6.87851690294438,12.5,592.8231,6.75932388222464,{"$f":"AVERAGE(E25,H25,K25,N25)","v":609.16675},{"$f":"AVERAGE(F25,I25,L25,O25)","v":6.58124318429662}]
[13.75,656.4464,4.71952017448201,13.75,616.331,6.45790621592148,13.75,585.0538,6.53315158124318,13.75,581.7792,7.02595419847328,13.75,600.3784,6.64547437295529,{"$f":"AVERAGE(E26,H26,K26,N26)","v":595.8856},{"$f":"AVERAGE(F26,I26,L26,O26)","v":6.66562159214831}]
[15,622.5534,5.08800436205016,15,612.3293,6.46401308615049,15,590.071,6.9164667393675,15,587.2114,7.12300981461287,15,615.7132,6.58931297709924,{"$f":"AVERAGE(E27,H27,K27,N27)","v":601.331225},{"$f":"AVERAGE(F27,I27,L27,O27)","v":6.77320065430752}]
[16.25,614.748,5.46063249727372,16.25,613.1044,6.46564885496183,16.25,594.306,6.93784078516903,16.25,592.6044,6.90567066521265,16.25,616.4744,6.59149400218103,{"$f":"AVERAGE(E28,H28,K28,N28)","v":604.1223},{"$f":"AVERAGE(F28,I28,L28,O28)","v":6.72516357688113}]
[17.5,632.1728,5.47197382769902,17.5,598.6412,6.6175572519084,17.5,576.3145,6.80763358778626,17.5,599.2576,6.86630316248637,17.5,609.9072,6.65725190839695,{"$f":"AVERAGE(E29,H29,K29,N29)","v":596.030125},{"$f":"AVERAGE(F29,I29,L29,O29)","v":6.73718647764449}]
[18.75,628.0558,5.57262813522356,18.75,590.9585,6.86226826608506,18.75,562.2364,6.90861504907307,18.75,600.5004,6.96532170119956,18.75,610.2901,6.71810250817884,{"$f":"AVERAGE(E30,H30,K30,N30)","v":590.99635},{"$f":"AVERAGE(F30,I30,L30,O30)","v":6.86357688113413}]
[20,632.9389,5.6948745910578,20,598.3887,6.84732824427481,20,573.5098,7.18320610687023,20,602.2126,6.90174482006543,20,606.1038,6.66521264994547,{"$f":"AVERAGE(E31,H31,K31,N31)","v":595.053725},{"$f":"AVERAGE(F31,I31,L31,O31)","v":6.89937295528899}]
[21.25,628.8507,5.78222464558342,21.25,603.1553,6.85757906215922,21.25,579.3426,7.11406761177754,21.25,568.9312,6.8690294438386,21.25,607.4269,6.52998909487459,{"$f":"AVERAGE(E32,H32,K32,N32)","v":589.714},{"$f":"AVERAGE(F32,I32,L32,O32)","v":6.84266630316249}]
[22.5,624.5373,5.80348964013086,22.5,595.2228,6.90676117775354,22.5,577.7964,7.00370774263904,22.5,558.5008,7.39094874591058,22.5,618.1697,6.47382769901854,{"$f":"AVERAGE(E33,H33,K33,N33)","v":587.422425},{"$f":"AVERAGE(F33,I33,L33,O33)","v":6.94381134133043}]
[23.75,607.1445,5.92311886586696,23.75,572.3206,7.05986913849509,23.75,574.5414,7.17808069792803,23.75,563.4246,7.82082878953108,23.75,609.0584,6.49323882224646,{"$f":"AVERAGE(E34,H34,K34,N34)","v":579.83625},{"$f":"AVERAGE(F34,I34,L34,O34)","v":7.13800436205016}]
[25,580.8369,6.35856052344602,25,566.1169,7.50643402399128,25,588.3798,7.34678298800436,25,563.8689,8.02737186477645,25,599.0357,6.65103598691385,{"$f":"AVERAGE(E35,H35,K35,N35)","v":579.350325},{"$f":"AVERAGE(F35,I35,L35,O35)","v":7.38290621592148}]
[26.25,584.5837,6.64972737186478,26.25,574.0996,7.77862595419847,26.25,578.664,7.1639040348964,26.25,563.1553,8.06586695747001,26.25,609.1686,6.81581243184297,{"$f":"AVERAGE(E36,H36,K36,N36)","v":581.271875},{"$f":"AVERAGE(F36,I36,L36,O36)","v":7.45605234460196}]
[27.5,580.7754,6.8309705561614,27.5,575.9197,7.74209378407852,27.5,575.8464,7.21025081788441,27.5,565.7139,7.91057797164667,27.5,608.5201,6.77306434023991,{"$f":"AVERAGE(E37,H37,K37,N37)","v":581.500025},{"$f":"AVERAGE(F37,I37,L37,O37)","v":7.40899672846238}]
[28.75,583.4466,6.97928026172301,28.75,569.2548,7.64438386041439,28.75,586.7878,7.36052344601963,28.75,574.5477,7.7958560523446,28.75,603.3507,6.71821155943293,{"$f":"AVERAGE(E38,H38,K38,N38)","v":583.48525},{"$f":"AVERAGE(F38,I38,L38,O38)","v":7.37974372955289}]
[30,564.0303,7.07306434023991,30,560.7583,7.77033805888768,30,589.2484,7.25790621592148,30,577.0519,7.64623773173391,30,600.2949,6.74700109051254,{"$f":"AVERAGE(E39,H39,K39,N39)","v":581.838375},{"$f":"AVERAGE(F39,I39,L39,O39)","v":7.3553707742639}]
[31.25,560.6597,7.34896401308615,31.25,560.6041,7.80981461286805,31.25,590.682,7.27459105779716,31.25,581.7008,7.5701199563795,31.25,601.7257,6.86030534351145,{"$f":"AVERAGE(E40,H40,K40,N40)","v":583.67815},{"$f":"AVERAGE(F40,I40,L40,O40)","v":7.37870774263904}]
[32.5,568.4511,7.49967284623773,32.5,569.2345,7.66979280261723,32.5,567.9446,7.46248636859324,32.5,574.122,7.55801526717557,32.5,597.9179,6.96281352235551,{"$f":"AVERAGE(E41,H41,K41,N41)","v":577.30475},{"$f":"AVERAGE(F41,I41,L41,O41)","v":7.41327699018539}]
[33.75,566.286,7.37808069792803,33.75,555.751,7.69640130861505,33.75,571.6829,7.80272628135224,33.75,575.4351,7.67382769901854,33.75,591.6743,7.06728462377317,{"$f":"AVERAGE(E42,H42,K42,N42)","v":573.635825},{"$f":"AVERAGE(F42,I42,L42,O42)","v":7.56005997818975}]
[35,564.9739,7.01417666303163,35,565.6822,8.10599781897492,35,560.6553,7.91308615049073,35,574.1961,7.56215921483097,35,585.2105,7.22290076335878,{"$f":"AVERAGE(E43,H43,K43,N43)","v":571.436025},{"$f":"AVERAGE(F43,I43,L43,O43)","v":7.70103598691385}]
[36.25,582.3929,6.76892039258451,36.25,561.8261,8.03838604143948,36.25,562.1518,8.07982551799346,36.25,578.0305,7.35921483097056,36.25,573.08,7.34983642311887,{"$f":"AVERAGE(E44,H44,K44,N44)","v":568.7721},{"$f":"AVERAGE(F44,I44,L44,O44)","v":7.70681570338059}]
[37.5,581.7913,6.83435114503817,37.5,561.4026,7.81515812431843,37.5,562.396,8.11166848418757,37.5,586.0037,7.28854961832061,37.5,558.961,6.97928026172301,{"$f":"AVERAGE(E45,H45,K45,N45)","v":567.190825},{"$f":"AVERAGE(F45,I45,L45,O45)","v":7.54866412213741}]
[38.75,582.0468,7.00905125408942,38.75,572.7936,7.70970556161396,38.75,558.9188,7.94242093784079,38.75,583.324,7.10763358778626,38.75,597.9044,6.72431842966194,{"$f":"AVERAGE(E46,H46,K46,N46)","v":578.2352},{"$f":"AVERAGE(F46,I46,L46,O46)","v":7.37101962922574}]
[40,582.6079,7.04438386041439,40,573.7418,7.68582333696838,40,560.6695,7.65517993456925,40,578.7205,7.07677208287895,40,602.7383,6.74896401308615,{"$f":"AVERAGE(E47,H47,K47,N47)","v":578.967525},{"$f":"AVERAGE(F47,I47,L47,O47)","v":7.29168484187568}]
[41.25,566.454,7.1113413304253,41.25,566.6076,7.50436205016358,41.25,564.5672,7.74929116684842,41.25,577.3756,7.22093784078517,41.25,599.3117,6.84351145038168,{"$f":"AVERAGE(E48,H48,K48,N48)","v":576.965525},{"$f":"AVERAGE(F48,I48,L48,O48)","v":7.32952562704471}]
[42.5,564.014,7.15169029443839,42.5,578.3444,7.52235550708833,42.5,568.5993,7.90839694656489,42.5,581.6427,7.25888767720829,42.5,600.2233,6.93293347873501,{"$f":"AVERAGE(E49,H49,K49,N49)","v":582.202425},{"$f":"AVERAGE(F49,I49,L49,O49)","v":7.40564340239913}]
[43.75,578.471,7.0062159214831,43.75,584.5393,7.5587786259542,43.75,573.9012,7.76848418756816,43.75,580.3368,7.41766630316249,43.75,598.7949,6.88287895310796,{"$f":"AVERAGE(E50,H50,K50,N50)","v":584.39305},{"$f":"AVERAGE(F50,I50,L50,O50)","v":7.4069520174482}]
[45,579.1686,6.90196292257361,45,583.364,7.44067611777535,45,571.4072,7.65943293347873,45,577.9276,7.60599781897492,45,603.0345,6.87818974918212,{"$f":"AVERAGE(E51,H51,K51,N51)","v":583.933325},{"$f":"AVERAGE(F51,I51,L51,O51)","v":7.39607415485278}]
[46.25,568.741,7.03064340239913,46.25,568.451,7.1175572519084,46.25,571.5094,7.47153762268266,46.25,577.719,7.72126499454744,46.25,602.1156,6.82628135223555,{"$f":"AVERAGE(E52,H52,K52,N52)","v":579.94875},{"$f":"AVERAGE(F52,I52,L52,O52)","v":7.28416030534351}]
[47.5,581.5091,7.15986913849509,47.5,584.9692,6.70763358778626,47.5,581.5489,7.29182115594329,47.5,578.1508,7.7474372955289,47.5,602.5976,6.81930207197383,{"$f":"AVERAGE(E53,H53,K53,N53)","v":586.816625},{"$f":"AVERAGE(F53,I53,L53,O53)","v":7.14154852780807}]
[48.75,584.6293,7.15212649945474,48.75,606.9111,6.61919302071974,48.75,568.5242,7.06924754634678,48.75,579.2721,7.79203925845147,48.75,595.8798,6.84067611777535,{"$f":"AVERAGE(E54,H54,K54,N54)","v":587.6468},{"$f":"AVERAGE(F54,I54,L54,O54)","v":7.08028898582334}]
[50,574.7563,7.28876772082879,50,598.4698,6.71701199563795,50,572.0583,7.14961832061069,50,576.0428,7.75321701199564,50,596.0096,6.853653217012,{"$f":"AVERAGE(E55,H55,K55,N55)","v":585.645125},{"$f":"AVERAGE(F55,I55,L55,O55)","v":7.11837513631407}]
[51.25,575.1245,7.46128680479826,51.25,599.3846,6.88680479825518,51.25,582.8642,7.19094874591058,51.25,572.2901,7.50338058887677,51.25,601.3233,6.82290076335878,{"$f":"AVERAGE(E56,H56,K56,N56)","v":588.96555},{"$f":"AVERAGE(F56,I56,L56,O56)","v":7.10100872410033}]
[52.5,573.85,7.45005452562704,52.5,593.6214,7.046346782988,52.5,590.833,7.03140676117775,52.5,585.4476,7.24176663031625,52.5,604.8952,6.66532170119956,{"$f":"AVERAGE(E57,H57,K57,N57)","v":593.6993},{"$f":"AVERAGE(F57,I57,L57,O57)","v":6.99621046892039}]
[53.75,567.7082,7.52453653217012,53.75,587.3256,7.22071973827699,53.75,599.237,6.97862595419847,53.75,593.5464,7.22311886586696,53.75,614.6678,6.44351145038168,{"$f":"AVERAGE(E58,H58,K58,N58)","v":598.6942},{"$f":"AVERAGE(F58,I58,L58,O58)","v":6.96649400218102}]
[55,555.4134,7.58298800436205,55,589.0594,7.35703380588877,55,601.79,6.93118865866957,55,588.5493,7.15343511450382,55,619.3326,6.37033805888768,{"$f":"AVERAGE(E59,H59,K59,N59)","v":599.682825},{"$f":"AVERAGE(F59,I59,L59,O59)","v":6.95299890948746}]
[56.25,541.135,7.67720828789531,56.25,567.2474,7.29269356597601,56.25,599.9097,6.90959651035987,56.25,580.5669,7.11384950926936,56.25,607.3314,6.52039258451472,{"$f":"AVERAGE(E60,H60,K60,N60)","v":588.76385},{"$f":"AVERAGE(F60,I60,L60,O60)","v":6.95913304252999}]
[57.5,545.3074,8.0608505997819,57.5,559.0342,7.4525627044711,57.5,593.113,7.02540894220284,57.5,565.5852,7.33794983642312,57.5,606.5631,6.68440567066521,{"$f":"AVERAGE(E61,H61,K61,N61)","v":581.073875},{"$f":"AVERAGE(F61,I61,L61,O61)","v":7.12508178844057}]
[58.75,550.6274,8.26030534351145,58.75,580.5076,7.62486368593239,58.75,587.1004,7.25234460196292,58.75,576.484,7.60588876772083,58.75,600.9633,6.76695747001091,{"$f":"AVERAGE(E62,H62,K62,N62)","v":586.263825},{"$f":"AVERAGE(F62,I62,L62,O62)","v":7.31251363140676}]
[60,549.9926,8.12453653217012,60,579.966,7.61930207197383,60,577.5255,7.44667393675027,60,571.3498,7.72442748091603,60,595.7795,6.90359869138495,{"$f":"AVERAGE(E63,H63,K63,N63)","v":581.1552},{"$f":"AVERAGE(F63,I63,L63,O63)","v":7.42350054525627}]
[61.25,549.0102,8.03435114503817,61.25,575.3851,7.72453653217012,61.25,575.1152,7.68364231188659,61.25,571.7166,7.93696837513631,61.25,600.1181,6.95092693565976,{"$f":"AVERAGE(E64,H64,K64,N64)","v":580.58375},{"$f":"AVERAGE(F64,I64,L64,O64)","v":7.5740185387132}]
[62.5,545.0507,8.18778625954199,62.5,573.2426,7.69367502726281,62.5,577.8336,7.77557251908397,62.5,571.483,7.89541984732824,62.5,599.6969,6.91941112322792,{"$f":"AVERAGE(E65,H65,K65,N65)","v":580.564025},{"$f":"AVERAGE(F65,I65,L65,O65)","v":7.57101962922574}]
[63.75,543.2225,8.16063249727372,63.75,582.1764,7.61624863685932,63.75,575.1437,7.84154852780807,63.75,568.6367,7.8856052344602,63.75,597.6605,6.96139585605235,{"$f":"AVERAGE(E66,H66,K66,N66)","v":580.904325},{"$f":"AVERAGE(F66,I66,L66,O66)","v":7.57619956379498}]
[65,542.2279,8.09869138495093,65,584.4005,7.54154852780807,65,572.953,7.89880043620502,65,569.7219,8.04285714285714,65,596.7646,7.10261723009815,{"$f":"AVERAGE(E67,H67,K67,N67)","v":580.96},{"$f":"AVERAGE(F67,I67,L67,O67)","v":7.6464558342421}]
[66.25,542.972,8.17644492911668,66.25,581.7629,7.47437295528899,66.25,566.1575,7.61112322791712,66.25,570.5037,8.10545256270447,66.25,593.7692,7.25430752453653,{"$f":"AVERAGE(E68,H68,K68,N68)","v":578.048325},{"$f":"AVERAGE(F68,I68,L68,O68)","v":7.61131406761178}]
[67.5,547.3197,8.29661941112323,67.5,574.2522,7.59083969465649,67.5,583.2742,7.61635768811341,67.5,568.6081,8.08571428571429,67.5,591.0401,7.30916030534351,{"$f":"AVERAGE(E69,H69,K69,N69)","v":579.29365},{"$f":"AVERAGE(F69,I69,L69,O69)","v":7.65051799345692}]
[68.75,545.2254,8.29727371864776,68.75,575.5282,7.78505997818975,68.75,577.1082,7.49400218102508,68.75,567.7782,8.05081788440567,68.75,588.8393,7.32726281352236,{"$f":"AVERAGE(E70,H70,K70,N70)","v":577.313475},{"$f":"AVERAGE(F70,I70,L70,O70)","v":7.66428571428571}]
[70,543.8635,8.30708833151581,70,571.8992,7.89203925845147,70,584.6505,7.39345692475463,70,565.5201,8.09422028353326,70,588.3857,7.35310796074155,{"$f":"AVERAGE(E71,H71,K71,N71)","v":577.613875},{"$f":"AVERAGE(F71,I71,L71,O71)","v":7.68320610687023}]
[71.25,541.6148,8.31592148309706,71.25,571.0831,8.03838604143948,71.25,586.9529,7.41624863685932,71.25,566.3486,8.13969465648855,71.25,586.0792,7.34700109051254,{"$f":"AVERAGE(E72,H72,K72,N72)","v":577.61595},{"$f":"AVERAGE(F72,I72,L72,O72)","v":7.73533260632497}]
[72.5,523.4385,8.1423118865867,72.5,567.5658,8.15005452562705,72.5,588.9828,7.39618320610687,72.5,563.8616,8.16434023991276,72.5,581.6455,7.18407851690294,{"$f":"AVERAGE(E73,H73,K73,N73)","v":575.513925},{"$f":"AVERAGE(F73,I73,L73,O73)","v":7.7236641221374}]
[73.75,516.9009,8.25070883315158,73.75,559.7551,8.14569247546347,73.75,581.445,7.35605234460196,73.75,565.7164,8.23238822246456,73.75,594.0628,7.08309705561614,{"$f":"AVERAGE(E74,H74,K74,N74)","v":575.244825},{"$f":"AVERAGE(F74,I74,L74,O74)","v":7.70430752453653}]
[75,534.763,8.46881134133043,75,555.4955,8.22322791712105,75,572.5314,7.58091603053435,75,560.3253,8.12977099236641,75,597.0127,7.0639040348964,{"$f":"AVERAGE(E75,H75,K75,N75)","v":571.341225},{"$f":"AVERAGE(F75,I75,L75,O75)","v":7.74945474372955}]
[76.25,529.0347,8.0546346782988,76.25,558.1365,8.35169029443839,76.25,576.2987,7.77393675027263,76.25,556.0112,8.1639040348964,76.25,596.8315,7.07611777535442,{"$f":"AVERAGE(E76,H76,K76,N76)","v":571.819475},{"$f":"AVERAGE(F76,I76,L76,O76)","v":7.84141221374046}]
[77.5,540.0637,7.86030534351145,77.5,557.4873,8.30087241003272,77.5,570.5864,7.9247546346783,77.5,559.3652,8.18157033805889,77.5,594.2966,7.13467829880044,{"$f":"AVERAGE(E77,H77,K77,N77)","v":570.433875},{"$f":"AVERAGE(F77,I77,L77,O77)","v":7.88546892039259}]
[78.75,549.1072,7.65539803707743,78.75,558.4266,8.20479825517993,78.75,572.0251,8.03042529989095,78.75,566.184,8.17895310796074,78.75,594.8319,7.16194111232279,{"$f":"AVERAGE(E78,H78,K78,N78)","v":572.8669},{"$f":"AVERAGE(F78,I78,L78,O78)","v":7.89402944383861}]
[80,561.8761,7.39476553980371,80,557.9579,8.22802617230098,80,565.112,8.04427480916031,80,557.1413,8.06357688113413,80,597.1427,7.09956379498364,{"$f":"AVERAGE(E79,H79,K79,N79)","v":569.338475},{"$f":"AVERAGE(F79,I79,L79,O79)","v":7.85886041439477}]
[81.25,560.9079,7.03925845147219,81.25,557.8206,8.12246455834242,81.25,567.0843,8.21515812431843,81.25,560.7075,7.8990185387132,81.25,600.6081,7.00010905125409,{"$f":"AVERAGE(E80,H80,K80,N80)","v":571.555125},{"$f":"AVERAGE(F80,I80,L80,O80)","v":7.80918756815703}]
[82.5,585.1834,6.79574700109051,82.5,567.5581,8.04547437295529,82.5,565.818,8.1587786259542,82.5,574.4054,7.89552889858233,82.5,595.8112,7.0217011995638,{"$f":"AVERAGE(E81,H81,K81,N81)","v":575.898175},{"$f":"AVERAGE(F81,I81,L81,O81)","v":7.7803707742639}]
[83.75,590.8908,6.73020719738277,83.75,568.308,7.85648854961832,83.75,562.6043,8.16052344601963,83.75,576.7958,7.75387131952017,83.75,591.0739,7.00381679389313,{"$f":"AVERAGE(E82,H82,K82,N82)","v":574.6955},{"$f":"AVERAGE(F82,I82,L82,O82)","v":7.69367502726281}]
[85,589.882,6.62606324972737,85,572.9563,7.86924754634678,85,555.0145,8.22344601962923,85,581.0354,7.74034896401309,85,589.8785,6.97393675027263,{"$f":"AVERAGE(E83,H83,K83,N83)","v":574.721175},{"$f":"AVERAGE(F83,I83,L83,O83)","v":7.70174482006543}]
[86.25,587.5837,6.36030534351145,86.25,568.9494,7.88942202835333,86.25,556.2504,8.22213740458015,86.25,578.7058,7.72431842966194,86.25,593.0771,7.18386041439477,{"$f":"AVERAGE(E84,H84,K84,N84)","v":574.245675},{"$f":"AVERAGE(F84,I84,L84,O84)","v":7.75493456924755}]
[87.5,605.4418,6.0030534351145,87.5,569.0893,7.91025081788441,87.5,560.906,8.23511450381679,87.5,581.3874,7.63936750272628,87.5,594.7522,7.27960741548528,{"$f":"AVERAGE(E85,H85,K85,N85)","v":576.533725},{"$f":"AVERAGE(F85,I85,L85,O85)","v":7.76608505997819}]
[88.75,619.6411,5.82878953107961,88.75,569.5858,7.8226826608506,88.75,561.1066,8.2587786259542,88.75,577.0582,7.39781897491821,88.75,593.3723,7.20163576881134,{"$f":"AVERAGE(E86,H86,K86,N86)","v":575.280725},{"$f":"AVERAGE(F86,I86,L86,O86)","v":7.67022900763359}]
[90,557.5783,5.5701199563795,90,573.5381,7.62486368593239,90,560.1953,8.19400218102508,90,588.5496,7.28844056706652,90,597.4638,7.07600872410033,{"$f":"AVERAGE(E87,H87,K87,N87)","v":579.9367},{"$f":"AVERAGE(F87,I87,L87,O87)","v":7.54582878953108}]
[91.25,536.2553,5.26782988004362,91.25,575.3246,7.38647764449291,91.25,566.6304,8.26728462377317,91.25,589.5631,7.32519083969466,91.25,568.4231,7.01821155943293,{"$f":"AVERAGE(E88,H88,K88,N88)","v":574.9853},{"$f":"AVERAGE(F88,I88,L88,O88)","v":7.49929116684842}]
[92.5,614.0017,4.6009814612868,92.5,586.2019,7.32944383860414,92.5,569.5547,8.25059978189749,92.5,584.7179,7.37022900763359,92.5,531.6035,7.09890948745911,{"$f":"AVERAGE(E89,H89,K89,N89)","v":568.0195},{"$f":"AVERAGE(F89,I89,L89,O89)","v":7.51229552889858}]
[93.75,580.1003,5.00643402399128,93.75,589.9667,7.42584514721919,93.75,570.0094,8.21657579062159,93.75,580.4891,7.45474372955289,93.75,534.6382,6.57928026172301,{"$f":"AVERAGE(E90,H90,K90,N90)","v":568.77585},{"$f":"AVERAGE(F90,I90,L90,O90)","v":7.41911123227917}]
[95,626.1901,4.98178844056707,95,587.3021,7.44383860414395,95,568.4936,8.1835332606325,95,579.0503,7.55147219193021,95,604.1864,6.27982551799346,{"$f":"AVERAGE(E91,H91,K91,N91)","v":584.7581},{"$f":"AVERAGE(F91,I91,L91,O91)","v":7.36466739367503}]
[96.25,641.107,5.00959651035987,96.25,587.8692,7.43064340239913,96.25,566.9946,8.08669574700109,96.25,580.1544,7.54471101417666,96.25,614.7156,5.9990185387132,{"$f":"AVERAGE(E92,H92,K92,N92)","v":587.43345},{"$f":"AVERAGE(F92,I92,L92,O92)","v":7.26526717557252}]
[97.5,628.5757,5.18211559432933,97.5,576.4394,7.47131952017448,97.5,568.5287,7.99269356597601,97.5,586.45,7.51919302071974,97.5,617.6923,5.62257360959651,{"$f":"AVERAGE(E93,H93,K93,N93)","v":587.2776},{"$f":"AVERAGE(F93,I93,L93,O93)","v":7.15144492911669}]
[98.75,611.1614,5.46848418756816,98.75,578.2206,7.72671755725191,98.75,573.058,8.01014176663032,98.75,584.8768,7.44078516902944,98.75,645.2511,5.18756815703381,{"$f":"AVERAGE(E94,H94,K94,N94)","v":595.351625},{"$f":"AVERAGE(F94,I94,L94,O94)","v":7.09130316248637}]
[100,616.2542,5.46379498364231,100,582.1779,7.82191930207197,100,573.2762,8.0062159214831,100,575.0021,7.54056706652126,100,661.6042,5.01744820065431,{"$f":"AVERAGE(E95,H95,K95,N95)","v":598.0151},{"$f":"AVERAGE(F95,I95,L95,O95)","v":7.09653762268266}]
[101.25,617.0409,5.51842966194111,101.25,579.0074,7.69116684841876,101.25,571.5905,7.97720828789531,101.25,573.956,7.66761177753544,101.25,665.4518,4.92748091603053,{"$f":"AVERAGE(E96,H96,K96,N96)","v":597.501425},{"$f":"AVERAGE(F96,I96,L96,O96)","v":7.06586695747001}]
[102.5,611.0262,5.58593238822246,102.5,581.2188,7.64503816793893,102.5,564.3005,8.02410032715376,102.5,565.4637,7.74198473282443,102.5,669.4998,4.77099236641221,{"$f":"AVERAGE(E97,H97,K97,N97)","v":595.1207},{"$f":"AVERAGE(F97,I97,L97,O97)","v":7.04552889858233}]
[103.75,626.8835,5.3690294438386,103.75,582.4447,7.6391494002181,103.75,563.5515,8.24514721919302,103.75,572.8058,7.80174482006543,103.75,684.1316,4.573173391494,{"$f":"AVERAGE(E98,H98,K98,N98)","v":600.7334},{"$f":"AVERAGE(F98,I98,L98,O98)","v":7.06480370774264}]
[105,647.7479,5.213413304253,105,582.9158,7.53620501635769,105,561.4558,8.19291166848419,105,579.2308,7.66335877862595,105,683.2047,4.53893129770992,{"$f":"AVERAGE(E99,H99,K99,N99)","v":601.701775},{"$f":"AVERAGE(F99,I99,L99,O99)","v":6.98285169029444}]
[106.25,638.2672,5.32737186477644,106.25,574.2466,7.52322791712105,106.25,566.5256,8.06139585605234,106.25,580.5248,7.67709923664122,106.25,686.6081,4.49367502726281,{"$f":"AVERAGE(E100,H100,K100,N100)","v":601.976275},{"$f":"AVERAGE(F100,I100,L100,O100)","v":6.93884950926936}]
[107.5,639.8927,5.35147219193021,107.5,581.2365,7.71526717557252,107.5,563.2697,7.81101417666303,107.5,581.5016,7.64056706652127,107.5,689.2404,4.49749182115594,{"$f":"AVERAGE(E101,H101,K101,N101)","v":603.81205},{"$f":"AVERAGE(F101,I101,L101,O101)","v":6.91608505997819}]
[108.75,632.6368,5.34056706652127,108.75,580.954,7.61112322791712,108.75,556.2286,7.3649945474373,108.75,581.6996,7.5092693565976,108.75,678.0219,4.53151581243184,{"$f":"AVERAGE(E102,H102,K102,N102)","v":599.226025},{"$f":"AVERAGE(F102,I102,L102,O102)","v":6.75422573609597}]
[110,638.3258,5.22791712104689,110,584.3785,7.42170119956379,110,578.0096,7.26968375136314,110,572.2455,7.5113413304253,110,689.955,4.35986913849509,{"$f":"AVERAGE(E103,H103,K103,N103)","v":606.14715},{"$f":"AVERAGE(F103,I103,L103,O103)","v":6.64064885496183}]
[111.25,646.0912,5.13227917121047,111.25,592.3097,7.38702290076336,111.25,593.5162,7.33489640130861,111.25,529.1034,7.55790621592148,111.25,696.9085,4.29836423118866,{"$f":"AVERAGE(E104,H104,K104,N104)","v":602.95945},{"$f":"AVERAGE(F104,I104,L104,O104)","v":6.64454743729553}]
[112.5,638.4084,5.21123227917121,112.5,579.843,7.45070883315158,112.5,591.355,7.31613958560523,112.5,461.2467,7.35583424209378,112.5,688.5614,4.39531079607415,{"$f":"AVERAGE(E105,H105,K105,N105)","v":580.251525},{"$f":"AVERAGE(F105,I105,L105,O105)","v":6.62949836423119}]
[113.75,626.5675,5.35103598691385,113.75,571.3313,7.70708833151581,113.75,582.9969,7.36717557251908,113.75,463.5788,7.99520174482007,113.75,692.2296,4.35932388222465,{"$f":"AVERAGE(E106,H106,K106,N106)","v":577.53415},{"$f":"AVERAGE(F106,I106,L106,O106)","v":6.8571973827699}]
[115,602.4825,5.69094874591058,115,566.6969,7.80490730643402,115,578.7126,7.58342420937841,115,528.4785,9.30054525627045,115,702.0953,4.22333696837514,{"$f":"AVERAGE(E107,H107,K107,N107)","v":593.995825},{"$f":"AVERAGE(F107,I107,L107,O107)","v":7.2280534351145}]
[116.25,586.4266,6.1175572519084,116.25,551.0364,7.54918211559433,116.25,582.1614,7.75692475463468,116.25,529.2423,9.38484187568157,116.25,529.6504,5.18844056706652,{"$f":"AVERAGE(E108,H108,K108,N108)","v":548.022625},{"$f":"AVERAGE(F108,I108,L108,O108)","v":7.46984732824427}]
[117.5,588.7951,6.38167938931298,117.5,543.3529,7.23140676117775,117.5,576.2592,7.50130861504907,117.5,528.5245,9.29727371864776,117.5,311.6004,6.13794983642312,{"$f":"AVERAGE(E109,H109,K109,N109)","v":489.93425},{"$f":"AVERAGE(F109,I109,L109,O109)","v":7.54198473282443}]
[118.75,590.398,6.51188658669575,118.75,564.8571,6.7856052344602,118.75,579.5895,7.44351145038168,118.75,516.8316,8.60054525627045,118.75,587.8043,6.62900763358779,{"$f":"AVERAGE(E110,H110,K110,N110)","v":562.270625},{"$f":"AVERAGE(F110,I110,L110,O110)","v":7.36466739367503}]
[120,592.5684,6.6051254089422,120,595.6134,6.22497273718648,120,575.2308,7.6185387131952,120,537.4358,7.93893129770992,120,576.6601,7.06695747001091,{"$f":"AVERAGE(E111,H111,K111,N111)","v":571.235025},{"$f":"AVERAGE(F111,I111,L111,O111)","v":7.21235005452563}]
[121.25,582.9907,6.64285714285714,121.25,628.5299,5.84940021810251,121.25,533.4655,7.42693565976009,121.25,563.2252,7.57513631406761,121.25,560.1221,7.53696837513631,{"$f":"AVERAGE(E112,H112,K112,N112)","v":571.335675},{"$f":"AVERAGE(F112,I112,L112,O112)","v":7.09711014176663}]
[122.5,587.2064,6.56466739367503,122.5,600.1465,5.95921483097056,122.5,458.8973,7.61297709923664,122.5,582.8641,7.48440567066521,122.5,543.1725,7.94220283533261,{"$f":"AVERAGE(E113,H113,K113,N113)","v":546.2701},{"$f":"AVERAGE(F113,I113,L113,O113)","v":7.24970010905125}]
[123.75,586.1051,6.39105779716467,123.75,564.129,6.4907306434024,123.75,539.7523,8.95234460196292,123.75,579.3205,7.45921483097056,123.75,536.5886,8.51897491821156,{"$f":"AVERAGE(E114,H114,K114,N114)","v":554.9476},{"$f":"AVERAGE(F114,I114,L114,O114)","v":7.85531624863686}]
[125,604.2095,6.26706652126499,125,595.979,6.65190839694657,125,493.6331,7.78604143947655,125,577.2975,7.49912758996728,125,532.1356,8.81504907306434,{"$f":"AVERAGE(E115,H115,K115,N115)","v":549.7613},{"$f":"AVERAGE(F115,I115,L115,O115)","v":7.68803162486369}]
[126.25,591.3121,6.19476553980371,126.25,590.5011,6.16346782988004,126.25,531.5148,7.15474372955289,126.25,578.574,7.62519083969466,126.25,526.7109,9.05834242093784,{"$f":"AVERAGE(E116,H116,K116,N116)","v":556.8252},{"$f":"AVERAGE(F116,I116,L116,O116)","v":7.50043620501636}]
[127.5,612.52,5.97448200654308,127.5,620.2732,5.60534351145038,127.5,541.7562,6.41090512540894,127.5,561.2961,7.64013086150491,127.5,524.5461,8.99978189749182,{"$f":"AVERAGE(E117,H117,K117,N117)","v":561.9679},{"$f":"AVERAGE(F117,I117,L117,O117)","v":7.16404034896401}]
[128.75,611.21,5.82857142857143,128.75,644.4197,5.29716466739368,128.75,582.3128,5.70436205016358,128.75,511.9399,7.78320610687023,128.75,490.1334,7.78233369683751,{"$f":"AVERAGE(E118,H118,K118,N118)","v":557.20145},{"$f":"AVERAGE(F118,I118,L118,O118)","v":6.64176663031625}]
[130,624.214,5.5474372955289,130,655.0757,5.22322791712105,130,638.044,5.47600872410033,130,473.0964,8.36401308615049,130,545.6347,6.97775354416576,{"$f":"AVERAGE(E119,H119,K119,N119)","v":577.9627},{"$f":"AVERAGE(F119,I119,L119,O119)","v":6.51025081788441}]
[131.25,638.6553,5.39214830970556,131.25,652.3384,5.28920392584515,131.25,621.8659,5.70403489640131,131.25,429.2872,8.68953107960741,131.25,582.1559,6.60032715376227,{"$f":"AVERAGE(E120,H120,K120,N120)","v":571.41185},{"$f":"AVERAGE(F120,I120,L120,O120)","v":6.57077426390404}]
[132.5,624.5197,5.40403489640131,132.5,625.1405,5.51842966194111,132.5,616.1522,5.93838604143948,132.5,345.0839,8.74601962922574,132.5,599.0784,6.18745910577972,{"$f":"AVERAGE(E121,H121,K121,N121)","v":546.36375},{"$f":"AVERAGE(F121,I121,L121,O121)","v":6.59757360959651}]
[133.75,618.2005,5.47371864776445,133.75,596.0308,5.94863685932388,133.75,612.6659,6.16706652126499,133.75,357.2288,12.3382769901854,133.75,596.3569,5.64667393675027,{"$f":"AVERAGE(E122,H122,K122,N122)","v":540.5706},{"$f":"AVERAGE(F122,I122,L122,O122)","v":7.52516357688113}]
[135,628.7975,5.5196292257361,135,592.0944,6.30152671755725,135,604.5054,6.27862595419847,135,334.5725,14.430534351145,135,649.3637,5.09934569247546,{"$f":"AVERAGE(E123,H123,K123,N123)","v":545.134},{"$f":"AVERAGE(F123,I123,L123,O123)","v":8.02750817884406}]
[136.25,626.6145,5.53696837513631,136.25,569.5893,6.87099236641221,136.25,576.2588,6.56150490730643,136.25,296.1192,15.7907306434024,136.25,654.6606,4.92693565976009,{"$f":"AVERAGE(E124,H124,K124,N124)","v":524.156975},{"$f":"AVERAGE(F124,I124,L124,O124)","v":8.53754089422028}]
[137.5,630.9021,5.47622682660851,137.5,567.7668,7.25681570338059,137.5,598.6599,6.8474372955289,137.5,270.6294,19.3784078516903,137.5,671.1336,4.65637949836423,{"$f":"AVERAGE(E125,H125,K125,N125)","v":527.047425},{"$f":"AVERAGE(F125,I125,L125,O125)","v":9.534760087241}]
[138.75,638.2742,5.31559432933479,138.75,483.2838,7.41875681570338,138.75,600.4972,6.92224645583424,138.75,250.0026,24.6063249727372,138.75,680.9852,4.4958560523446,{"$f":"AVERAGE(E126,H126,K126,N126)","v":503.6922},{"$f":"AVERAGE(F126,I126,L126,O126)","v":10.8607960741549}]
[140,643.9316,5.24318429661941,140,507.3474,8.9051254089422,140,583.5022,6.98200654307524,140,241.1036,26.3248636859324,140,670.3749,4.61286804798255,{"$f":"AVERAGE(E127,H127,K127,N127)","v":500.582025},{"$f":"AVERAGE(F127,I127,L127,O127)","v":11.7062159214831}]
[141.25,635.3059,5.28407851690294,141.25,468.579,8.9958560523446,141.25,580.7418,7.13740458015267,141.25,233.4022,27.132933478735,141.25,648.6072,4.95779716466739,{"$f":"AVERAGE(E128,H128,K128,N128)","v":482.83255},{"$f":"AVERAGE(F128,I128,L128,O128)","v":12.0559978189749}]
[142.5,638.3192,5.17579062159215,142.5,447.1206,9.71995637949836,142.5,583.7681,7.20425299890949,142.5,227.0351,27.4752453653217,142.5,647.4363,5.17350054525627,{"$f":"AVERAGE(E129,H129,K129,N129)","v":476.340025},{"$f":"AVERAGE(F129,I129,L129,O129)","v":12.3932388222465}]
[143.75,648.5616,5.06935659760087,143.75,470.3602,11.1298800436205,143.75,579.1266,7.43140676117775,143.75,224.846,28.2099236641221,143.75,621.6093,5.57251908396947,{"$f":"AVERAGE(E130,H130,K130,N130)","v":473.985525},{"$f":"AVERAGE(F130,I130,L130,O130)","v":13.0859323882225}]
[145,639.7863,5.08124318429662,145,471.6413,11.4944383860414,145,579.4914,7.53664122137405,145,226.0906,28.6732824427481,145,637.2944,5.63991275899673,{"$f":"AVERAGE(E131,H131,K131,N131)","v":478.629425},{"$f":"AVERAGE(F131,I131,L131,O131)","v":13.3360687022901}]
[146.25,619.4182,5.30010905125409,146.25,456.2772,10.813413304253,146.25,576.9871,7.49454743729553,146.25,224.1514,29.0943293347873,146.25,640.1059,5.5257360959651,{"$f":"AVERAGE(E132,H132,K132,N132)","v":474.3804},{"$f":"AVERAGE(F132,I132,L132,O132)","v":13.2320065430752}]
[147.5,631.0644,5.36553980370774,147.5,452.303,10.9871319520174,147.5,577.8523,7.54525627044711,147.5,222.5727,29.0080697928026,147.5,650.1954,5.35866957470011,{"$f":"AVERAGE(E133,H133,K133,N133)","v":475.73085},{"$f":"AVERAGE(F133,I133,L133,O133)","v":13.2247818974918}]
[148.75,637.5294,5.23565976008724,148.75,466.3328,11.5022900763359,148.75,578.1023,7.63315158124318,148.75,218.5703,29.7851690294438,148.75,648.02,5.21264994547437,{"$f":"AVERAGE(E134,H134,K134,N134)","v":477.75635},{"$f":"AVERAGE(F134,I134,L134,O134)","v":13.5333151581243}]
[150,641.082,5.17306434023991,150,472.354,11.2629225736096,150,579.3635,7.69116684841876,150,215.9461,30.8826608505998,150,668.7348,5.00185387131952,{"$f":"AVERAGE(E135,H135,K135,N135)","v":484.0996},{"$f":"AVERAGE(F135,I135,L135,O135)","v":13.7096510359869}]
[151.25,633.2056,5.25779716466739,151.25,477.6643,10.9897491821156,151.25,579.9207,7.69531079607416,151.25,213.0874,32.2587786259542,151.25,670.1061,4.96837513631407,{"$f":"AVERAGE(E136,H136,K136,N136)","v":485.194625},{"$f":"AVERAGE(F136,I136,L136,O136)","v":13.9780534351145}]
[152.5,630.5434,5.27808069792803,152.5,478.0625,10.7688113413304,152.5,580.07,7.6835332606325,152.5,212.1263,33.6050163576881,152.5,666.4227,4.95005452562705,{"$f":"AVERAGE(E137,H137,K137,N137)","v":484.170375},{"$f":"AVERAGE(F137,I137,L137,O137)","v":14.2518538713195}]
[153.75,627.4082,5.22617230098146,153.75,458.4919,10.5471101417666,153.75,576.3957,7.72606324972737,153.75,213.7477,33.969574700109,153.75,669.219,4.88538713195202,{"$f":"AVERAGE(E138,H138,K138,N138)","v":479.463575},{"$f":"AVERAGE(F138,I138,L138,O138)","v":14.2820338058888}]
[155,621.2473,5.28942202835333,155,448.0291,11.298800436205,155,571.9919,7.55659760087241,155,213.8374,33.8318429661941,155,621.1747,5.21679389312977,{"$f":"AVERAGE(E139,H139,K139,N139)","v":463.758275},{"$f":"AVERAGE(F139,I139,L139,O139)","v":14.4760087241003}]
[156.25,634.2581,5.29520174482007,156.25,453.8351,12.0812431842966,156.25,584.5651,7.51188658669575,156.25,218.1088,32.8422028353326,156.25,606.5539,5.68625954198473,{"$f":"AVERAGE(E140,H140,K140,N140)","v":465.765725},{"$f":"AVERAGE(F140,I140,L140,O140)","v":14.5303980370774}]
[157.5,640.8418,5.24034896401309,157.5,449.2411,12.223227917121,157.5,583.2339,7.49618320610687,157.5,221.5623,32.9239912758997,157.5,601.2902,6.02017448200654,{"$f":"AVERAGE(E141,H141,K141,N141)","v":463.831875},{"$f":"AVERAGE(F141,I141,L141,O141)","v":14.6658942202835}]
[158.75,604.8107,5.48200654307525,158.75,448.4858,12.5576881134133,158.75,584.7651,7.4546346782988,158.75,219.9996,32.6398037077426,158.75,603.8667,6.37884405670665,{"$f":"AVERAGE(E142,H142,K142,N142)","v":464.2793},{"$f":"AVERAGE(F142,I142,L142,O142)","v":14.7577426390403}]
[160,617.3459,5.65627044711014,160,447.2101,12.7065430752454,160,580.1598,7.22388222464558,160,220.11,32.4659760087241,160,596.9063,6.58876772082879,{"$f":"AVERAGE(E143,H143,K143,N143)","v":461.09655},{"$f":"AVERAGE(F143,I143,L143,O143)","v":14.746292257361}]
[161.25,621.5735,5.66150490730643,161.25,441.7835,11.4083969465649,161.25,595.7422,7.03162486368593,161.25,221.9208,32.33653217012,161.25,578.6802,6.96466739367503,{"$f":"AVERAGE(E144,H144,K144,N144)","v":459.531675},{"$f":"AVERAGE(F144,I144,L144,O144)","v":14.4353053435114}]
[162.5,603.4323,5.76815703380589,162.5,461.9003,11.640239912759,162.5,595.9842,6.81537622682661,162.5,221.7727,32.5766630316249,162.5,557.5458,7.36826608505998,{"$f":"AVERAGE(E145,H145,K145,N145)","v":459.30075},{"$f":"AVERAGE(F145,I145,L145,O145)","v":14.6001363140676}]
[163.75,608.5238,5.75441657579062,163.75,464.1645,11.5861504907306,163.75,602.4882,6.71821155943293,163.75,223.9369,31.8238822246456,163.75,551.5442,7.83304252998909,{"$f":"AVERAGE(E146,H146,K146,N146)","v":460.53345},{"$f":"AVERAGE(F146,I146,L146,O146)","v":14.4903217011996}]
[165,607.7008,5.80545256270447,165,462.6593,11.1989094874591,165,603.2741,6.67208287895311,165,234.7535,25.3862595419847,165,553.4664,8.2608505997819,{"$f":"AVERAGE(E147,H147,K147,N147)","v":463.538325},{"$f":"AVERAGE(F147,I147,L147,O147)","v":12.8795256270447}]
[166.25,605.534,5.94405670665213,166.25,466.7378,11.0041439476554,166.25,612.354,6.51308615049073,166.25,266.0877,15.5572519083969,166.25,549.7585,8.45245365321701,{"$f":"AVERAGE(E148,H148,K148,N148)","v":473.7345},{"$f":"AVERAGE(F148,I148,L148,O148)","v":10.38173391494}]
[167.5,608.4,5.90697928026172,167.5,473.4212,10.5809160305344,167.5,615.1948,6.3206106870229,167.5,303.8093,13.2081788440567,167.5,538.8285,8.60610687022901,{"$f":"AVERAGE(E149,H149,K149,N149)","v":482.81345},{"$f":"AVERAGE(F149,I149,L149,O149)","v":9.67895310796074}]
[168.75,608.759,5.92671755725191,168.75,486.721,10.5592148309706,168.75,621.6506,6.07077426390404,168.75,319.1477,8.99203925845147,168.75,541.0843,8.80534351145038,{"$f":"AVERAGE(E150,H150,K150,N150)","v":492.1509},{"$f":"AVERAGE(F150,I150,L150,O150)","v":8.60684296619411}]
[170,612.9149,5.92758996728462,170,493.1721,10.1549618320611,170,627.561,5.95539803707743,170,415.4641,9.853653217012,170,529.5235,8.8618320610687,{"$f":"AVERAGE(E151,H151,K151,N151)","v":516.430175},{"$f":"AVERAGE(F151,I151,L151,O151)","v":8.7064612868048}]
[171.25,626.085,5.7917121046892,171.25,503.6341,9.90588876772083,171.25,625.124,5.93009814612868,171.25,456.8588,9.52748091603054,171.25,532.88,9.13871319520175,{"$f":"AVERAGE(E152,H152,K152,N152)","v":529.624225},{"$f":"AVERAGE(F152,I152,L152,O152)","v":8.62554525627045}]
[172.5,596.4091,5.91668484187568,172.5,512.472,9.89062159214831,172.5,632.5525,5.90229007633588,172.5,490.8993,8.75103598691385,172.5,537.1977,8.9432933478735,{"$f":"AVERAGE(E153,H153,K153,N153)","v":543.280375},{"$f":"AVERAGE(F153,I153,L153,O153)","v":8.37181025081788}]
[173.75,604.1291,6.07360959651036,173.75,508.9645,9.34362050163577,173.75,630.9577,5.92878953107961,173.75,523.0851,8.34231188658669,173.75,544.343,8.87840785169029,{"$f":"AVERAGE(E154,H154,K154,N154)","v":551.837575},{"$f":"AVERAGE(F154,I154,L154,O154)","v":8.12328244274809}]
[175,607.7278,6.07709923664122,175,521.6748,9.20294438386041,175,619.5634,5.89978189749182,175,536.8219,7.77546346782988,175,543.4797,8.74601962922574,{"$f":"AVERAGE(E155,H155,K155,N155)","v":555.38495},{"$f":"AVERAGE(F155,I155,L155,O155)","v":7.90605234460196}]
[176.25,603.0251,6.25059978189749,176.25,530.1659,9.2175572519084,176.25,635.8434,5.75234460196292,176.25,563.6403,7.29683751363141,176.25,545.959,8.54907306434024,{"$f":"AVERAGE(E156,H156,K156,N156)","v":568.90215},{"$f":"AVERAGE(F156,I156,L156,O156)","v":7.70395310796074}]
[177.5,607.1363,6.2474372955289,177.5,526.8121,8.80741548527808,177.5,643.0464,5.69356597600872,177.5,569.4356,6.85561613958561,177.5,552.301,8.45092693565976,{"$f":"AVERAGE(E157,H157,K157,N157)","v":572.898775},{"$f":"AVERAGE(F157,I157,L157,O157)","v":7.45188113413304}]
[178.75,592.7792,6.25114503816794,178.75,538.1575,8.52955288985823,178.75,643.3144,5.69923664122137,178.75,598.5877,6.30370774263904,178.75,553.3738,8.31973827699018,{"$f":"AVERAGE(E158,H158,K158,N158)","v":583.35835},{"$f":"AVERAGE(F158,I158,L158,O158)","v":7.21305888767721}]
[180,588.0932,6.17142857142857,180,537.2858,8.1629225736096,180,636.7758,5.67568157033806,180,619.3297,5.9576881134133,180,557.5097,8.24918211559433,{"$f":"AVERAGE(E159,H159,K159,N159)","v":587.72525},{"$f":"AVERAGE(F159,I159,L159,O159)","v":7.01136859323882}]
[181.25,611.4426,5.91919302071974,181.25,547.847,8.12464558342421,181.25,640.312,5.56368593238822,181.25,632.2498,5.63446019629226,181.25,554.2681,7.91973827699019,{"$f":"AVERAGE(E160,H160,K160,N160)","v":593.669225},{"$f":"AVERAGE(F160,I160,L160,O160)","v":6.81063249727372}]
[182.5,621.8233,5.79400218102508,182.5,554.4542,8.21243184296619,182.5,638.2874,5.39127589967285,182.5,641.6328,5.38462377317339,182.5,568.8174,7.59182115594329,{"$f":"AVERAGE(E161,H161,K161,N161)","v":600.79795},{"$f":"AVERAGE(F161,I161,L161,O161)","v":6.64503816793893}]
[183.75,629.4552,5.71668484187568,183.75,557.1941,7.93118865866957,183.75,660.6864,5.15441657579062,183.75,650.0195,5.15856052344602,183.75,578.8309,7.39541984732824,{"$f":"AVERAGE(E162,H162,K162,N162)","v":611.682725},{"$f":"AVERAGE(F162,I162,L162,O162)","v":6.40989640130862}]
[185,626.3078,5.69411123227917,185,573.6239,7.87742639040349,185,662.0084,5.06226826608506,185,661.8199,4.88702290076336,185,581.9895,7.12955288985823,{"$f":"AVERAGE(E163,H163,K163,N163)","v":619.860425},{"$f":"AVERAGE(F163,I163,L163,O163)","v":6.23906761177754}]
[186.25,615.339,5.73413304252999,186.25,574.1184,7.72224645583424,186.25,664.4372,4.88320610687023,186.25,673.2686,4.68080697928026,186.25,591.0259,6.84580152671756,{"$f":"AVERAGE(E164,H164,K164,N164)","v":625.712525},{"$f":"AVERAGE(F164,I164,L164,O164)","v":6.03301526717557}]
[187.5,613.4012,5.70109051254089,187.5,574.6359,7.45376226826608,187.5,668.2558,4.75452562704471,187.5,675.2305,4.53118865866957,187.5,604.4388,6.54754634678299,{"$f":"AVERAGE(E165,H165,K165,N165)","v":630.64025},{"$f":"AVERAGE(F165,I165,L165,O165)","v":5.82175572519084}]
[188.75,603.2531,5.80567066521265,188.75,583.7578,7.37808069792803,188.75,665.2745,4.71526717557252,188.75,688.8914,4.34002181025082,188.75,615.4124,6.40839694656489,{"$f":"AVERAGE(E166,H166,K166,N166)","v":638.334025},{"$f":"AVERAGE(F166,I166,L166,O166)","v":5.71044165757906}]
[190,585.2469,6.11919302071974,190,580.2113,7.27884405670665,190,684.2032,4.47862595419847,190,694.4452,4.25245365321701,190,612.433,6.27818974918212,{"$f":"AVERAGE(E167,H167,K167,N167)","v":642.823175},{"$f":"AVERAGE(F167,I167,L167,O167)","v":5.57202835332606}]
[191.25,580.9052,6.43555070883315,191.25,589.1401,7.18942202835333,191.25,693.4503,4.3196292257361,191.25,696.9577,4.1876772082879,191.25,601.4362,6.23773173391494,{"$f":"AVERAGE(E168,H168,K168,N168)","v":645.246075},{"$f":"AVERAGE(F168,I168,L168,O168)","v":5.48361504907307}]
[192.5,576.5057,6.6690294438386,192.5,584.7121,7.19258451472192,192.5,696.7332,4.22584514721919,192.5,701.0498,4.11886586695747,192.5,595.5249,6.44623773173391,{"$f":"AVERAGE(E169,H169,K169,N169)","v":644.505},{"$f":"AVERAGE(F169,I169,L169,O169)","v":5.49588331515812}]
[193.75,553.4504,6.77262813522355,193.75,575.6167,7.27644492911668,193.75,696.9779,4.13413304252999,193.75,698.4023,4.07742639040349,193.75,617.7647,6.51570338058888,{"$f":"AVERAGE(E170,H170,K170,N170)","v":647.1904},{"$f":"AVERAGE(F170,I170,L170,O170)","v":5.50092693565976}]
[195,556.4715,6.86194111232279,195,581.4147,7.26739367502726,195,707.3326,3.94809160305343,195,711.0309,3.86466739367503,195,622.6158,6.42159214830971,{"$f":"AVERAGE(E171,H171,K171,N171)","v":655.5985},{"$f":"AVERAGE(F171,I171,L171,O171)","v":5.37543620501636}]
[196.25,347.6656,6.21472191930207,196.25,582.5969,7.27688113413304,196.25,715.3967,3.82126499454744,196.25,708.8151,3.85790621592148,196.25,604.1337,6.41908396946565,{"$f":"AVERAGE(E172,H172,K172,N172)","v":652.7356},{"$f":"AVERAGE(F172,I172,L172,O172)","v":5.3437840785169}]
[197.5,507.0948,5.3659760087241,null,null,null,197.5,718.3521,3.74492911668484]
[null,null,null,null,null,null,198.75,722.9003,3.65659760087241]

{"sheet":"Albedo details","index":3,"n_rows":11,"n_cols":2,"rows_kept":11,"cut":false,"hidden":false,"merged":[[0,1,0,5],[1,1,1,2],[2,1,2,2],[3,1,3,2],[4,1,4,2],[5,1,5,2],[6,1,6,2],[7,1,7,2],[8,1,8,2],[9,1,9,2],[10,1,10,5]]}
[{"$f":"'Global data DD.MM.YY'!A1","v":"Snow Pits Dome Fuji 2018/2019"},"SSA data, exported from the ICE Cube software"]
[{"$f":"'Global data DD.MM.YY'!A2","v":"Potential use of the pit\nSP: Snow Physic\nR: Radar\nST: Satellite\nMB: Mass Balance"},{"$f":"'Global data DD.MM.YY'!B2","v":"SP"}]
[{"$f":"'Global data DD.MM.YY'!A3","v":"Closest Point on Japanese Traverse"},{"$f":"'Global data DD.MM.YY'!B3","v":"MD302"}]
[{"$f":"'Global data DD.MM.YY'!A4","v":"South position (decimal)"},{"$f":"'Global data DD.MM.YY'!B4","v":73.456443}]
[{"$f":"'Global data DD.MM.YY'!A5","v":"East position (decimal)"},{"$f":"'Global data DD.MM.YY'!B5","v":43.209434}]
[{"$f":"'Global data DD.MM.YY'!A6","v":"Altitude (m a.s.l.)"},{"$f":"'Global data DD.MM.YY'!B6","v":0}]
[{"$f":"'Global data DD.MM.YY'!A7","v":"Date (DD.MM.YY)"},{"$f":"'Global data DD.MM.YY'!B7","v":"28.11.18"}]
[{"$f":"'Global data DD.MM.YY'!A8","v":"Time UTC start"},{"$f":"'Global data DD.MM.YY'!B8","v":"18:00:00"}]
[{"$f":"'Global data DD.MM.YY'!A9","v":"Time UTC end"},{"$f":"'Global data DD.MM.YY'!B9","v":"19:30:00"}]
[{"$f":"'Global data DD.MM.YY'!A10","v":"Observer(s)"},{"$f":"'Global data DD.MM.YY'!B10","v":"JCG"}]
[{"$f":"'Global data DD.MM.YY'!A11","v":"General comments (weather, clouds, other remarks)"},"no cloud, blue sky, but albedo was just a test and was measured close to a truck, so shadow effects are just too strong"]

{"sheet":"Snow surface variability details","index":4,"n_rows":11,"n_cols":2,"rows_kept":11,"cut":false,"hidden":false,"merged":[[0,1,0,5],[1,1,1,2],[2,1,2,2],[3,1,3,2],[4,1,4,2],[5,1,5,2],[6,1,6,2],[7,1,7,2],[8,1,8,2],[9,1,9,2],[10,1,10,5]]}
[{"$f":"'Global data DD.MM.YY'!A1","v":"Snow Pits Dome Fuji 2018/2019"},"SSA data, exported from the ICE Cube software"]
[{"$f":"'Global data DD.MM.YY'!A2","v":"Potential use of the pit\nSP: Snow Physic\nR: Radar\nST: Satellite\nMB: Mass Balance"},{"$f":"'Global data DD.MM.YY'!B2","v":"SP"}]
[{"$f":"'Global data DD.MM.YY'!A3","v":"Closest Point on Japanese Traverse"},{"$f":"'Global data DD.MM.YY'!B3","v":"MD302"}]
[{"$f":"'Global data DD.MM.YY'!A4","v":"South position (decimal)"},{"$f":"'Global data DD.MM.YY'!B4","v":73.456443}]
[{"$f":"'Global data DD.MM.YY'!A5","v":"East position (decimal)"},{"$f":"'Global data DD.MM.YY'!B5","v":43.209434}]
[{"$f":"'Global data DD.MM.YY'!A6","v":"Altitude (m a.s.l.)"},{"$f":"'Global data DD.MM.YY'!B6","v":0}]
[{"$f":"'Global data DD.MM.YY'!A7","v":"Date (DD.MM.YY)"},{"$f":"'Global data DD.MM.YY'!B7","v":"28.11.18"}]
[{"$f":"'Global data DD.MM.YY'!A8","v":"Time UTC start"},{"$f":"'Global data DD.MM.YY'!B8","v":"18:00:00"}]
[{"$f":"'Global data DD.MM.YY'!A9","v":"Time UTC end"},{"$f":"'Global data DD.MM.YY'!B9","v":"19:30:00"}]
[{"$f":"'Global data DD.MM.YY'!A10","v":"Observer(s)"},{"$f":"'Global data DD.MM.YY'!B10","v":"JCG"}]
[{"$f":"'Global data DD.MM.YY'!A11","v":"General comments (weather, clouds, other remarks)"}]